BEGIN:VCALENDAR
VERSION:2.0
PRODID:spatie/icalendar-generator
NAME:de_nekker_3g_91_reminders
X-WR-CALNAME:de_nekker_3g_91_reminders
BEGIN:VTIMEZONE
TZID:Europe/Brussels
BEGIN:DAYLIGHT
DTSTART:20210328T010000
TZOFFSETFROM:+0100
TZOFFSETTO:+0200
END:DAYLIGHT
BEGIN:STANDARD
DTSTART:20211031T030000
TZOFFSETFROM:+0200
TZOFFSETTO:+0100
END:STANDARD
BEGIN:DAYLIGHT
DTSTART:20220327T010000
TZOFFSETFROM:+0100
TZOFFSETTO:+0200
END:DAYLIGHT
BEGIN:STANDARD
DTSTART:20221030T030000
TZOFFSETFROM:+0200
TZOFFSETTO:+0100
END:STANDARD
END:VTIMEZONE
BEGIN:VTIMEZONE
TZID:UTC
BEGIN:STANDARD
DTSTART:20250724T055150
TZOFFSETFROM:+0000
TZOFFSETTO:+0000
END:STANDARD
END:VTIMEZONE
BEGIN:VEVENT
UID:343A6D01-7373-405B-9427-CB56B07F8CCD-12-564_homereminder@90.badmintonne
 rs.net
DTSTAMP:20260420T055150Z
SUMMARY:Thuismatch ingevuld? (De Nekker 3G (91) - Duffel 1G (106))
DESCRIPTION:Je hebt 36 uur na aanvang om een thuismatch op Badmintonvlaande
 ren in te vullen. Match info: De Nekker 3G (91) - Duffel 1G (106) - Link: 
 https://www.badmintonvlaanderen.be/sport/teammatch.aspx?id=343A6D01-7373-4
 05B-9427-CB56B07F8CCD&match=564
DTSTART;TZID=Europe/Brussels:20210903T083000
DTEND;TZID=Europe/Brussels:20210903T083000
END:VEVENT
BEGIN:VEVENT
UID:343A6D01-7373-405B-9427-CB56B07F8CCD-12-552_homereminder@90.badmintonne
 rs.net
DTSTAMP:20260420T055150Z
SUMMARY:Thuismatch ingevuld? (De Nekker 3G (91) - Amateurs 1G (100))
DESCRIPTION:Je hebt 36 uur na aanvang om een thuismatch op Badmintonvlaande
 ren in te vullen. Match info: De Nekker 3G (91) - Amateurs 1G (100) - Link
 : https://www.badmintonvlaanderen.be/sport/teammatch.aspx?id=343A6D01-7373
 -405B-9427-CB56B07F8CCD&match=552
DTSTART;TZID=Europe/Brussels:20210917T083000
DTEND;TZID=Europe/Brussels:20210917T083000
END:VEVENT
BEGIN:VEVENT
UID:343A6D01-7373-405B-9427-CB56B07F8CCD-12-533_homereminder@90.badmintonne
 rs.net
DTSTAMP:20260420T055150Z
SUMMARY:Thuismatch ingevuld? (De Nekker 3G (91) - Herentals 4G (100))
DESCRIPTION:Je hebt 36 uur na aanvang om een thuismatch op Badmintonvlaande
 ren in te vullen. Match info: De Nekker 3G (91) - Herentals 4G (100) - Lin
 k: https://www.badmintonvlaanderen.be/sport/teammatch.aspx?id=343A6D01-737
 3-405B-9427-CB56B07F8CCD&match=533
DTSTART;TZID=Europe/Brussels:20211126T083000
DTEND;TZID=Europe/Brussels:20211126T083000
END:VEVENT
BEGIN:VEVENT
UID:343A6D01-7373-405B-9427-CB56B07F8CCD-12-558_homereminder@90.badmintonne
 rs.net
DTSTAMP:20260420T055150Z
SUMMARY:Thuismatch ingevuld? (De Nekker 3G (91) - Klein Boom 5G (95))
DESCRIPTION:Je hebt 36 uur na aanvang om een thuismatch op Badmintonvlaande
 ren in te vullen. Match info: De Nekker 3G (91) - Klein Boom 5G (95) - Lin
 k: https://www.badmintonvlaanderen.be/sport/teammatch.aspx?id=343A6D01-737
 3-405B-9427-CB56B07F8CCD&match=558
DTSTART;TZID=Europe/Brussels:20220121T083000
DTEND;TZID=Europe/Brussels:20220121T083000
END:VEVENT
BEGIN:VEVENT
UID:343A6D01-7373-405B-9427-CB56B07F8CCD-12-539_homereminder@90.badmintonne
 rs.net
DTSTAMP:20260420T055150Z
SUMMARY:Thuismatch ingevuld? (De Nekker 3G (91) - Merksplas 1G (88))
DESCRIPTION:Je hebt 36 uur na aanvang om een thuismatch op Badmintonvlaande
 ren in te vullen. Match info: De Nekker 3G (91) - Merksplas 1G (88) - Link
 : https://www.badmintonvlaanderen.be/sport/teammatch.aspx?id=343A6D01-7373
 -405B-9427-CB56B07F8CCD&match=539
DTSTART;TZID=Europe/Brussels:20220204T083000
DTEND;TZID=Europe/Brussels:20220204T083000
END:VEVENT
BEGIN:VEVENT
UID:343A6D01-7373-405B-9427-CB56B07F8CCD-12-527_homereminder@90.badmintonne
 rs.net
DTSTAMP:20260420T055150Z
SUMMARY:Thuismatch ingevuld? (De Nekker 3G (91) - Molse 3G (90))
DESCRIPTION:Je hebt 36 uur na aanvang om een thuismatch op Badmintonvlaande
 ren in te vullen. Match info: De Nekker 3G (91) - Molse 3G (90) - Link: ht
 tps://www.badmintonvlaanderen.be/sport/teammatch.aspx?id=343A6D01-7373-405
 B-9427-CB56B07F8CCD&match=527
DTSTART;TZID=Europe/Brussels:20220218T083000
DTEND;TZID=Europe/Brussels:20220218T083000
END:VEVENT
BEGIN:VEVENT
UID:343A6D01-7373-405B-9427-CB56B07F8CCD-12-543_awayreminder@90.badmintonne
 rs.net
DTSTAMP:20260420T055150Z
SUMMARY:Uitmatch bevestigd? (Molse 3G (90) - De Nekker 3G (91))
DESCRIPTION:Je hebt 72 uur na aanvang om een uitmatch op Badmintonvlaandere
 n in te vullen. Match info: Molse 3G (90) - De Nekker 3G (91) - Link: http
 s://www.badmintonvlaanderen.be/sport/teammatch.aspx?id=343A6D01-7373-405B-
 9427-CB56B07F8CCD&match=543
DTSTART;TZID=Europe/Brussels:20211110T190000
DTEND;TZID=Europe/Brussels:20211110T190000
END:VEVENT
BEGIN:VEVENT
UID:343A6D01-7373-405B-9427-CB56B07F8CCD-12-545_awayreminder@90.badmintonne
 rs.net
DTSTAMP:20260420T055150Z
SUMMARY:Uitmatch bevestigd? (Merksplas 1G (88) - De Nekker 3G (91))
DESCRIPTION:Je hebt 72 uur na aanvang om een uitmatch op Badmintonvlaandere
 n in te vullen. Match info: Merksplas 1G (88) - De Nekker 3G (91) - Link: 
 https://www.badmintonvlaanderen.be/sport/teammatch.aspx?id=343A6D01-7373-4
 05B-9427-CB56B07F8CCD&match=545
DTSTART;TZID=Europe/Brussels:20211117T100000
DTEND;TZID=Europe/Brussels:20211117T100000
END:VEVENT
BEGIN:VEVENT
UID:343A6D01-7373-405B-9427-CB56B07F8CCD-12-547_awayreminder@90.badmintonne
 rs.net
DTSTAMP:20260420T055150Z
SUMMARY:Uitmatch bevestigd? (Klein Boom 5G (95) - De Nekker 3G (91))
DESCRIPTION:Je hebt 72 uur na aanvang om een uitmatch op Badmintonvlaandere
 n in te vullen. Match info: Klein Boom 5G (95) - De Nekker 3G (91) - Link:
  https://www.badmintonvlaanderen.be/sport/teammatch.aspx?id=343A6D01-7373-
 405B-9427-CB56B07F8CCD&match=547
DTSTART;TZID=Europe/Brussels:20211208T190000
DTEND;TZID=Europe/Brussels:20211208T190000
END:VEVENT
BEGIN:VEVENT
UID:343A6D01-7373-405B-9427-CB56B07F8CCD-12-546_awayreminder@90.badmintonne
 rs.net
DTSTAMP:20260420T055150Z
SUMMARY:Uitmatch bevestigd? (Amateurs 1G (100) - De Nekker 3G (91))
DESCRIPTION:Je hebt 72 uur na aanvang om een uitmatch op Badmintonvlaandere
 n in te vullen. Match info: Amateurs 1G (100) - De Nekker 3G (91) - Link: 
 https://www.badmintonvlaanderen.be/sport/teammatch.aspx?id=343A6D01-7373-4
 05B-9427-CB56B07F8CCD&match=546
DTSTART;TZID=Europe/Brussels:20220320T210000
DTEND;TZID=Europe/Brussels:20220320T210000
END:VEVENT
BEGIN:VEVENT
UID:343A6D01-7373-405B-9427-CB56B07F8CCD-12-548_awayreminder@90.badmintonne
 rs.net
DTSTAMP:20260420T055150Z
SUMMARY:Uitmatch bevestigd? (Duffel 1G (106) - De Nekker 3G (91))
DESCRIPTION:Je hebt 72 uur na aanvang om een uitmatch op Badmintonvlaandere
 n in te vullen. Match info: Duffel 1G (106) - De Nekker 3G (91) - Link: ht
 tps://www.badmintonvlaanderen.be/sport/teammatch.aspx?id=343A6D01-7373-405
 B-9427-CB56B07F8CCD&match=548
DTSTART;TZID=Europe/Brussels:20220406T200000
DTEND;TZID=Europe/Brussels:20220406T200000
END:VEVENT
BEGIN:VEVENT
UID:343A6D01-7373-405B-9427-CB56B07F8CCD-12-544_awayreminder@90.badmintonne
 rs.net
DTSTAMP:20260420T055150Z
SUMMARY:Uitmatch bevestigd? (Herentals 4G (100) - De Nekker 3G (91))
DESCRIPTION:Je hebt 72 uur na aanvang om een uitmatch op Badmintonvlaandere
 n in te vullen. Match info: Herentals 4G (100) - De Nekker 3G (91) - Link:
  https://www.badmintonvlaanderen.be/sport/teammatch.aspx?id=343A6D01-7373-
 405B-9427-CB56B07F8CCD&match=544
DTSTART;TZID=Europe/Brussels:20220428T210000
DTEND;TZID=Europe/Brussels:20220428T210000
END:VEVENT
END:VCALENDAR