BEGIN:VCALENDAR
VERSION:2.0
PRODID:spatie/icalendar-generator
NAME:merksplas_1g_88_reminders
X-WR-CALNAME:merksplas_1g_88_reminders
BEGIN:VTIMEZONE
TZID:Europe/Brussels
BEGIN:DAYLIGHT
DTSTART:20210328T010000
TZOFFSETFROM:+0100
TZOFFSETTO:+0200
END:DAYLIGHT
BEGIN:STANDARD
DTSTART:20211031T030000
TZOFFSETFROM:+0200
TZOFFSETTO:+0100
END:STANDARD
BEGIN:DAYLIGHT
DTSTART:20220327T010000
TZOFFSETFROM:+0100
TZOFFSETTO:+0200
END:DAYLIGHT
END:VTIMEZONE
BEGIN:VTIMEZONE
TZID:UTC
BEGIN:STANDARD
DTSTART:20250724T055148
TZOFFSETFROM:+0000
TZOFFSETTO:+0000
END:STANDARD
END:VTIMEZONE
BEGIN:VEVENT
UID:343A6D01-7373-405B-9427-CB56B07F8CCD-12-557_homereminder@95.badmintonne
 rs.net
DTSTAMP:20260420T055148Z
SUMMARY:Thuismatch ingevuld? (Merksplas 1G (88) - Klein Boom 5G (95))
DESCRIPTION:Je hebt 36 uur na aanvang om een thuismatch op Badmintonvlaande
 ren in te vullen. Match info: Merksplas 1G (88) - Klein Boom 5G (95) - Lin
 k: https://www.badmintonvlaanderen.be/sport/teammatch.aspx?id=343A6D01-737
 3-405B-9427-CB56B07F8CCD&match=557
DTSTART;TZID=Europe/Brussels:20211011T220000
DTEND;TZID=Europe/Brussels:20211011T220000
END:VEVENT
BEGIN:VEVENT
UID:343A6D01-7373-405B-9427-CB56B07F8CCD-12-526_homereminder@95.badmintonne
 rs.net
DTSTAMP:20260420T055148Z
SUMMARY:Thuismatch ingevuld? (Merksplas 1G (88) - Molse 3G (90))
DESCRIPTION:Je hebt 36 uur na aanvang om een thuismatch op Badmintonvlaande
 ren in te vullen. Match info: Merksplas 1G (88) - Molse 3G (90) - Link: ht
 tps://www.badmintonvlaanderen.be/sport/teammatch.aspx?id=343A6D01-7373-405
 B-9427-CB56B07F8CCD&match=526
DTSTART;TZID=Europe/Brussels:20211101T220000
DTEND;TZID=Europe/Brussels:20211101T220000
END:VEVENT
BEGIN:VEVENT
UID:343A6D01-7373-405B-9427-CB56B07F8CCD-12-545_homereminder@95.badmintonne
 rs.net
DTSTAMP:20260420T055148Z
SUMMARY:Thuismatch ingevuld? (Merksplas 1G (88) - De Nekker 3G (91))
DESCRIPTION:Je hebt 36 uur na aanvang om een thuismatch op Badmintonvlaande
 ren in te vullen. Match info: Merksplas 1G (88) - De Nekker 3G (91) - Link
 : https://www.badmintonvlaanderen.be/sport/teammatch.aspx?id=343A6D01-7373
 -405B-9427-CB56B07F8CCD&match=545
DTSTART;TZID=Europe/Brussels:20211115T220000
DTEND;TZID=Europe/Brussels:20211115T220000
END:VEVENT
BEGIN:VEVENT
UID:343A6D01-7373-405B-9427-CB56B07F8CCD-12-532_homereminder@95.badmintonne
 rs.net
DTSTAMP:20260420T055148Z
SUMMARY:Thuismatch ingevuld? (Merksplas 1G (88) - Herentals 4G (100))
DESCRIPTION:Je hebt 36 uur na aanvang om een thuismatch op Badmintonvlaande
 ren in te vullen. Match info: Merksplas 1G (88) - Herentals 4G (100) - Lin
 k: https://www.badmintonvlaanderen.be/sport/teammatch.aspx?id=343A6D01-737
 3-405B-9427-CB56B07F8CCD&match=532
DTSTART;TZID=Europe/Brussels:20220221T220000
DTEND;TZID=Europe/Brussels:20220221T220000
END:VEVENT
BEGIN:VEVENT
UID:343A6D01-7373-405B-9427-CB56B07F8CCD-12-563_homereminder@95.badmintonne
 rs.net
DTSTAMP:20260420T055148Z
SUMMARY:Thuismatch ingevuld? (Merksplas 1G (88) - Duffel 1G (106))
DESCRIPTION:Je hebt 36 uur na aanvang om een thuismatch op Badmintonvlaande
 ren in te vullen. Match info: Merksplas 1G (88) - Duffel 1G (106) - Link: 
 https://www.badmintonvlaanderen.be/sport/teammatch.aspx?id=343A6D01-7373-4
 05B-9427-CB56B07F8CCD&match=563
DTSTART;TZID=Europe/Brussels:20220314T220000
DTEND;TZID=Europe/Brussels:20220314T220000
END:VEVENT
BEGIN:VEVENT
UID:343A6D01-7373-405B-9427-CB56B07F8CCD-12-551_homereminder@95.badmintonne
 rs.net
DTSTAMP:20260420T055148Z
SUMMARY:Thuismatch ingevuld? (Merksplas 1G (88) - Amateurs 1G (100))
DESCRIPTION:Je hebt 36 uur na aanvang om een thuismatch op Badmintonvlaande
 ren in te vullen. Match info: Merksplas 1G (88) - Amateurs 1G (100) - Link
 : https://www.badmintonvlaanderen.be/sport/teammatch.aspx?id=343A6D01-7373
 -405B-9427-CB56B07F8CCD&match=551
DTSTART;TZID=Europe/Brussels:20220321T220000
DTEND;TZID=Europe/Brussels:20220321T220000
END:VEVENT
BEGIN:VEVENT
UID:343A6D01-7373-405B-9427-CB56B07F8CCD-12-538_awayreminder@95.badmintonne
 rs.net
DTSTAMP:20260420T055148Z
SUMMARY:Uitmatch bevestigd? (Herentals 4G (100) - Merksplas 1G (88))
DESCRIPTION:Je hebt 72 uur na aanvang om een uitmatch op Badmintonvlaandere
 n in te vullen. Match info: Herentals 4G (100) - Merksplas 1G (88) - Link:
  https://www.badmintonvlaanderen.be/sport/teammatch.aspx?id=343A6D01-7373-
 405B-9427-CB56B07F8CCD&match=538
DTSTART;TZID=Europe/Brussels:20210930T210000
DTEND;TZID=Europe/Brussels:20210930T210000
END:VEVENT
BEGIN:VEVENT
UID:343A6D01-7373-405B-9427-CB56B07F8CCD-12-540_awayreminder@95.badmintonne
 rs.net
DTSTAMP:20260420T055148Z
SUMMARY:Uitmatch bevestigd? (Amateurs 1G (100) - Merksplas 1G (88))
DESCRIPTION:Je hebt 72 uur na aanvang om een uitmatch op Badmintonvlaandere
 n in te vullen. Match info: Amateurs 1G (100) - Merksplas 1G (88) - Link: 
 https://www.badmintonvlaanderen.be/sport/teammatch.aspx?id=343A6D01-7373-4
 05B-9427-CB56B07F8CCD&match=540
DTSTART;TZID=Europe/Brussels:20211017T210000
DTEND;TZID=Europe/Brussels:20211017T210000
END:VEVENT
BEGIN:VEVENT
UID:343A6D01-7373-405B-9427-CB56B07F8CCD-12-542_awayreminder@95.badmintonne
 rs.net
DTSTAMP:20260420T055148Z
SUMMARY:Uitmatch bevestigd? (Duffel 1G (106) - Merksplas 1G (88))
DESCRIPTION:Je hebt 72 uur na aanvang om een uitmatch op Badmintonvlaandere
 n in te vullen. Match info: Duffel 1G (106) - Merksplas 1G (88) - Link: ht
 tps://www.badmintonvlaanderen.be/sport/teammatch.aspx?id=343A6D01-7373-405
 B-9427-CB56B07F8CCD&match=542
DTSTART;TZID=Europe/Brussels:20211020T200000
DTEND;TZID=Europe/Brussels:20211020T200000
END:VEVENT
BEGIN:VEVENT
UID:343A6D01-7373-405B-9427-CB56B07F8CCD-12-541_awayreminder@95.badmintonne
 rs.net
DTSTAMP:20260420T055148Z
SUMMARY:Uitmatch bevestigd? (Klein Boom 5G (95) - Merksplas 1G (88))
DESCRIPTION:Je hebt 72 uur na aanvang om een uitmatch op Badmintonvlaandere
 n in te vullen. Match info: Klein Boom 5G (95) - Merksplas 1G (88) - Link:
  https://www.badmintonvlaanderen.be/sport/teammatch.aspx?id=343A6D01-7373-
 405B-9427-CB56B07F8CCD&match=541
DTSTART;TZID=Europe/Brussels:20220112T190000
DTEND;TZID=Europe/Brussels:20220112T190000
END:VEVENT
BEGIN:VEVENT
UID:343A6D01-7373-405B-9427-CB56B07F8CCD-12-539_awayreminder@95.badmintonne
 rs.net
DTSTAMP:20260420T055148Z
SUMMARY:Uitmatch bevestigd? (De Nekker 3G (91) - Merksplas 1G (88))
DESCRIPTION:Je hebt 72 uur na aanvang om een uitmatch op Badmintonvlaandere
 n in te vullen. Match info: De Nekker 3G (91) - Merksplas 1G (88) - Link: 
 https://www.badmintonvlaanderen.be/sport/teammatch.aspx?id=343A6D01-7373-4
 05B-9427-CB56B07F8CCD&match=539
DTSTART;TZID=Europe/Brussels:20220205T203000
DTEND;TZID=Europe/Brussels:20220205T203000
END:VEVENT
BEGIN:VEVENT
UID:343A6D01-7373-405B-9427-CB56B07F8CCD-12-537_awayreminder@95.badmintonne
 rs.net
DTSTAMP:20260420T055148Z
SUMMARY:Uitmatch bevestigd? (Molse 3G (90) - Merksplas 1G (88))
DESCRIPTION:Je hebt 72 uur na aanvang om een uitmatch op Badmintonvlaandere
 n in te vullen. Match info: Molse 3G (90) - Merksplas 1G (88) - Link: http
 s://www.badmintonvlaanderen.be/sport/teammatch.aspx?id=343A6D01-7373-405B-
 9427-CB56B07F8CCD&match=537
DTSTART;TZID=Europe/Brussels:20220330T190000
DTEND;TZID=Europe/Brussels:20220330T190000
END:VEVENT
END:VCALENDAR