BEGIN:VCALENDAR
VERSION:2.0
PRODID:spatie/icalendar-generator
NAME:amateurs_2g_110_reminders
X-WR-CALNAME:amateurs_2g_110_reminders
BEGIN:VTIMEZONE
TZID:Europe/Brussels
BEGIN:DAYLIGHT
DTSTART:20210328T010000
TZOFFSETFROM:+0100
TZOFFSETTO:+0200
END:DAYLIGHT
BEGIN:STANDARD
DTSTART:20211031T030000
TZOFFSETFROM:+0200
TZOFFSETTO:+0100
END:STANDARD
BEGIN:DAYLIGHT
DTSTART:20220327T010000
TZOFFSETFROM:+0100
TZOFFSETTO:+0200
END:DAYLIGHT
END:VTIMEZONE
BEGIN:VTIMEZONE
TZID:UTC
BEGIN:STANDARD
DTSTART:20250724T055144
TZOFFSETFROM:+0000
TZOFFSETTO:+0000
END:STANDARD
END:VTIMEZONE
BEGIN:VEVENT
UID:343A6D01-7373-405B-9427-CB56B07F8CCD-14-633_homereminder@110.badmintonn
 ers.net
DTSTAMP:20260420T055144Z
SUMMARY:Thuismatch ingevuld? (Amateurs 2G (110) - Klein Boom 6G (103))
DESCRIPTION:Je hebt 36 uur na aanvang om een thuismatch op Badmintonvlaande
 ren in te vullen. Match info: Amateurs 2G (110) - Klein Boom 6G (103) - Li
 nk: https://www.badmintonvlaanderen.be/sport/teammatch.aspx?id=343A6D01-73
 73-405B-9427-CB56B07F8CCD&match=633
DTSTART;TZID=Europe/Brussels:20211110T080000
DTEND;TZID=Europe/Brussels:20211110T080000
END:VEVENT
BEGIN:VEVENT
UID:343A6D01-7373-405B-9427-CB56B07F8CCD-14-664_homereminder@110.badmintonn
 ers.net
DTSTAMP:20260420T055144Z
SUMMARY:Thuismatch ingevuld? (Amateurs 2G (110) - Berlaar 1G (107))
DESCRIPTION:Je hebt 36 uur na aanvang om een thuismatch op Badmintonvlaande
 ren in te vullen. Match info: Amateurs 2G (110) - Berlaar 1G (107) - Link:
  https://www.badmintonvlaanderen.be/sport/teammatch.aspx?id=343A6D01-7373-
 405B-9427-CB56B07F8CCD&match=664
DTSTART;TZID=Europe/Brussels:20211124T080000
DTEND;TZID=Europe/Brussels:20211124T080000
END:VEVENT
BEGIN:VEVENT
UID:343A6D01-7373-405B-9427-CB56B07F8CCD-14-645_homereminder@110.badmintonn
 ers.net
DTSTAMP:20260420T055144Z
SUMMARY:Thuismatch ingevuld? (Amateurs 2G (110) - Zandhoven 1G (103))
DESCRIPTION:Je hebt 36 uur na aanvang om een thuismatch op Badmintonvlaande
 ren in te vullen. Match info: Amateurs 2G (110) - Zandhoven 1G (103) - Lin
 k: https://www.badmintonvlaanderen.be/sport/teammatch.aspx?id=343A6D01-737
 3-405B-9427-CB56B07F8CCD&match=645
DTSTART;TZID=Europe/Brussels:20211215T080000
DTEND;TZID=Europe/Brussels:20211215T080000
END:VEVENT
BEGIN:VEVENT
UID:343A6D01-7373-405B-9427-CB56B07F8CCD-14-639_homereminder@110.badmintonn
 ers.net
DTSTAMP:20260420T055144Z
SUMMARY:Thuismatch ingevuld? (Amateurs 2G (110) - Plumula 4G (119))
DESCRIPTION:Je hebt 36 uur na aanvang om een thuismatch op Badmintonvlaande
 ren in te vullen. Match info: Amateurs 2G (110) - Plumula 4G (119) - Link:
  https://www.badmintonvlaanderen.be/sport/teammatch.aspx?id=343A6D01-7373-
 405B-9427-CB56B07F8CCD&match=639
DTSTART;TZID=Europe/Brussels:20220202T080000
DTEND;TZID=Europe/Brussels:20220202T080000
END:VEVENT
BEGIN:VEVENT
UID:343A6D01-7373-405B-9427-CB56B07F8CCD-14-651_homereminder@110.badmintonn
 ers.net
DTSTAMP:20260420T055144Z
SUMMARY:Thuismatch ingevuld? (Amateurs 2G (110) - Opslag 4G (112))
DESCRIPTION:Je hebt 36 uur na aanvang om een thuismatch op Badmintonvlaande
 ren in te vullen. Match info: Amateurs 2G (110) - Opslag 4G (112) - Link: 
 https://www.badmintonvlaanderen.be/sport/teammatch.aspx?id=343A6D01-7373-4
 05B-9427-CB56B07F8CCD&match=651
DTSTART;TZID=Europe/Brussels:20220330T080000
DTEND;TZID=Europe/Brussels:20220330T080000
END:VEVENT
BEGIN:VEVENT
UID:343A6D01-7373-405B-9427-CB56B07F8CCD-14-627_homereminder@110.badmintonn
 ers.net
DTSTAMP:20260420T055144Z
SUMMARY:Thuismatch ingevuld? (Amateurs 2G (110) - Rita Serveert 3G (103))
DESCRIPTION:Je hebt 36 uur na aanvang om een thuismatch op Badmintonvlaande
 ren in te vullen. Match info: Amateurs 2G (110) - Rita Serveert 3G (103) -
  Link: https://www.badmintonvlaanderen.be/sport/teammatch.aspx?id=343A6D01
 -7373-405B-9427-CB56B07F8CCD&match=627
DTSTART;TZID=Europe/Brussels:20220413T080000
DTEND;TZID=Europe/Brussels:20220413T080000
END:VEVENT
BEGIN:VEVENT
UID:343A6D01-7373-405B-9427-CB56B07F8CCD-14-655_awayreminder@110.badmintonn
 ers.net
DTSTAMP:20260420T055144Z
SUMMARY:Uitmatch bevestigd? (Plumula 4G (119) - Amateurs 2G (110))
DESCRIPTION:Je hebt 72 uur na aanvang om een uitmatch op Badmintonvlaandere
 n in te vullen. Match info: Plumula 4G (119) - Amateurs 2G (110) - Link: h
 ttps://www.badmintonvlaanderen.be/sport/teammatch.aspx?id=343A6D01-7373-40
 5B-9427-CB56B07F8CCD&match=655
DTSTART;TZID=Europe/Brussels:20211006T173000
DTEND;TZID=Europe/Brussels:20211006T173000
END:VEVENT
BEGIN:VEVENT
UID:343A6D01-7373-405B-9427-CB56B07F8CCD-14-653_awayreminder@110.badmintonn
 ers.net
DTSTAMP:20260420T055144Z
SUMMARY:Uitmatch bevestigd? (Rita Serveert 3G (103) - Amateurs 2G (110))
DESCRIPTION:Je hebt 72 uur na aanvang om een uitmatch op Badmintonvlaandere
 n in te vullen. Match info: Rita Serveert 3G (103) - Amateurs 2G (110) - L
 ink: https://www.badmintonvlaanderen.be/sport/teammatch.aspx?id=343A6D01-7
 373-405B-9427-CB56B07F8CCD&match=653
DTSTART;TZID=Europe/Brussels:20211013T190000
DTEND;TZID=Europe/Brussels:20211013T190000
END:VEVENT
BEGIN:VEVENT
UID:343A6D01-7373-405B-9427-CB56B07F8CCD-14-657_awayreminder@110.badmintonn
 ers.net
DTSTAMP:20260420T055144Z
SUMMARY:Uitmatch bevestigd? (Opslag 4G (112) - Amateurs 2G (110))
DESCRIPTION:Je hebt 72 uur na aanvang om een uitmatch op Badmintonvlaandere
 n in te vullen. Match info: Opslag 4G (112) - Amateurs 2G (110) - Link: ht
 tps://www.badmintonvlaanderen.be/sport/teammatch.aspx?id=343A6D01-7373-405
 B-9427-CB56B07F8CCD&match=657
DTSTART;TZID=Europe/Brussels:20211201T163000
DTEND;TZID=Europe/Brussels:20211201T163000
END:VEVENT
BEGIN:VEVENT
UID:343A6D01-7373-405B-9427-CB56B07F8CCD-14-656_awayreminder@110.badmintonn
 ers.net
DTSTAMP:20260420T055144Z
SUMMARY:Uitmatch bevestigd? (Zandhoven 1G (103) - Amateurs 2G (110))
DESCRIPTION:Je hebt 72 uur na aanvang om een uitmatch op Badmintonvlaandere
 n in te vullen. Match info: Zandhoven 1G (103) - Amateurs 2G (110) - Link:
  https://www.badmintonvlaanderen.be/sport/teammatch.aspx?id=343A6D01-7373-
 405B-9427-CB56B07F8CCD&match=656
DTSTART;TZID=Europe/Brussels:20220120T200000
DTEND;TZID=Europe/Brussels:20220120T200000
END:VEVENT
BEGIN:VEVENT
UID:343A6D01-7373-405B-9427-CB56B07F8CCD-14-654_awayreminder@110.badmintonn
 ers.net
DTSTAMP:20260420T055144Z
SUMMARY:Uitmatch bevestigd? (Klein Boom 6G (103) - Amateurs 2G (110))
DESCRIPTION:Je hebt 72 uur na aanvang om een uitmatch op Badmintonvlaandere
 n in te vullen. Match info: Klein Boom 6G (103) - Amateurs 2G (110) - Link
 : https://www.badmintonvlaanderen.be/sport/teammatch.aspx?id=343A6D01-7373
 -405B-9427-CB56B07F8CCD&match=654
DTSTART;TZID=Europe/Brussels:20220223T190000
DTEND;TZID=Europe/Brussels:20220223T190000
END:VEVENT
BEGIN:VEVENT
UID:343A6D01-7373-405B-9427-CB56B07F8CCD-14-658_awayreminder@110.badmintonn
 ers.net
DTSTAMP:20260420T055144Z
SUMMARY:Uitmatch bevestigd? (Berlaar 1G (107) - Amateurs 2G (110))
DESCRIPTION:Je hebt 72 uur na aanvang om een uitmatch op Badmintonvlaandere
 n in te vullen. Match info: Berlaar 1G (107) - Amateurs 2G (110) - Link: h
 ttps://www.badmintonvlaanderen.be/sport/teammatch.aspx?id=343A6D01-7373-40
 5B-9427-CB56B07F8CCD&match=658
DTSTART;TZID=Europe/Brussels:20220406T093000
DTEND;TZID=Europe/Brussels:20220406T093000
END:VEVENT
END:VCALENDAR