BEGIN:VCALENDAR
VERSION:2.0
PRODID:spatie/icalendar-generator
NAME:klein_boom_6g_103_reminders
X-WR-CALNAME:klein_boom_6g_103_reminders
BEGIN:VTIMEZONE
TZID:Europe/Brussels
BEGIN:DAYLIGHT
DTSTART:20210328T010000
TZOFFSETFROM:+0100
TZOFFSETTO:+0200
END:DAYLIGHT
BEGIN:STANDARD
DTSTART:20211031T030000
TZOFFSETFROM:+0200
TZOFFSETTO:+0100
END:STANDARD
BEGIN:DAYLIGHT
DTSTART:20220327T010000
TZOFFSETFROM:+0100
TZOFFSETTO:+0200
END:DAYLIGHT
END:VTIMEZONE
BEGIN:VTIMEZONE
TZID:UTC
BEGIN:STANDARD
DTSTART:20250724T055141
TZOFFSETFROM:+0000
TZOFFSETTO:+0000
END:STANDARD
END:VTIMEZONE
BEGIN:VEVENT
UID:343A6D01-7373-405B-9427-CB56B07F8CCD-14-660_homereminder@140.badmintonn
 ers.net
DTSTAMP:20260420T055141Z
SUMMARY:Thuismatch ingevuld? (Klein Boom 6G (103) - Berlaar 1G (107))
DESCRIPTION:Je hebt 36 uur na aanvang om een thuismatch op Badmintonvlaande
 ren in te vullen. Match info: Klein Boom 6G (103) - Berlaar 1G (107) - Lin
 k: https://www.badmintonvlaanderen.be/sport/teammatch.aspx?id=343A6D01-737
 3-405B-9427-CB56B07F8CCD&match=660
DTSTART;TZID=Europe/Brussels:20211005T070000
DTEND;TZID=Europe/Brussels:20211005T070000
END:VEVENT
BEGIN:VEVENT
UID:343A6D01-7373-405B-9427-CB56B07F8CCD-14-648_homereminder@140.badmintonn
 ers.net
DTSTAMP:20260420T055141Z
SUMMARY:Thuismatch ingevuld? (Klein Boom 6G (103) - Opslag 4G (112))
DESCRIPTION:Je hebt 36 uur na aanvang om een thuismatch op Badmintonvlaande
 ren in te vullen. Match info: Klein Boom 6G (103) - Opslag 4G (112) - Link
 : https://www.badmintonvlaanderen.be/sport/teammatch.aspx?id=343A6D01-7373
 -405B-9427-CB56B07F8CCD&match=648
DTSTART;TZID=Europe/Brussels:20211019T070000
DTEND;TZID=Europe/Brussels:20211019T070000
END:VEVENT
BEGIN:VEVENT
UID:343A6D01-7373-405B-9427-CB56B07F8CCD-14-636_homereminder@140.badmintonn
 ers.net
DTSTAMP:20260420T055141Z
SUMMARY:Thuismatch ingevuld? (Klein Boom 6G (103) - Plumula 4G (119))
DESCRIPTION:Je hebt 36 uur na aanvang om een thuismatch op Badmintonvlaande
 ren in te vullen. Match info: Klein Boom 6G (103) - Plumula 4G (119) - Lin
 k: https://www.badmintonvlaanderen.be/sport/teammatch.aspx?id=343A6D01-737
 3-405B-9427-CB56B07F8CCD&match=636
DTSTART;TZID=Europe/Brussels:20211102T070000
DTEND;TZID=Europe/Brussels:20211102T070000
END:VEVENT
BEGIN:VEVENT
UID:343A6D01-7373-405B-9427-CB56B07F8CCD-14-623_homereminder@140.badmintonn
 ers.net
DTSTAMP:20260420T055141Z
SUMMARY:Thuismatch ingevuld? (Klein Boom 6G (103) - Rita Serveert 3G (103))
DESCRIPTION:Je hebt 36 uur na aanvang om een thuismatch op Badmintonvlaande
 ren in te vullen. Match info: Klein Boom 6G (103) - Rita Serveert 3G (103)
  - Link: https://www.badmintonvlaanderen.be/sport/teammatch.aspx?id=343A6D
 01-7373-405B-9427-CB56B07F8CCD&match=623
DTSTART;TZID=Europe/Brussels:20220125T070000
DTEND;TZID=Europe/Brussels:20220125T070000
END:VEVENT
BEGIN:VEVENT
UID:343A6D01-7373-405B-9427-CB56B07F8CCD-14-654_homereminder@140.badmintonn
 ers.net
DTSTAMP:20260420T055141Z
SUMMARY:Thuismatch ingevuld? (Klein Boom 6G (103) - Amateurs 2G (110))
DESCRIPTION:Je hebt 36 uur na aanvang om een thuismatch op Badmintonvlaande
 ren in te vullen. Match info: Klein Boom 6G (103) - Amateurs 2G (110) - Li
 nk: https://www.badmintonvlaanderen.be/sport/teammatch.aspx?id=343A6D01-73
 73-405B-9427-CB56B07F8CCD&match=654
DTSTART;TZID=Europe/Brussels:20220222T070000
DTEND;TZID=Europe/Brussels:20220222T070000
END:VEVENT
BEGIN:VEVENT
UID:343A6D01-7373-405B-9427-CB56B07F8CCD-14-642_homereminder@140.badmintonn
 ers.net
DTSTAMP:20260420T055141Z
SUMMARY:Thuismatch ingevuld? (Klein Boom 6G (103) - Zandhoven 1G (103))
DESCRIPTION:Je hebt 36 uur na aanvang om een thuismatch op Badmintonvlaande
 ren in te vullen. Match info: Klein Boom 6G (103) - Zandhoven 1G (103) - L
 ink: https://www.badmintonvlaanderen.be/sport/teammatch.aspx?id=343A6D01-7
 373-405B-9427-CB56B07F8CCD&match=642
DTSTART;TZID=Europe/Brussels:20220322T070000
DTEND;TZID=Europe/Brussels:20220322T070000
END:VEVENT
BEGIN:VEVENT
UID:343A6D01-7373-405B-9427-CB56B07F8CCD-14-633_awayreminder@140.badmintonn
 ers.net
DTSTAMP:20260420T055141Z
SUMMARY:Uitmatch bevestigd? (Amateurs 2G (110) - Klein Boom 6G (103))
DESCRIPTION:Je hebt 72 uur na aanvang om een uitmatch op Badmintonvlaandere
 n in te vullen. Match info: Amateurs 2G (110) - Klein Boom 6G (103) - Link
 : https://www.badmintonvlaanderen.be/sport/teammatch.aspx?id=343A6D01-7373
 -405B-9427-CB56B07F8CCD&match=633
DTSTART;TZID=Europe/Brussels:20211111T200000
DTEND;TZID=Europe/Brussels:20211111T200000
END:VEVENT
BEGIN:VEVENT
UID:343A6D01-7373-405B-9427-CB56B07F8CCD-14-629_awayreminder@140.badmintonn
 ers.net
DTSTAMP:20260420T055141Z
SUMMARY:Uitmatch bevestigd? (Rita Serveert 3G (103) - Klein Boom 6G (103))
DESCRIPTION:Je hebt 72 uur na aanvang om een uitmatch op Badmintonvlaandere
 n in te vullen. Match info: Rita Serveert 3G (103) - Klein Boom 6G (103) -
  Link: https://www.badmintonvlaanderen.be/sport/teammatch.aspx?id=343A6D01
 -7373-405B-9427-CB56B07F8CCD&match=629
DTSTART;TZID=Europe/Brussels:20211117T190000
DTEND;TZID=Europe/Brussels:20211117T190000
END:VEVENT
BEGIN:VEVENT
UID:343A6D01-7373-405B-9427-CB56B07F8CCD-14-631_awayreminder@140.badmintonn
 ers.net
DTSTAMP:20260420T055141Z
SUMMARY:Uitmatch bevestigd? (Zandhoven 1G (103) - Klein Boom 6G (103))
DESCRIPTION:Je hebt 72 uur na aanvang om een uitmatch op Badmintonvlaandere
 n in te vullen. Match info: Zandhoven 1G (103) - Klein Boom 6G (103) - Lin
 k: https://www.badmintonvlaanderen.be/sport/teammatch.aspx?id=343A6D01-737
 3-405B-9427-CB56B07F8CCD&match=631
DTSTART;TZID=Europe/Brussels:20211125T200000
DTEND;TZID=Europe/Brussels:20211125T200000
END:VEVENT
BEGIN:VEVENT
UID:343A6D01-7373-405B-9427-CB56B07F8CCD-14-634_awayreminder@140.badmintonn
 ers.net
DTSTAMP:20260420T055141Z
SUMMARY:Uitmatch bevestigd? (Berlaar 1G (107) - Klein Boom 6G (103))
DESCRIPTION:Je hebt 72 uur na aanvang om een uitmatch op Badmintonvlaandere
 n in te vullen. Match info: Berlaar 1G (107) - Klein Boom 6G (103) - Link:
  https://www.badmintonvlaanderen.be/sport/teammatch.aspx?id=343A6D01-7373-
 405B-9427-CB56B07F8CCD&match=634
DTSTART;TZID=Europe/Brussels:20220209T093000
DTEND;TZID=Europe/Brussels:20220209T093000
END:VEVENT
BEGIN:VEVENT
UID:343A6D01-7373-405B-9427-CB56B07F8CCD-14-630_awayreminder@140.badmintonn
 ers.net
DTSTAMP:20260420T055141Z
SUMMARY:Uitmatch bevestigd? (Plumula 4G (119) - Klein Boom 6G (103))
DESCRIPTION:Je hebt 72 uur na aanvang om een uitmatch op Badmintonvlaandere
 n in te vullen. Match info: Plumula 4G (119) - Klein Boom 6G (103) - Link:
  https://www.badmintonvlaanderen.be/sport/teammatch.aspx?id=343A6D01-7373-
 405B-9427-CB56B07F8CCD&match=630
DTSTART;TZID=Europe/Brussels:20220309T173000
DTEND;TZID=Europe/Brussels:20220309T173000
END:VEVENT
BEGIN:VEVENT
UID:343A6D01-7373-405B-9427-CB56B07F8CCD-14-632_awayreminder@140.badmintonn
 ers.net
DTSTAMP:20260420T055141Z
SUMMARY:Uitmatch bevestigd? (Opslag 4G (112) - Klein Boom 6G (103))
DESCRIPTION:Je hebt 72 uur na aanvang om een uitmatch op Badmintonvlaandere
 n in te vullen. Match info: Opslag 4G (112) - Klein Boom 6G (103) - Link: 
 https://www.badmintonvlaanderen.be/sport/teammatch.aspx?id=343A6D01-7373-4
 05B-9427-CB56B07F8CCD&match=632
DTSTART;TZID=Europe/Brussels:20220406T163000
DTEND;TZID=Europe/Brussels:20220406T163000
END:VEVENT
END:VCALENDAR