BEGIN:VCALENDAR
VERSION:2.0
PRODID:spatie/icalendar-generator
NAME:zandhoven_1g_103_reminders
X-WR-CALNAME:zandhoven_1g_103_reminders
BEGIN:VTIMEZONE
TZID:Europe/Brussels
BEGIN:DAYLIGHT
DTSTART:20210328T010000
TZOFFSETFROM:+0100
TZOFFSETTO:+0200
END:DAYLIGHT
BEGIN:STANDARD
DTSTART:20211031T030000
TZOFFSETFROM:+0200
TZOFFSETTO:+0100
END:STANDARD
BEGIN:DAYLIGHT
DTSTART:20220327T010000
TZOFFSETFROM:+0100
TZOFFSETTO:+0200
END:DAYLIGHT
END:VTIMEZONE
BEGIN:VTIMEZONE
TZID:UTC
BEGIN:STANDARD
DTSTART:20250724T073346
TZOFFSETFROM:+0000
TZOFFSETTO:+0000
END:STANDARD
END:VTIMEZONE
BEGIN:VEVENT
UID:343A6D01-7373-405B-9427-CB56B07F8CCD-14-650_homereminder@50.badmintonne
 rs.net
DTSTAMP:20260420T073346Z
SUMMARY:Thuismatch ingevuld? (Zandhoven 1G (103) - Opslag 4G (112))
DESCRIPTION:Je hebt 36 uur na aanvang om een thuismatch op Badmintonvlaande
 ren in te vullen. Match info: Zandhoven 1G (103) - Opslag 4G (112) - Link:
  https://www.badmintonvlaanderen.be/sport/teammatch.aspx?id=343A6D01-7373-
 405B-9427-CB56B07F8CCD&match=650
DTSTART;TZID=Europe/Brussels:20210929T080000
DTEND;TZID=Europe/Brussels:20210929T080000
END:VEVENT
BEGIN:VEVENT
UID:343A6D01-7373-405B-9427-CB56B07F8CCD-14-631_homereminder@50.badmintonne
 rs.net
DTSTAMP:20260420T073346Z
SUMMARY:Thuismatch ingevuld? (Zandhoven 1G (103) - Klein Boom 6G (103))
DESCRIPTION:Je hebt 36 uur na aanvang om een thuismatch op Badmintonvlaande
 ren in te vullen. Match info: Zandhoven 1G (103) - Klein Boom 6G (103) - L
 ink: https://www.badmintonvlaanderen.be/sport/teammatch.aspx?id=343A6D01-7
 373-405B-9427-CB56B07F8CCD&match=631
DTSTART;TZID=Europe/Brussels:20211124T080000
DTEND;TZID=Europe/Brussels:20211124T080000
END:VEVENT
BEGIN:VEVENT
UID:343A6D01-7373-405B-9427-CB56B07F8CCD-14-662_homereminder@50.badmintonne
 rs.net
DTSTAMP:20260420T073346Z
SUMMARY:Thuismatch ingevuld? (Zandhoven 1G (103) - Berlaar 1G (107))
DESCRIPTION:Je hebt 36 uur na aanvang om een thuismatch op Badmintonvlaande
 ren in te vullen. Match info: Zandhoven 1G (103) - Berlaar 1G (107) - Link
 : https://www.badmintonvlaanderen.be/sport/teammatch.aspx?id=343A6D01-7373
 -405B-9427-CB56B07F8CCD&match=662
DTSTART;TZID=Europe/Brussels:20211208T080000
DTEND;TZID=Europe/Brussels:20211208T080000
END:VEVENT
BEGIN:VEVENT
UID:343A6D01-7373-405B-9427-CB56B07F8CCD-14-656_homereminder@50.badmintonne
 rs.net
DTSTAMP:20260420T073346Z
SUMMARY:Thuismatch ingevuld? (Zandhoven 1G (103) - Amateurs 2G (110))
DESCRIPTION:Je hebt 36 uur na aanvang om een thuismatch op Badmintonvlaande
 ren in te vullen. Match info: Zandhoven 1G (103) - Amateurs 2G (110) - Lin
 k: https://www.badmintonvlaanderen.be/sport/teammatch.aspx?id=343A6D01-737
 3-405B-9427-CB56B07F8CCD&match=656
DTSTART;TZID=Europe/Brussels:20220119T080000
DTEND;TZID=Europe/Brussels:20220119T080000
END:VEVENT
BEGIN:VEVENT
UID:343A6D01-7373-405B-9427-CB56B07F8CCD-14-625_homereminder@50.badmintonne
 rs.net
DTSTAMP:20260420T073346Z
SUMMARY:Thuismatch ingevuld? (Zandhoven 1G (103) - Rita Serveert 3G (103))
DESCRIPTION:Je hebt 36 uur na aanvang om een thuismatch op Badmintonvlaande
 ren in te vullen. Match info: Zandhoven 1G (103) - Rita Serveert 3G (103) 
 - Link: https://www.badmintonvlaanderen.be/sport/teammatch.aspx?id=343A6D0
 1-7373-405B-9427-CB56B07F8CCD&match=625
DTSTART;TZID=Europe/Brussels:20220302T080000
DTEND;TZID=Europe/Brussels:20220302T080000
END:VEVENT
BEGIN:VEVENT
UID:343A6D01-7373-405B-9427-CB56B07F8CCD-14-637_homereminder@50.badmintonne
 rs.net
DTSTAMP:20260420T073346Z
SUMMARY:Thuismatch ingevuld? (Zandhoven 1G (103) - Plumula 4G (119))
DESCRIPTION:Je hebt 36 uur na aanvang om een thuismatch op Badmintonvlaande
 ren in te vullen. Match info: Zandhoven 1G (103) - Plumula 4G (119) - Link
 : https://www.badmintonvlaanderen.be/sport/teammatch.aspx?id=343A6D01-7373
 -405B-9427-CB56B07F8CCD&match=637
DTSTART;TZID=Europe/Brussels:20220413T080000
DTEND;TZID=Europe/Brussels:20220413T080000
END:VEVENT
BEGIN:VEVENT
UID:343A6D01-7373-405B-9427-CB56B07F8CCD-14-643_awayreminder@50.badmintonne
 rs.net
DTSTAMP:20260420T073346Z
SUMMARY:Uitmatch bevestigd? (Plumula 4G (119) - Zandhoven 1G (103))
DESCRIPTION:Je hebt 72 uur na aanvang om een uitmatch op Badmintonvlaandere
 n in te vullen. Match info: Plumula 4G (119) - Zandhoven 1G (103) - Link: 
 https://www.badmintonvlaanderen.be/sport/teammatch.aspx?id=343A6D01-7373-4
 05B-9427-CB56B07F8CCD&match=643
DTSTART;TZID=Europe/Brussels:20211020T173000
DTEND;TZID=Europe/Brussels:20211020T173000
END:VEVENT
BEGIN:VEVENT
UID:343A6D01-7373-405B-9427-CB56B07F8CCD-14-641_awayreminder@50.badmintonne
 rs.net
DTSTAMP:20260420T073346Z
SUMMARY:Uitmatch bevestigd? (Rita Serveert 3G (103) - Zandhoven 1G (103))
DESCRIPTION:Je hebt 72 uur na aanvang om een uitmatch op Badmintonvlaandere
 n in te vullen. Match info: Rita Serveert 3G (103) - Zandhoven 1G (103) - 
 Link: https://www.badmintonvlaanderen.be/sport/teammatch.aspx?id=343A6D01-
 7373-405B-9427-CB56B07F8CCD&match=641
DTSTART;TZID=Europe/Brussels:20211103T190000
DTEND;TZID=Europe/Brussels:20211103T190000
END:VEVENT
BEGIN:VEVENT
UID:343A6D01-7373-405B-9427-CB56B07F8CCD-14-645_awayreminder@50.badmintonne
 rs.net
DTSTAMP:20260420T073346Z
SUMMARY:Uitmatch bevestigd? (Amateurs 2G (110) - Zandhoven 1G (103))
DESCRIPTION:Je hebt 72 uur na aanvang om een uitmatch op Badmintonvlaandere
 n in te vullen. Match info: Amateurs 2G (110) - Zandhoven 1G (103) - Link:
  https://www.badmintonvlaanderen.be/sport/teammatch.aspx?id=343A6D01-7373-
 405B-9427-CB56B07F8CCD&match=645
DTSTART;TZID=Europe/Brussels:20211216T200000
DTEND;TZID=Europe/Brussels:20211216T200000
END:VEVENT
BEGIN:VEVENT
UID:343A6D01-7373-405B-9427-CB56B07F8CCD-14-644_awayreminder@50.badmintonne
 rs.net
DTSTAMP:20260420T073346Z
SUMMARY:Uitmatch bevestigd? (Opslag 4G (112) - Zandhoven 1G (103))
DESCRIPTION:Je hebt 72 uur na aanvang om een uitmatch op Badmintonvlaandere
 n in te vullen. Match info: Opslag 4G (112) - Zandhoven 1G (103) - Link: h
 ttps://www.badmintonvlaanderen.be/sport/teammatch.aspx?id=343A6D01-7373-40
 5B-9427-CB56B07F8CCD&match=644
DTSTART;TZID=Europe/Brussels:20220209T163000
DTEND;TZID=Europe/Brussels:20220209T163000
END:VEVENT
BEGIN:VEVENT
UID:343A6D01-7373-405B-9427-CB56B07F8CCD-14-642_awayreminder@50.badmintonne
 rs.net
DTSTAMP:20260420T073346Z
SUMMARY:Uitmatch bevestigd? (Klein Boom 6G (103) - Zandhoven 1G (103))
DESCRIPTION:Je hebt 72 uur na aanvang om een uitmatch op Badmintonvlaandere
 n in te vullen. Match info: Klein Boom 6G (103) - Zandhoven 1G (103) - Lin
 k: https://www.badmintonvlaanderen.be/sport/teammatch.aspx?id=343A6D01-737
 3-405B-9427-CB56B07F8CCD&match=642
DTSTART;TZID=Europe/Brussels:20220323T190000
DTEND;TZID=Europe/Brussels:20220323T190000
END:VEVENT
BEGIN:VEVENT
UID:343A6D01-7373-405B-9427-CB56B07F8CCD-14-646_awayreminder@50.badmintonne
 rs.net
DTSTAMP:20260420T073346Z
SUMMARY:Uitmatch bevestigd? (Berlaar 1G (107) - Zandhoven 1G (103))
DESCRIPTION:Je hebt 72 uur na aanvang om een uitmatch op Badmintonvlaandere
 n in te vullen. Match info: Berlaar 1G (107) - Zandhoven 1G (103) - Link: 
 https://www.badmintonvlaanderen.be/sport/teammatch.aspx?id=343A6D01-7373-4
 05B-9427-CB56B07F8CCD&match=646
DTSTART;TZID=Europe/Brussels:20220423T203000
DTEND;TZID=Europe/Brussels:20220423T203000
END:VEVENT
END:VCALENDAR