BEGIN:VCALENDAR
VERSION:2.0
PRODID:spatie/icalendar-generator
NAME:rita_serveert_3g_103_reminders
X-WR-CALNAME:rita_serveert_3g_103_reminders
BEGIN:VTIMEZONE
TZID:Europe/Brussels
BEGIN:DAYLIGHT
DTSTART:20210328T010000
TZOFFSETFROM:+0100
TZOFFSETTO:+0200
END:DAYLIGHT
BEGIN:STANDARD
DTSTART:20211031T030000
TZOFFSETFROM:+0200
TZOFFSETTO:+0100
END:STANDARD
BEGIN:DAYLIGHT
DTSTART:20220327T010000
TZOFFSETFROM:+0100
TZOFFSETTO:+0200
END:DAYLIGHT
END:VTIMEZONE
BEGIN:VTIMEZONE
TZID:UTC
BEGIN:STANDARD
DTSTART:20250724T055149
TZOFFSETFROM:+0000
TZOFFSETTO:+0000
END:STANDARD
END:VTIMEZONE
BEGIN:VEVENT
UID:343A6D01-7373-405B-9427-CB56B07F8CCD-14-653_homereminder@63.badmintonne
 rs.net
DTSTAMP:20260420T055149Z
SUMMARY:Thuismatch ingevuld? (Rita Serveert 3G (103) - Amateurs 2G (110))
DESCRIPTION:Je hebt 36 uur na aanvang om een thuismatch op Badmintonvlaande
 ren in te vullen. Match info: Rita Serveert 3G (103) - Amateurs 2G (110) -
  Link: https://www.badmintonvlaanderen.be/sport/teammatch.aspx?id=343A6D01
 -7373-405B-9427-CB56B07F8CCD&match=653
DTSTART;TZID=Europe/Brussels:20211012T070000
DTEND;TZID=Europe/Brussels:20211012T070000
END:VEVENT
BEGIN:VEVENT
UID:343A6D01-7373-405B-9427-CB56B07F8CCD-14-641_homereminder@63.badmintonne
 rs.net
DTSTAMP:20260420T055149Z
SUMMARY:Thuismatch ingevuld? (Rita Serveert 3G (103) - Zandhoven 1G (103))
DESCRIPTION:Je hebt 36 uur na aanvang om een thuismatch op Badmintonvlaande
 ren in te vullen. Match info: Rita Serveert 3G (103) - Zandhoven 1G (103) 
 - Link: https://www.badmintonvlaanderen.be/sport/teammatch.aspx?id=343A6D0
 1-7373-405B-9427-CB56B07F8CCD&match=641
DTSTART;TZID=Europe/Brussels:20211102T070000
DTEND;TZID=Europe/Brussels:20211102T070000
END:VEVENT
BEGIN:VEVENT
UID:343A6D01-7373-405B-9427-CB56B07F8CCD-14-629_homereminder@63.badmintonne
 rs.net
DTSTAMP:20260420T055149Z
SUMMARY:Thuismatch ingevuld? (Rita Serveert 3G (103) - Klein Boom 6G (103))
DESCRIPTION:Je hebt 36 uur na aanvang om een thuismatch op Badmintonvlaande
 ren in te vullen. Match info: Rita Serveert 3G (103) - Klein Boom 6G (103)
  - Link: https://www.badmintonvlaanderen.be/sport/teammatch.aspx?id=343A6D
 01-7373-405B-9427-CB56B07F8CCD&match=629
DTSTART;TZID=Europe/Brussels:20211116T070000
DTEND;TZID=Europe/Brussels:20211116T070000
END:VEVENT
BEGIN:VEVENT
UID:343A6D01-7373-405B-9427-CB56B07F8CCD-14-659_homereminder@63.badmintonne
 rs.net
DTSTAMP:20260420T055149Z
SUMMARY:Thuismatch ingevuld? (Rita Serveert 3G (103) - Berlaar 1G (107))
DESCRIPTION:Je hebt 36 uur na aanvang om een thuismatch op Badmintonvlaande
 ren in te vullen. Match info: Rita Serveert 3G (103) - Berlaar 1G (107) - 
 Link: https://www.badmintonvlaanderen.be/sport/teammatch.aspx?id=343A6D01-
 7373-405B-9427-CB56B07F8CCD&match=659
DTSTART;TZID=Europe/Brussels:20220222T070000
DTEND;TZID=Europe/Brussels:20220222T070000
END:VEVENT
BEGIN:VEVENT
UID:343A6D01-7373-405B-9427-CB56B07F8CCD-14-647_homereminder@63.badmintonne
 rs.net
DTSTAMP:20260420T055149Z
SUMMARY:Thuismatch ingevuld? (Rita Serveert 3G (103) - Opslag 4G (112))
DESCRIPTION:Je hebt 36 uur na aanvang om een thuismatch op Badmintonvlaande
 ren in te vullen. Match info: Rita Serveert 3G (103) - Opslag 4G (112) - L
 ink: https://www.badmintonvlaanderen.be/sport/teammatch.aspx?id=343A6D01-7
 373-405B-9427-CB56B07F8CCD&match=647
DTSTART;TZID=Europe/Brussels:20220322T070000
DTEND;TZID=Europe/Brussels:20220322T070000
END:VEVENT
BEGIN:VEVENT
UID:343A6D01-7373-405B-9427-CB56B07F8CCD-14-635_homereminder@63.badmintonne
 rs.net
DTSTAMP:20260420T055149Z
SUMMARY:Thuismatch ingevuld? (Rita Serveert 3G (103) - Plumula 4G (119))
DESCRIPTION:Je hebt 36 uur na aanvang om een thuismatch op Badmintonvlaande
 ren in te vullen. Match info: Rita Serveert 3G (103) - Plumula 4G (119) - 
 Link: https://www.badmintonvlaanderen.be/sport/teammatch.aspx?id=343A6D01-
 7373-405B-9427-CB56B07F8CCD&match=635
DTSTART;TZID=Europe/Brussels:20220405T070000
DTEND;TZID=Europe/Brussels:20220405T070000
END:VEVENT
BEGIN:VEVENT
UID:343A6D01-7373-405B-9427-CB56B07F8CCD-14-626_awayreminder@63.badmintonne
 rs.net
DTSTAMP:20260420T055149Z
SUMMARY:Uitmatch bevestigd? (Opslag 4G (112) - Rita Serveert 3G (103))
DESCRIPTION:Je hebt 72 uur na aanvang om een uitmatch op Badmintonvlaandere
 n in te vullen. Match info: Opslag 4G (112) - Rita Serveert 3G (103) - Lin
 k: https://www.badmintonvlaanderen.be/sport/teammatch.aspx?id=343A6D01-737
 3-405B-9427-CB56B07F8CCD&match=626
DTSTART;TZID=Europe/Brussels:20211006T163000
DTEND;TZID=Europe/Brussels:20211006T163000
END:VEVENT
BEGIN:VEVENT
UID:343A6D01-7373-405B-9427-CB56B07F8CCD-14-628_awayreminder@63.badmintonne
 rs.net
DTSTAMP:20260420T055149Z
SUMMARY:Uitmatch bevestigd? (Berlaar 1G (107) - Rita Serveert 3G (103))
DESCRIPTION:Je hebt 72 uur na aanvang om een uitmatch op Badmintonvlaandere
 n in te vullen. Match info: Berlaar 1G (107) - Rita Serveert 3G (103) - Li
 nk: https://www.badmintonvlaanderen.be/sport/teammatch.aspx?id=343A6D01-73
 73-405B-9427-CB56B07F8CCD&match=628
DTSTART;TZID=Europe/Brussels:20211110T100000
DTEND;TZID=Europe/Brussels:20211110T100000
END:VEVENT
BEGIN:VEVENT
UID:343A6D01-7373-405B-9427-CB56B07F8CCD-14-624_awayreminder@63.badmintonne
 rs.net
DTSTAMP:20260420T055149Z
SUMMARY:Uitmatch bevestigd? (Plumula 4G (119) - Rita Serveert 3G (103))
DESCRIPTION:Je hebt 72 uur na aanvang om een uitmatch op Badmintonvlaandere
 n in te vullen. Match info: Plumula 4G (119) - Rita Serveert 3G (103) - Li
 nk: https://www.badmintonvlaanderen.be/sport/teammatch.aspx?id=343A6D01-73
 73-405B-9427-CB56B07F8CCD&match=624
DTSTART;TZID=Europe/Brussels:20211215T173000
DTEND;TZID=Europe/Brussels:20211215T173000
END:VEVENT
BEGIN:VEVENT
UID:343A6D01-7373-405B-9427-CB56B07F8CCD-14-623_awayreminder@63.badmintonne
 rs.net
DTSTAMP:20260420T055149Z
SUMMARY:Uitmatch bevestigd? (Klein Boom 6G (103) - Rita Serveert 3G (103))
DESCRIPTION:Je hebt 72 uur na aanvang om een uitmatch op Badmintonvlaandere
 n in te vullen. Match info: Klein Boom 6G (103) - Rita Serveert 3G (103) -
  Link: https://www.badmintonvlaanderen.be/sport/teammatch.aspx?id=343A6D01
 -7373-405B-9427-CB56B07F8CCD&match=623
DTSTART;TZID=Europe/Brussels:20220126T190000
DTEND;TZID=Europe/Brussels:20220126T190000
END:VEVENT
BEGIN:VEVENT
UID:343A6D01-7373-405B-9427-CB56B07F8CCD-14-625_awayreminder@63.badmintonne
 rs.net
DTSTAMP:20260420T055149Z
SUMMARY:Uitmatch bevestigd? (Zandhoven 1G (103) - Rita Serveert 3G (103))
DESCRIPTION:Je hebt 72 uur na aanvang om een uitmatch op Badmintonvlaandere
 n in te vullen. Match info: Zandhoven 1G (103) - Rita Serveert 3G (103) - 
 Link: https://www.badmintonvlaanderen.be/sport/teammatch.aspx?id=343A6D01-
 7373-405B-9427-CB56B07F8CCD&match=625
DTSTART;TZID=Europe/Brussels:20220303T200000
DTEND;TZID=Europe/Brussels:20220303T200000
END:VEVENT
BEGIN:VEVENT
UID:343A6D01-7373-405B-9427-CB56B07F8CCD-14-627_awayreminder@63.badmintonne
 rs.net
DTSTAMP:20260420T055149Z
SUMMARY:Uitmatch bevestigd? (Amateurs 2G (110) - Rita Serveert 3G (103))
DESCRIPTION:Je hebt 72 uur na aanvang om een uitmatch op Badmintonvlaandere
 n in te vullen. Match info: Amateurs 2G (110) - Rita Serveert 3G (103) - L
 ink: https://www.badmintonvlaanderen.be/sport/teammatch.aspx?id=343A6D01-7
 373-405B-9427-CB56B07F8CCD&match=627
DTSTART;TZID=Europe/Brussels:20220414T200000
DTEND;TZID=Europe/Brussels:20220414T200000
END:VEVENT
END:VCALENDAR