BEGIN:VCALENDAR
VERSION:2.0
PRODID:spatie/icalendar-generator
NAME:plumula_3g_105_reminders
X-WR-CALNAME:plumula_3g_105_reminders
BEGIN:VTIMEZONE
TZID:Europe/Brussels
BEGIN:DAYLIGHT
DTSTART:20210328T010000
TZOFFSETFROM:+0100
TZOFFSETTO:+0200
END:DAYLIGHT
BEGIN:STANDARD
DTSTART:20211031T030000
TZOFFSETFROM:+0200
TZOFFSETTO:+0100
END:STANDARD
BEGIN:DAYLIGHT
DTSTART:20220327T010000
TZOFFSETFROM:+0100
TZOFFSETTO:+0200
END:DAYLIGHT
END:VTIMEZONE
BEGIN:VTIMEZONE
TZID:UTC
BEGIN:STANDARD
DTSTART:20250724T055145
TZOFFSETFROM:+0000
TZOFFSETTO:+0000
END:STANDARD
END:VTIMEZONE
BEGIN:VEVENT
UID:343A6D01-7373-405B-9427-CB56B07F8CCD-16-738_homereminder@121.badmintonn
 ers.net
DTSTAMP:20260420T055145Z
SUMMARY:Thuismatch ingevuld? (Plumula 3G (105) - Duffel 2G (107))
DESCRIPTION:Je hebt 36 uur na aanvang om een thuismatch op Badmintonvlaande
 ren in te vullen. Match info: Plumula 3G (105) - Duffel 2G (107) - Link: h
 ttps://www.badmintonvlaanderen.be/sport/teammatch.aspx?id=343A6D01-7373-40
 5B-9427-CB56B07F8CCD&match=738
DTSTART;TZID=Europe/Brussels:20210921T053000
DTEND;TZID=Europe/Brussels:20210921T053000
END:VEVENT
BEGIN:VEVENT
UID:343A6D01-7373-405B-9427-CB56B07F8CCD-16-750_homereminder@121.badmintonn
 ers.net
DTSTAMP:20260420T055145Z
SUMMARY:Thuismatch ingevuld? (Plumula 3G (105) - Klein Boom 7G (110))
DESCRIPTION:Je hebt 36 uur na aanvang om een thuismatch op Badmintonvlaande
 ren in te vullen. Match info: Plumula 3G (105) - Klein Boom 7G (110) - Lin
 k: https://www.badmintonvlaanderen.be/sport/teammatch.aspx?id=343A6D01-737
 3-405B-9427-CB56B07F8CCD&match=750
DTSTART;TZID=Europe/Brussels:20211019T053000
DTEND;TZID=Europe/Brussels:20211019T053000
END:VEVENT
BEGIN:VEVENT
UID:343A6D01-7373-405B-9427-CB56B07F8CCD-16-726_homereminder@121.badmintonn
 ers.net
DTSTAMP:20260420T055145Z
SUMMARY:Thuismatch ingevuld? (Plumula 3G (105) - Brasschaat 6G (108))
DESCRIPTION:Je hebt 36 uur na aanvang om een thuismatch op Badmintonvlaande
 ren in te vullen. Match info: Plumula 3G (105) - Brasschaat 6G (108) - Lin
 k: https://www.badmintonvlaanderen.be/sport/teammatch.aspx?id=343A6D01-737
 3-405B-9427-CB56B07F8CCD&match=726
DTSTART;TZID=Europe/Brussels:20211116T053000
DTEND;TZID=Europe/Brussels:20211116T053000
END:VEVENT
BEGIN:VEVENT
UID:343A6D01-7373-405B-9427-CB56B07F8CCD-16-732_homereminder@121.badmintonn
 ers.net
DTSTAMP:20260420T055145Z
SUMMARY:Thuismatch ingevuld? (Plumula 3G (105) - Amateurs 3G (111))
DESCRIPTION:Je hebt 36 uur na aanvang om een thuismatch op Badmintonvlaande
 ren in te vullen. Match info: Plumula 3G (105) - Amateurs 3G (111) - Link:
  https://www.badmintonvlaanderen.be/sport/teammatch.aspx?id=343A6D01-7373-
 405B-9427-CB56B07F8CCD&match=732
DTSTART;TZID=Europe/Brussels:20220125T053000
DTEND;TZID=Europe/Brussels:20220125T053000
END:VEVENT
BEGIN:VEVENT
UID:343A6D01-7373-405B-9427-CB56B07F8CCD-16-744_homereminder@121.badmintonn
 ers.net
DTSTAMP:20260420T055145Z
SUMMARY:Thuismatch ingevuld? (Plumula 3G (105) - Berlaar 2G (113))
DESCRIPTION:Je hebt 36 uur na aanvang om een thuismatch op Badmintonvlaande
 ren in te vullen. Match info: Plumula 3G (105) - Berlaar 2G (113) - Link: 
 https://www.badmintonvlaanderen.be/sport/teammatch.aspx?id=343A6D01-7373-4
 05B-9427-CB56B07F8CCD&match=744
DTSTART;TZID=Europe/Brussels:20220222T053000
DTEND;TZID=Europe/Brussels:20220222T053000
END:VEVENT
BEGIN:VEVENT
UID:343A6D01-7373-405B-9427-CB56B07F8CCD-16-756_homereminder@121.badmintonn
 ers.net
DTSTAMP:20260420T055145Z
SUMMARY:Thuismatch ingevuld? (Plumula 3G (105) - Spinshuttle 4G (103))
DESCRIPTION:Je hebt 36 uur na aanvang om een thuismatch op Badmintonvlaande
 ren in te vullen. Match info: Plumula 3G (105) - Spinshuttle 4G (103) - Li
 nk: https://www.badmintonvlaanderen.be/sport/teammatch.aspx?id=343A6D01-73
 73-405B-9427-CB56B07F8CCD&match=756
DTSTART;TZID=Europe/Brussels:20220405T053000
DTEND;TZID=Europe/Brussels:20220405T053000
END:VEVENT
BEGIN:VEVENT
UID:343A6D01-7373-405B-9427-CB56B07F8CCD-16-758_awayreminder@121.badmintonn
 ers.net
DTSTAMP:20260420T055145Z
SUMMARY:Uitmatch bevestigd? (Amateurs 3G (111) - Plumula 3G (105))
DESCRIPTION:Je hebt 72 uur na aanvang om een uitmatch op Badmintonvlaandere
 n in te vullen. Match info: Amateurs 3G (111) - Plumula 3G (105) - Link: h
 ttps://www.badmintonvlaanderen.be/sport/teammatch.aspx?id=343A6D01-7373-40
 5B-9427-CB56B07F8CCD&match=758
DTSTART;TZID=Europe/Brussels:20211003T210000
DTEND;TZID=Europe/Brussels:20211003T210000
END:VEVENT
BEGIN:VEVENT
UID:343A6D01-7373-405B-9427-CB56B07F8CCD-16-762_awayreminder@121.badmintonn
 ers.net
DTSTAMP:20260420T055145Z
SUMMARY:Uitmatch bevestigd? (Spinshuttle 4G (103) - Plumula 3G (105))
DESCRIPTION:Je hebt 72 uur na aanvang om een uitmatch op Badmintonvlaandere
 n in te vullen. Match info: Spinshuttle 4G (103) - Plumula 3G (105) - Link
 : https://www.badmintonvlaanderen.be/sport/teammatch.aspx?id=343A6D01-7373
 -405B-9427-CB56B07F8CCD&match=762
DTSTART;TZID=Europe/Brussels:20211029T200000
DTEND;TZID=Europe/Brussels:20211029T200000
END:VEVENT
BEGIN:VEVENT
UID:343A6D01-7373-405B-9427-CB56B07F8CCD-16-760_awayreminder@121.badmintonn
 ers.net
DTSTAMP:20260420T055145Z
SUMMARY:Uitmatch bevestigd? (Berlaar 2G (113) - Plumula 3G (105))
DESCRIPTION:Je hebt 72 uur na aanvang om een uitmatch op Badmintonvlaandere
 n in te vullen. Match info: Berlaar 2G (113) - Plumula 3G (105) - Link: ht
 tps://www.badmintonvlaanderen.be/sport/teammatch.aspx?id=343A6D01-7373-405
 B-9427-CB56B07F8CCD&match=760
DTSTART;TZID=Europe/Brussels:20211215T093000
DTEND;TZID=Europe/Brussels:20211215T093000
END:VEVENT
BEGIN:VEVENT
UID:343A6D01-7373-405B-9427-CB56B07F8CCD-16-759_awayreminder@121.badmintonn
 ers.net
DTSTAMP:20260420T055145Z
SUMMARY:Uitmatch bevestigd? (Duffel 2G (107) - Plumula 3G (105))
DESCRIPTION:Je hebt 72 uur na aanvang om een uitmatch op Badmintonvlaandere
 n in te vullen. Match info: Duffel 2G (107) - Plumula 3G (105) - Link: htt
 ps://www.badmintonvlaanderen.be/sport/teammatch.aspx?id=343A6D01-7373-405B
 -9427-CB56B07F8CCD&match=759
DTSTART;TZID=Europe/Brussels:20220209T200000
DTEND;TZID=Europe/Brussels:20220209T200000
END:VEVENT
BEGIN:VEVENT
UID:343A6D01-7373-405B-9427-CB56B07F8CCD-16-761_awayreminder@121.badmintonn
 ers.net
DTSTAMP:20260420T055145Z
SUMMARY:Uitmatch bevestigd? (Klein Boom 7G (110) - Plumula 3G (105))
DESCRIPTION:Je hebt 72 uur na aanvang om een uitmatch op Badmintonvlaandere
 n in te vullen. Match info: Klein Boom 7G (110) - Plumula 3G (105) - Link:
  https://www.badmintonvlaanderen.be/sport/teammatch.aspx?id=343A6D01-7373-
 405B-9427-CB56B07F8CCD&match=761
DTSTART;TZID=Europe/Brussels:20220309T190000
DTEND;TZID=Europe/Brussels:20220309T190000
END:VEVENT
BEGIN:VEVENT
UID:343A6D01-7373-405B-9427-CB56B07F8CCD-16-757_awayreminder@121.badmintonn
 ers.net
DTSTAMP:20260420T055145Z
SUMMARY:Uitmatch bevestigd? (Brasschaat 6G (108) - Plumula 3G (105))
DESCRIPTION:Je hebt 72 uur na aanvang om een uitmatch op Badmintonvlaandere
 n in te vullen. Match info: Brasschaat 6G (108) - Plumula 3G (105) - Link:
  https://www.badmintonvlaanderen.be/sport/teammatch.aspx?id=343A6D01-7373-
 405B-9427-CB56B07F8CCD&match=757
DTSTART;TZID=Europe/Brussels:20220323T190000
DTEND;TZID=Europe/Brussels:20220323T190000
END:VEVENT
END:VCALENDAR