BEGIN:VCALENDAR
VERSION:2.0
PRODID:spatie/icalendar-generator
NAME:berlaar_2g_113_reminders
X-WR-CALNAME:berlaar_2g_113_reminders
BEGIN:VTIMEZONE
TZID:Europe/Brussels
BEGIN:DAYLIGHT
DTSTART:20210328T010000
TZOFFSETFROM:+0100
TZOFFSETTO:+0200
END:DAYLIGHT
BEGIN:STANDARD
DTSTART:20211031T030000
TZOFFSETFROM:+0200
TZOFFSETTO:+0100
END:STANDARD
BEGIN:DAYLIGHT
DTSTART:20220327T010000
TZOFFSETFROM:+0100
TZOFFSETTO:+0200
END:DAYLIGHT
END:VTIMEZONE
BEGIN:VTIMEZONE
TZID:UTC
BEGIN:STANDARD
DTSTART:20250724T055141
TZOFFSETFROM:+0000
TZOFFSETTO:+0000
END:STANDARD
END:VTIMEZONE
BEGIN:VEVENT
UID:343A6D01-7373-405B-9427-CB56B07F8CCD-16-748_homereminder@167.badmintonn
 ers.net
DTSTAMP:20260420T055141Z
SUMMARY:Thuismatch ingevuld? (Berlaar 2G (113) - Klein Boom 7G (110))
DESCRIPTION:Je hebt 36 uur na aanvang om een thuismatch op Badmintonvlaande
 ren in te vullen. Match info: Berlaar 2G (113) - Klein Boom 7G (110) - Lin
 k: https://www.badmintonvlaanderen.be/sport/teammatch.aspx?id=343A6D01-737
 3-405B-9427-CB56B07F8CCD&match=748
DTSTART;TZID=Europe/Brussels:20211004T213000
DTEND;TZID=Europe/Brussels:20211004T213000
END:VEVENT
BEGIN:VEVENT
UID:343A6D01-7373-405B-9427-CB56B07F8CCD-16-760_homereminder@167.badmintonn
 ers.net
DTSTAMP:20260420T055141Z
SUMMARY:Thuismatch ingevuld? (Berlaar 2G (113) - Plumula 3G (105))
DESCRIPTION:Je hebt 36 uur na aanvang om een thuismatch op Badmintonvlaande
 ren in te vullen. Match info: Berlaar 2G (113) - Plumula 3G (105) - Link: 
 https://www.badmintonvlaanderen.be/sport/teammatch.aspx?id=343A6D01-7373-4
 05B-9427-CB56B07F8CCD&match=760
DTSTART;TZID=Europe/Brussels:20211213T213000
DTEND;TZID=Europe/Brussels:20211213T213000
END:VEVENT
BEGIN:VEVENT
UID:343A6D01-7373-405B-9427-CB56B07F8CCD-16-729_homereminder@167.badmintonn
 ers.net
DTSTAMP:20260420T055141Z
SUMMARY:Thuismatch ingevuld? (Berlaar 2G (113) - Amateurs 3G (111))
DESCRIPTION:Je hebt 36 uur na aanvang om een thuismatch op Badmintonvlaande
 ren in te vullen. Match info: Berlaar 2G (113) - Amateurs 3G (111) - Link:
  https://www.badmintonvlaanderen.be/sport/teammatch.aspx?id=343A6D01-7373-
 405B-9427-CB56B07F8CCD&match=729
DTSTART;TZID=Europe/Brussels:20211220T220000
DTEND;TZID=Europe/Brussels:20211220T220000
END:VEVENT
BEGIN:VEVENT
UID:343A6D01-7373-405B-9427-CB56B07F8CCD-16-754_homereminder@167.badmintonn
 ers.net
DTSTAMP:20260420T055141Z
SUMMARY:Thuismatch ingevuld? (Berlaar 2G (113) - Spinshuttle 4G (103))
DESCRIPTION:Je hebt 36 uur na aanvang om een thuismatch op Badmintonvlaande
 ren in te vullen. Match info: Berlaar 2G (113) - Spinshuttle 4G (103) - Li
 nk: https://www.badmintonvlaanderen.be/sport/teammatch.aspx?id=343A6D01-73
 73-405B-9427-CB56B07F8CCD&match=754
DTSTART;TZID=Europe/Brussels:20220110T213000
DTEND;TZID=Europe/Brussels:20220110T213000
END:VEVENT
BEGIN:VEVENT
UID:343A6D01-7373-405B-9427-CB56B07F8CCD-16-735_homereminder@167.badmintonn
 ers.net
DTSTAMP:20260420T055141Z
SUMMARY:Thuismatch ingevuld? (Berlaar 2G (113) - Duffel 2G (107))
DESCRIPTION:Je hebt 36 uur na aanvang om een thuismatch op Badmintonvlaande
 ren in te vullen. Match info: Berlaar 2G (113) - Duffel 2G (107) - Link: h
 ttps://www.badmintonvlaanderen.be/sport/teammatch.aspx?id=343A6D01-7373-40
 5B-9427-CB56B07F8CCD&match=735
DTSTART;TZID=Europe/Brussels:20220321T213000
DTEND;TZID=Europe/Brussels:20220321T213000
END:VEVENT
BEGIN:VEVENT
UID:343A6D01-7373-405B-9427-CB56B07F8CCD-16-723_homereminder@167.badmintonn
 ers.net
DTSTAMP:20260420T055141Z
SUMMARY:Thuismatch ingevuld? (Berlaar 2G (113) - Brasschaat 6G (108))
DESCRIPTION:Je hebt 36 uur na aanvang om een thuismatch op Badmintonvlaande
 ren in te vullen. Match info: Berlaar 2G (113) - Brasschaat 6G (108) - Lin
 k: https://www.badmintonvlaanderen.be/sport/teammatch.aspx?id=343A6D01-737
 3-405B-9427-CB56B07F8CCD&match=723
DTSTART;TZID=Europe/Brussels:20220404T213000
DTEND;TZID=Europe/Brussels:20220404T213000
END:VEVENT
BEGIN:VEVENT
UID:343A6D01-7373-405B-9427-CB56B07F8CCD-16-739_awayreminder@167.badmintonn
 ers.net
DTSTAMP:20260420T055141Z
SUMMARY:Uitmatch bevestigd? (Brasschaat 6G (108) - Berlaar 2G (113))
DESCRIPTION:Je hebt 72 uur na aanvang om een uitmatch op Badmintonvlaandere
 n in te vullen. Match info: Brasschaat 6G (108) - Berlaar 2G (113) - Link:
  https://www.badmintonvlaanderen.be/sport/teammatch.aspx?id=343A6D01-7373-
 405B-9427-CB56B07F8CCD&match=739
DTSTART;TZID=Europe/Brussels:20211027T190000
DTEND;TZID=Europe/Brussels:20211027T190000
END:VEVENT
BEGIN:VEVENT
UID:343A6D01-7373-405B-9427-CB56B07F8CCD-16-743_awayreminder@167.badmintonn
 ers.net
DTSTAMP:20260420T055141Z
SUMMARY:Uitmatch bevestigd? (Spinshuttle 4G (103) - Berlaar 2G (113))
DESCRIPTION:Je hebt 72 uur na aanvang om een uitmatch op Badmintonvlaandere
 n in te vullen. Match info: Spinshuttle 4G (103) - Berlaar 2G (113) - Link
 : https://www.badmintonvlaanderen.be/sport/teammatch.aspx?id=343A6D01-7373
 -405B-9427-CB56B07F8CCD&match=743
DTSTART;TZID=Europe/Brussels:20211105T200000
DTEND;TZID=Europe/Brussels:20211105T200000
END:VEVENT
BEGIN:VEVENT
UID:343A6D01-7373-405B-9427-CB56B07F8CCD-16-741_awayreminder@167.badmintonn
 ers.net
DTSTAMP:20260420T055141Z
SUMMARY:Uitmatch bevestigd? (Duffel 2G (107) - Berlaar 2G (113))
DESCRIPTION:Je hebt 72 uur na aanvang om een uitmatch op Badmintonvlaandere
 n in te vullen. Match info: Duffel 2G (107) - Berlaar 2G (113) - Link: htt
 ps://www.badmintonvlaanderen.be/sport/teammatch.aspx?id=343A6D01-7373-405B
 -9427-CB56B07F8CCD&match=741
DTSTART;TZID=Europe/Brussels:20211201T200000
DTEND;TZID=Europe/Brussels:20211201T200000
END:VEVENT
BEGIN:VEVENT
UID:343A6D01-7373-405B-9427-CB56B07F8CCD-16-744_awayreminder@167.badmintonn
 ers.net
DTSTAMP:20260420T055141Z
SUMMARY:Uitmatch bevestigd? (Plumula 3G (105) - Berlaar 2G (113))
DESCRIPTION:Je hebt 72 uur na aanvang om een uitmatch op Badmintonvlaandere
 n in te vullen. Match info: Plumula 3G (105) - Berlaar 2G (113) - Link: ht
 tps://www.badmintonvlaanderen.be/sport/teammatch.aspx?id=343A6D01-7373-405
 B-9427-CB56B07F8CCD&match=744
DTSTART;TZID=Europe/Brussels:20220223T173000
DTEND;TZID=Europe/Brussels:20220223T173000
END:VEVENT
BEGIN:VEVENT
UID:343A6D01-7373-405B-9427-CB56B07F8CCD-16-742_awayreminder@167.badmintonn
 ers.net
DTSTAMP:20260420T055141Z
SUMMARY:Uitmatch bevestigd? (Klein Boom 7G (110) - Berlaar 2G (113))
DESCRIPTION:Je hebt 72 uur na aanvang om een uitmatch op Badmintonvlaandere
 n in te vullen. Match info: Klein Boom 7G (110) - Berlaar 2G (113) - Link:
  https://www.badmintonvlaanderen.be/sport/teammatch.aspx?id=343A6D01-7373-
 405B-9427-CB56B07F8CCD&match=742
DTSTART;TZID=Europe/Brussels:20220413T190000
DTEND;TZID=Europe/Brussels:20220413T190000
END:VEVENT
BEGIN:VEVENT
UID:343A6D01-7373-405B-9427-CB56B07F8CCD-16-740_awayreminder@167.badmintonn
 ers.net
DTSTAMP:20260420T055141Z
SUMMARY:Uitmatch bevestigd? (Amateurs 3G (111) - Berlaar 2G (113))
DESCRIPTION:Je hebt 72 uur na aanvang om een uitmatch op Badmintonvlaandere
 n in te vullen. Match info: Amateurs 3G (111) - Berlaar 2G (113) - Link: h
 ttps://www.badmintonvlaanderen.be/sport/teammatch.aspx?id=343A6D01-7373-40
 5B-9427-CB56B07F8CCD&match=740
DTSTART;TZID=Europe/Brussels:20220417T210000
DTEND;TZID=Europe/Brussels:20220417T210000
END:VEVENT
END:VCALENDAR