BEGIN:VCALENDAR
VERSION:2.0
PRODID:spatie/icalendar-generator
NAME:spinshuttle_4g_103_reminders
X-WR-CALNAME:spinshuttle_4g_103_reminders
BEGIN:VTIMEZONE
TZID:Europe/Brussels
BEGIN:DAYLIGHT
DTSTART:20210328T010000
TZOFFSETFROM:+0100
TZOFFSETTO:+0200
END:DAYLIGHT
BEGIN:STANDARD
DTSTART:20211031T030000
TZOFFSETFROM:+0200
TZOFFSETTO:+0100
END:STANDARD
BEGIN:DAYLIGHT
DTSTART:20220327T010000
TZOFFSETFROM:+0100
TZOFFSETTO:+0200
END:DAYLIGHT
BEGIN:STANDARD
DTSTART:20221030T030000
TZOFFSETFROM:+0200
TZOFFSETTO:+0100
END:STANDARD
END:VTIMEZONE
BEGIN:VTIMEZONE
TZID:UTC
BEGIN:STANDARD
DTSTART:20250724T055146
TZOFFSETFROM:+0000
TZOFFSETTO:+0000
END:STANDARD
END:VTIMEZONE
BEGIN:VEVENT
UID:343A6D01-7373-405B-9427-CB56B07F8CCD-16-762_homereminder@210.badmintonn
 ers.net
DTSTAMP:20260420T055146Z
SUMMARY:Thuismatch ingevuld? (Spinshuttle 4G (103) - Plumula 3G (105))
DESCRIPTION:Je hebt 36 uur na aanvang om een thuismatch op Badmintonvlaande
 ren in te vullen. Match info: Spinshuttle 4G (103) - Plumula 3G (105) - Li
 nk: https://www.badmintonvlaanderen.be/sport/teammatch.aspx?id=343A6D01-73
 73-405B-9427-CB56B07F8CCD&match=762
DTSTART;TZID=Europe/Brussels:20211028T080000
DTEND;TZID=Europe/Brussels:20211028T080000
END:VEVENT
BEGIN:VEVENT
UID:343A6D01-7373-405B-9427-CB56B07F8CCD-16-743_homereminder@210.badmintonn
 ers.net
DTSTAMP:20260420T055146Z
SUMMARY:Thuismatch ingevuld? (Spinshuttle 4G (103) - Berlaar 2G (113))
DESCRIPTION:Je hebt 36 uur na aanvang om een thuismatch op Badmintonvlaande
 ren in te vullen. Match info: Spinshuttle 4G (103) - Berlaar 2G (113) - Li
 nk: https://www.badmintonvlaanderen.be/sport/teammatch.aspx?id=343A6D01-73
 73-405B-9427-CB56B07F8CCD&match=743
DTSTART;TZID=Europe/Brussels:20211104T080000
DTEND;TZID=Europe/Brussels:20211104T080000
END:VEVENT
BEGIN:VEVENT
UID:343A6D01-7373-405B-9427-CB56B07F8CCD-16-731_homereminder@210.badmintonn
 ers.net
DTSTAMP:20260420T055146Z
SUMMARY:Thuismatch ingevuld? (Spinshuttle 4G (103) - Amateurs 3G (111))
DESCRIPTION:Je hebt 36 uur na aanvang om een thuismatch op Badmintonvlaande
 ren in te vullen. Match info: Spinshuttle 4G (103) - Amateurs 3G (111) - L
 ink: https://www.badmintonvlaanderen.be/sport/teammatch.aspx?id=343A6D01-7
 373-405B-9427-CB56B07F8CCD&match=731
DTSTART;TZID=Europe/Brussels:20211209T080000
DTEND;TZID=Europe/Brussels:20211209T080000
END:VEVENT
BEGIN:VEVENT
UID:343A6D01-7373-405B-9427-CB56B07F8CCD-16-737_homereminder@210.badmintonn
 ers.net
DTSTAMP:20260420T055146Z
SUMMARY:Thuismatch ingevuld? (Spinshuttle 4G (103) - Duffel 2G (107))
DESCRIPTION:Je hebt 36 uur na aanvang om een thuismatch op Badmintonvlaande
 ren in te vullen. Match info: Spinshuttle 4G (103) - Duffel 2G (107) - Lin
 k: https://www.badmintonvlaanderen.be/sport/teammatch.aspx?id=343A6D01-737
 3-405B-9427-CB56B07F8CCD&match=737
DTSTART;TZID=Europe/Brussels:20220106T080000
DTEND;TZID=Europe/Brussels:20220106T080000
END:VEVENT
BEGIN:VEVENT
UID:343A6D01-7373-405B-9427-CB56B07F8CCD-16-725_homereminder@210.badmintonn
 ers.net
DTSTAMP:20260420T055146Z
SUMMARY:Thuismatch ingevuld? (Spinshuttle 4G (103) - Brasschaat 6G (108))
DESCRIPTION:Je hebt 36 uur na aanvang om een thuismatch op Badmintonvlaande
 ren in te vullen. Match info: Spinshuttle 4G (103) - Brasschaat 6G (108) -
  Link: https://www.badmintonvlaanderen.be/sport/teammatch.aspx?id=343A6D01
 -7373-405B-9427-CB56B07F8CCD&match=725
DTSTART;TZID=Europe/Brussels:20220414T080000
DTEND;TZID=Europe/Brussels:20220414T080000
END:VEVENT
BEGIN:VEVENT
UID:343A6D01-7373-405B-9427-CB56B07F8CCD-16-749_homereminder@210.badmintonn
 ers.net
DTSTAMP:20260420T055146Z
SUMMARY:Thuismatch ingevuld? (Spinshuttle 4G (103) - Klein Boom 7G (110))
DESCRIPTION:Je hebt 36 uur na aanvang om een thuismatch op Badmintonvlaande
 ren in te vullen. Match info: Spinshuttle 4G (103) - Klein Boom 7G (110) -
  Link: https://www.badmintonvlaanderen.be/sport/teammatch.aspx?id=343A6D01
 -7373-405B-9427-CB56B07F8CCD&match=749
DTSTART;TZID=Europe/Brussels:20220428T080000
DTEND;TZID=Europe/Brussels:20220428T080000
END:VEVENT
BEGIN:VEVENT
UID:343A6D01-7373-405B-9427-CB56B07F8CCD-16-753_awayreminder@210.badmintonn
 ers.net
DTSTAMP:20260420T055146Z
SUMMARY:Uitmatch bevestigd? (Duffel 2G (107) - Spinshuttle 4G (103))
DESCRIPTION:Je hebt 72 uur na aanvang om een uitmatch op Badmintonvlaandere
 n in te vullen. Match info: Duffel 2G (107) - Spinshuttle 4G (103) - Link:
  https://www.badmintonvlaanderen.be/sport/teammatch.aspx?id=343A6D01-7373-
 405B-9427-CB56B07F8CCD&match=753
DTSTART;TZID=Europe/Brussels:20211006T200000
DTEND;TZID=Europe/Brussels:20211006T200000
END:VEVENT
BEGIN:VEVENT
UID:343A6D01-7373-405B-9427-CB56B07F8CCD-16-751_awayreminder@210.badmintonn
 ers.net
DTSTAMP:20260420T055146Z
SUMMARY:Uitmatch bevestigd? (Brasschaat 6G (108) - Spinshuttle 4G (103))
DESCRIPTION:Je hebt 72 uur na aanvang om een uitmatch op Badmintonvlaandere
 n in te vullen. Match info: Brasschaat 6G (108) - Spinshuttle 4G (103) - L
 ink: https://www.badmintonvlaanderen.be/sport/teammatch.aspx?id=343A6D01-7
 373-405B-9427-CB56B07F8CCD&match=751
DTSTART;TZID=Europe/Brussels:20211201T190000
DTEND;TZID=Europe/Brussels:20211201T190000
END:VEVENT
BEGIN:VEVENT
UID:343A6D01-7373-405B-9427-CB56B07F8CCD-16-755_awayreminder@210.badmintonn
 ers.net
DTSTAMP:20260420T055146Z
SUMMARY:Uitmatch bevestigd? (Klein Boom 7G (110) - Spinshuttle 4G (103))
DESCRIPTION:Je hebt 72 uur na aanvang om een uitmatch op Badmintonvlaandere
 n in te vullen. Match info: Klein Boom 7G (110) - Spinshuttle 4G (103) - L
 ink: https://www.badmintonvlaanderen.be/sport/teammatch.aspx?id=343A6D01-7
 373-405B-9427-CB56B07F8CCD&match=755
DTSTART;TZID=Europe/Brussels:20211215T190000
DTEND;TZID=Europe/Brussels:20211215T190000
END:VEVENT
BEGIN:VEVENT
UID:343A6D01-7373-405B-9427-CB56B07F8CCD-16-754_awayreminder@210.badmintonn
 ers.net
DTSTAMP:20260420T055146Z
SUMMARY:Uitmatch bevestigd? (Berlaar 2G (113) - Spinshuttle 4G (103))
DESCRIPTION:Je hebt 72 uur na aanvang om een uitmatch op Badmintonvlaandere
 n in te vullen. Match info: Berlaar 2G (113) - Spinshuttle 4G (103) - Link
 : https://www.badmintonvlaanderen.be/sport/teammatch.aspx?id=343A6D01-7373
 -405B-9427-CB56B07F8CCD&match=754
DTSTART;TZID=Europe/Brussels:20220112T093000
DTEND;TZID=Europe/Brussels:20220112T093000
END:VEVENT
BEGIN:VEVENT
UID:343A6D01-7373-405B-9427-CB56B07F8CCD-16-752_awayreminder@210.badmintonn
 ers.net
DTSTAMP:20260420T055146Z
SUMMARY:Uitmatch bevestigd? (Amateurs 3G (111) - Spinshuttle 4G (103))
DESCRIPTION:Je hebt 72 uur na aanvang om een uitmatch op Badmintonvlaandere
 n in te vullen. Match info: Amateurs 3G (111) - Spinshuttle 4G (103) - Lin
 k: https://www.badmintonvlaanderen.be/sport/teammatch.aspx?id=343A6D01-737
 3-405B-9427-CB56B07F8CCD&match=752
DTSTART;TZID=Europe/Brussels:20220403T210000
DTEND;TZID=Europe/Brussels:20220403T210000
END:VEVENT
BEGIN:VEVENT
UID:343A6D01-7373-405B-9427-CB56B07F8CCD-16-756_awayreminder@210.badmintonn
 ers.net
DTSTAMP:20260420T055146Z
SUMMARY:Uitmatch bevestigd? (Plumula 3G (105) - Spinshuttle 4G (103))
DESCRIPTION:Je hebt 72 uur na aanvang om een uitmatch op Badmintonvlaandere
 n in te vullen. Match info: Plumula 3G (105) - Spinshuttle 4G (103) - Link
 : https://www.badmintonvlaanderen.be/sport/teammatch.aspx?id=343A6D01-7373
 -405B-9427-CB56B07F8CCD&match=756
DTSTART;TZID=Europe/Brussels:20220406T173000
DTEND;TZID=Europe/Brussels:20220406T173000
END:VEVENT
END:VCALENDAR