BEGIN:VCALENDAR
VERSION:2.0
PRODID:spatie/icalendar-generator
NAME:brasschaat_6g_108_reminders
X-WR-CALNAME:brasschaat_6g_108_reminders
BEGIN:VTIMEZONE
TZID:Europe/Brussels
BEGIN:DAYLIGHT
DTSTART:20210328T010000
TZOFFSETFROM:+0100
TZOFFSETTO:+0200
END:DAYLIGHT
BEGIN:STANDARD
DTSTART:20211031T030000
TZOFFSETFROM:+0200
TZOFFSETTO:+0100
END:STANDARD
BEGIN:DAYLIGHT
DTSTART:20220327T010000
TZOFFSETFROM:+0100
TZOFFSETTO:+0200
END:DAYLIGHT
END:VTIMEZONE
BEGIN:VTIMEZONE
TZID:UTC
BEGIN:STANDARD
DTSTART:20250724T055107
TZOFFSETFROM:+0000
TZOFFSETTO:+0000
END:STANDARD
END:VTIMEZONE
BEGIN:VEVENT
UID:343A6D01-7373-405B-9427-CB56B07F8CCD-16-727_homereminder@33.badmintonne
 rs.net
DTSTAMP:20260420T055107Z
SUMMARY:Thuismatch ingevuld? (Brasschaat 6G (108) - Amateurs 3G (111))
DESCRIPTION:Je hebt 36 uur na aanvang om een thuismatch op Badmintonvlaande
 ren in te vullen. Match info: Brasschaat 6G (108) - Amateurs 3G (111) - Li
 nk: https://www.badmintonvlaanderen.be/sport/teammatch.aspx?id=343A6D01-73
 73-405B-9427-CB56B07F8CCD&match=727
DTSTART;TZID=Europe/Brussels:20210921T070000
DTEND;TZID=Europe/Brussels:20210921T070000
END:VEVENT
BEGIN:VEVENT
UID:343A6D01-7373-405B-9427-CB56B07F8CCD-16-739_homereminder@33.badmintonne
 rs.net
DTSTAMP:20260420T055107Z
SUMMARY:Thuismatch ingevuld? (Brasschaat 6G (108) - Berlaar 2G (113))
DESCRIPTION:Je hebt 36 uur na aanvang om een thuismatch op Badmintonvlaande
 ren in te vullen. Match info: Brasschaat 6G (108) - Berlaar 2G (113) - Lin
 k: https://www.badmintonvlaanderen.be/sport/teammatch.aspx?id=343A6D01-737
 3-405B-9427-CB56B07F8CCD&match=739
DTSTART;TZID=Europe/Brussels:20211026T070000
DTEND;TZID=Europe/Brussels:20211026T070000
END:VEVENT
BEGIN:VEVENT
UID:343A6D01-7373-405B-9427-CB56B07F8CCD-16-751_homereminder@33.badmintonne
 rs.net
DTSTAMP:20260420T055107Z
SUMMARY:Thuismatch ingevuld? (Brasschaat 6G (108) - Spinshuttle 4G (103))
DESCRIPTION:Je hebt 36 uur na aanvang om een thuismatch op Badmintonvlaande
 ren in te vullen. Match info: Brasschaat 6G (108) - Spinshuttle 4G (103) -
  Link: https://www.badmintonvlaanderen.be/sport/teammatch.aspx?id=343A6D01
 -7373-405B-9427-CB56B07F8CCD&match=751
DTSTART;TZID=Europe/Brussels:20211130T070000
DTEND;TZID=Europe/Brussels:20211130T070000
END:VEVENT
BEGIN:VEVENT
UID:343A6D01-7373-405B-9427-CB56B07F8CCD-16-745_homereminder@33.badmintonne
 rs.net
DTSTAMP:20260420T055107Z
SUMMARY:Thuismatch ingevuld? (Brasschaat 6G (108) - Klein Boom 7G (110))
DESCRIPTION:Je hebt 36 uur na aanvang om een thuismatch op Badmintonvlaande
 ren in te vullen. Match info: Brasschaat 6G (108) - Klein Boom 7G (110) - 
 Link: https://www.badmintonvlaanderen.be/sport/teammatch.aspx?id=343A6D01-
 7373-405B-9427-CB56B07F8CCD&match=745
DTSTART;TZID=Europe/Brussels:20220222T070000
DTEND;TZID=Europe/Brussels:20220222T070000
END:VEVENT
BEGIN:VEVENT
UID:343A6D01-7373-405B-9427-CB56B07F8CCD-16-757_homereminder@33.badmintonne
 rs.net
DTSTAMP:20260420T055107Z
SUMMARY:Thuismatch ingevuld? (Brasschaat 6G (108) - Plumula 3G (105))
DESCRIPTION:Je hebt 36 uur na aanvang om een thuismatch op Badmintonvlaande
 ren in te vullen. Match info: Brasschaat 6G (108) - Plumula 3G (105) - Lin
 k: https://www.badmintonvlaanderen.be/sport/teammatch.aspx?id=343A6D01-737
 3-405B-9427-CB56B07F8CCD&match=757
DTSTART;TZID=Europe/Brussels:20220322T070000
DTEND;TZID=Europe/Brussels:20220322T070000
END:VEVENT
BEGIN:VEVENT
UID:343A6D01-7373-405B-9427-CB56B07F8CCD-16-733_homereminder@33.badmintonne
 rs.net
DTSTAMP:20260420T055107Z
SUMMARY:Thuismatch ingevuld? (Brasschaat 6G (108) - Duffel 2G (107))
DESCRIPTION:Je hebt 36 uur na aanvang om een thuismatch op Badmintonvlaande
 ren in te vullen. Match info: Brasschaat 6G (108) - Duffel 2G (107) - Link
 : https://www.badmintonvlaanderen.be/sport/teammatch.aspx?id=343A6D01-7373
 -405B-9427-CB56B07F8CCD&match=733
DTSTART;TZID=Europe/Brussels:20220412T070000
DTEND;TZID=Europe/Brussels:20220412T070000
END:VEVENT
BEGIN:VEVENT
UID:343A6D01-7373-405B-9427-CB56B07F8CCD-16-724_awayreminder@33.badmintonne
 rs.net
DTSTAMP:20260420T055107Z
SUMMARY:Uitmatch bevestigd? (Klein Boom 7G (110) - Brasschaat 6G (108))
DESCRIPTION:Je hebt 72 uur na aanvang om een uitmatch op Badmintonvlaandere
 n in te vullen. Match info: Klein Boom 7G (110) - Brasschaat 6G (108) - Li
 nk: https://www.badmintonvlaanderen.be/sport/teammatch.aspx?id=343A6D01-73
 73-405B-9427-CB56B07F8CCD&match=724
DTSTART;TZID=Europe/Brussels:20211103T190000
DTEND;TZID=Europe/Brussels:20211103T190000
END:VEVENT
BEGIN:VEVENT
UID:343A6D01-7373-405B-9427-CB56B07F8CCD-16-726_awayreminder@33.badmintonne
 rs.net
DTSTAMP:20260420T055107Z
SUMMARY:Uitmatch bevestigd? (Plumula 3G (105) - Brasschaat 6G (108))
DESCRIPTION:Je hebt 72 uur na aanvang om een uitmatch op Badmintonvlaandere
 n in te vullen. Match info: Plumula 3G (105) - Brasschaat 6G (108) - Link:
  https://www.badmintonvlaanderen.be/sport/teammatch.aspx?id=343A6D01-7373-
 405B-9427-CB56B07F8CCD&match=726
DTSTART;TZID=Europe/Brussels:20211117T173000
DTEND;TZID=Europe/Brussels:20211117T173000
END:VEVENT
BEGIN:VEVENT
UID:343A6D01-7373-405B-9427-CB56B07F8CCD-16-722_awayreminder@33.badmintonne
 rs.net
DTSTAMP:20260420T055107Z
SUMMARY:Uitmatch bevestigd? (Duffel 2G (107) - Brasschaat 6G (108))
DESCRIPTION:Je hebt 72 uur na aanvang om een uitmatch op Badmintonvlaandere
 n in te vullen. Match info: Duffel 2G (107) - Brasschaat 6G (108) - Link: 
 https://www.badmintonvlaanderen.be/sport/teammatch.aspx?id=343A6D01-7373-4
 05B-9427-CB56B07F8CCD&match=722
DTSTART;TZID=Europe/Brussels:20211215T200000
DTEND;TZID=Europe/Brussels:20211215T200000
END:VEVENT
BEGIN:VEVENT
UID:343A6D01-7373-405B-9427-CB56B07F8CCD-16-721_awayreminder@33.badmintonne
 rs.net
DTSTAMP:20260420T055107Z
SUMMARY:Uitmatch bevestigd? (Amateurs 3G (111) - Brasschaat 6G (108))
DESCRIPTION:Je hebt 72 uur na aanvang om een uitmatch op Badmintonvlaandere
 n in te vullen. Match info: Amateurs 3G (111) - Brasschaat 6G (108) - Link
 : https://www.badmintonvlaanderen.be/sport/teammatch.aspx?id=343A6D01-7373
 -405B-9427-CB56B07F8CCD&match=721
DTSTART;TZID=Europe/Brussels:20220206T210000
DTEND;TZID=Europe/Brussels:20220206T210000
END:VEVENT
BEGIN:VEVENT
UID:343A6D01-7373-405B-9427-CB56B07F8CCD-16-723_awayreminder@33.badmintonne
 rs.net
DTSTAMP:20260420T055107Z
SUMMARY:Uitmatch bevestigd? (Berlaar 2G (113) - Brasschaat 6G (108))
DESCRIPTION:Je hebt 72 uur na aanvang om een uitmatch op Badmintonvlaandere
 n in te vullen. Match info: Berlaar 2G (113) - Brasschaat 6G (108) - Link:
  https://www.badmintonvlaanderen.be/sport/teammatch.aspx?id=343A6D01-7373-
 405B-9427-CB56B07F8CCD&match=723
DTSTART;TZID=Europe/Brussels:20220406T093000
DTEND;TZID=Europe/Brussels:20220406T093000
END:VEVENT
BEGIN:VEVENT
UID:343A6D01-7373-405B-9427-CB56B07F8CCD-16-725_awayreminder@33.badmintonne
 rs.net
DTSTAMP:20260420T055107Z
SUMMARY:Uitmatch bevestigd? (Spinshuttle 4G (103) - Brasschaat 6G (108))
DESCRIPTION:Je hebt 72 uur na aanvang om een uitmatch op Badmintonvlaandere
 n in te vullen. Match info: Spinshuttle 4G (103) - Brasschaat 6G (108) - L
 ink: https://www.badmintonvlaanderen.be/sport/teammatch.aspx?id=343A6D01-7
 373-405B-9427-CB56B07F8CCD&match=725
DTSTART;TZID=Europe/Brussels:20220415T200000
DTEND;TZID=Europe/Brussels:20220415T200000
END:VEVENT
END:VCALENDAR