BEGIN:VCALENDAR
VERSION:2.0
PRODID:spatie/icalendar-generator
NAME:duffel_2g_107_reminders
X-WR-CALNAME:duffel_2g_107_reminders
BEGIN:VTIMEZONE
TZID:Europe/Brussels
BEGIN:DAYLIGHT
DTSTART:20210328T010000
TZOFFSETFROM:+0100
TZOFFSETTO:+0200
END:DAYLIGHT
BEGIN:STANDARD
DTSTART:20211031T030000
TZOFFSETFROM:+0200
TZOFFSETTO:+0100
END:STANDARD
BEGIN:DAYLIGHT
DTSTART:20220327T010000
TZOFFSETFROM:+0100
TZOFFSETTO:+0200
END:DAYLIGHT
END:VTIMEZONE
BEGIN:VTIMEZONE
TZID:UTC
BEGIN:STANDARD
DTSTART:20250724T055111
TZOFFSETFROM:+0000
TZOFFSETTO:+0000
END:STANDARD
END:VTIMEZONE
BEGIN:VEVENT
UID:343A6D01-7373-405B-9427-CB56B07F8CCD-16-753_homereminder@5.badmintonner
 s.net
DTSTAMP:20260420T055111Z
SUMMARY:Thuismatch ingevuld? (Duffel 2G (107) - Spinshuttle 4G (103))
DESCRIPTION:Je hebt 36 uur na aanvang om een thuismatch op Badmintonvlaande
 ren in te vullen. Match info: Duffel 2G (107) - Spinshuttle 4G (103) - Lin
 k: https://www.badmintonvlaanderen.be/sport/teammatch.aspx?id=343A6D01-737
 3-405B-9427-CB56B07F8CCD&match=753
DTSTART;TZID=Europe/Brussels:20211005T080000
DTEND;TZID=Europe/Brussels:20211005T080000
END:VEVENT
BEGIN:VEVENT
UID:343A6D01-7373-405B-9427-CB56B07F8CCD-16-741_homereminder@5.badmintonner
 s.net
DTSTAMP:20260420T055111Z
SUMMARY:Thuismatch ingevuld? (Duffel 2G (107) - Berlaar 2G (113))
DESCRIPTION:Je hebt 36 uur na aanvang om een thuismatch op Badmintonvlaande
 ren in te vullen. Match info: Duffel 2G (107) - Berlaar 2G (113) - Link: h
 ttps://www.badmintonvlaanderen.be/sport/teammatch.aspx?id=343A6D01-7373-40
 5B-9427-CB56B07F8CCD&match=741
DTSTART;TZID=Europe/Brussels:20211130T080000
DTEND;TZID=Europe/Brussels:20211130T080000
END:VEVENT
BEGIN:VEVENT
UID:343A6D01-7373-405B-9427-CB56B07F8CCD-16-722_homereminder@5.badmintonner
 s.net
DTSTAMP:20260420T055111Z
SUMMARY:Thuismatch ingevuld? (Duffel 2G (107) - Brasschaat 6G (108))
DESCRIPTION:Je hebt 36 uur na aanvang om een thuismatch op Badmintonvlaande
 ren in te vullen. Match info: Duffel 2G (107) - Brasschaat 6G (108) - Link
 : https://www.badmintonvlaanderen.be/sport/teammatch.aspx?id=343A6D01-7373
 -405B-9427-CB56B07F8CCD&match=722
DTSTART;TZID=Europe/Brussels:20211214T080000
DTEND;TZID=Europe/Brussels:20211214T080000
END:VEVENT
BEGIN:VEVENT
UID:343A6D01-7373-405B-9427-CB56B07F8CCD-16-759_homereminder@5.badmintonner
 s.net
DTSTAMP:20260420T055111Z
SUMMARY:Thuismatch ingevuld? (Duffel 2G (107) - Plumula 3G (105))
DESCRIPTION:Je hebt 36 uur na aanvang om een thuismatch op Badmintonvlaande
 ren in te vullen. Match info: Duffel 2G (107) - Plumula 3G (105) - Link: h
 ttps://www.badmintonvlaanderen.be/sport/teammatch.aspx?id=343A6D01-7373-40
 5B-9427-CB56B07F8CCD&match=759
DTSTART;TZID=Europe/Brussels:20220208T080000
DTEND;TZID=Europe/Brussels:20220208T080000
END:VEVENT
BEGIN:VEVENT
UID:343A6D01-7373-405B-9427-CB56B07F8CCD-16-728_homereminder@5.badmintonner
 s.net
DTSTAMP:20260420T055111Z
SUMMARY:Thuismatch ingevuld? (Duffel 2G (107) - Amateurs 3G (111))
DESCRIPTION:Je hebt 36 uur na aanvang om een thuismatch op Badmintonvlaande
 ren in te vullen. Match info: Duffel 2G (107) - Amateurs 3G (111) - Link: 
 https://www.badmintonvlaanderen.be/sport/teammatch.aspx?id=343A6D01-7373-4
 05B-9427-CB56B07F8CCD&match=728
DTSTART;TZID=Europe/Brussels:20220308T080000
DTEND;TZID=Europe/Brussels:20220308T080000
END:VEVENT
BEGIN:VEVENT
UID:343A6D01-7373-405B-9427-CB56B07F8CCD-16-747_homereminder@5.badmintonner
 s.net
DTSTAMP:20260420T055111Z
SUMMARY:Thuismatch ingevuld? (Duffel 2G (107) - Klein Boom 7G (110))
DESCRIPTION:Je hebt 36 uur na aanvang om een thuismatch op Badmintonvlaande
 ren in te vullen. Match info: Duffel 2G (107) - Klein Boom 7G (110) - Link
 : https://www.badmintonvlaanderen.be/sport/teammatch.aspx?id=343A6D01-7373
 -405B-9427-CB56B07F8CCD&match=747
DTSTART;TZID=Europe/Brussels:20220405T080000
DTEND;TZID=Europe/Brussels:20220405T080000
END:VEVENT
BEGIN:VEVENT
UID:343A6D01-7373-405B-9427-CB56B07F8CCD-16-736_awayreminder@5.badmintonner
 s.net
DTSTAMP:20260420T055111Z
SUMMARY:Uitmatch bevestigd? (Klein Boom 7G (110) - Duffel 2G (107))
DESCRIPTION:Je hebt 72 uur na aanvang om een uitmatch op Badmintonvlaandere
 n in te vullen. Match info: Klein Boom 7G (110) - Duffel 2G (107) - Link: 
 https://www.badmintonvlaanderen.be/sport/teammatch.aspx?id=343A6D01-7373-4
 05B-9427-CB56B07F8CCD&match=736
DTSTART;TZID=Europe/Brussels:20210908T190000
DTEND;TZID=Europe/Brussels:20210908T190000
END:VEVENT
BEGIN:VEVENT
UID:343A6D01-7373-405B-9427-CB56B07F8CCD-16-738_awayreminder@5.badmintonner
 s.net
DTSTAMP:20260420T055111Z
SUMMARY:Uitmatch bevestigd? (Plumula 3G (105) - Duffel 2G (107))
DESCRIPTION:Je hebt 72 uur na aanvang om een uitmatch op Badmintonvlaandere
 n in te vullen. Match info: Plumula 3G (105) - Duffel 2G (107) - Link: htt
 ps://www.badmintonvlaanderen.be/sport/teammatch.aspx?id=343A6D01-7373-405B
 -9427-CB56B07F8CCD&match=738
DTSTART;TZID=Europe/Brussels:20210922T173000
DTEND;TZID=Europe/Brussels:20210922T173000
END:VEVENT
BEGIN:VEVENT
UID:343A6D01-7373-405B-9427-CB56B07F8CCD-16-734_awayreminder@5.badmintonner
 s.net
DTSTAMP:20260420T055111Z
SUMMARY:Uitmatch bevestigd? (Amateurs 3G (111) - Duffel 2G (107))
DESCRIPTION:Je hebt 72 uur na aanvang om een uitmatch op Badmintonvlaandere
 n in te vullen. Match info: Amateurs 3G (111) - Duffel 2G (107) - Link: ht
 tps://www.badmintonvlaanderen.be/sport/teammatch.aspx?id=343A6D01-7373-405
 B-9427-CB56B07F8CCD&match=734
DTSTART;TZID=Europe/Brussels:20211017T210000
DTEND;TZID=Europe/Brussels:20211017T210000
END:VEVENT
BEGIN:VEVENT
UID:343A6D01-7373-405B-9427-CB56B07F8CCD-16-737_awayreminder@5.badmintonner
 s.net
DTSTAMP:20260420T055111Z
SUMMARY:Uitmatch bevestigd? (Spinshuttle 4G (103) - Duffel 2G (107))
DESCRIPTION:Je hebt 72 uur na aanvang om een uitmatch op Badmintonvlaandere
 n in te vullen. Match info: Spinshuttle 4G (103) - Duffel 2G (107) - Link:
  https://www.badmintonvlaanderen.be/sport/teammatch.aspx?id=343A6D01-7373-
 405B-9427-CB56B07F8CCD&match=737
DTSTART;TZID=Europe/Brussels:20220107T200000
DTEND;TZID=Europe/Brussels:20220107T200000
END:VEVENT
BEGIN:VEVENT
UID:343A6D01-7373-405B-9427-CB56B07F8CCD-16-735_awayreminder@5.badmintonner
 s.net
DTSTAMP:20260420T055111Z
SUMMARY:Uitmatch bevestigd? (Berlaar 2G (113) - Duffel 2G (107))
DESCRIPTION:Je hebt 72 uur na aanvang om een uitmatch op Badmintonvlaandere
 n in te vullen. Match info: Berlaar 2G (113) - Duffel 2G (107) - Link: htt
 ps://www.badmintonvlaanderen.be/sport/teammatch.aspx?id=343A6D01-7373-405B
 -9427-CB56B07F8CCD&match=735
DTSTART;TZID=Europe/Brussels:20220323T093000
DTEND;TZID=Europe/Brussels:20220323T093000
END:VEVENT
BEGIN:VEVENT
UID:343A6D01-7373-405B-9427-CB56B07F8CCD-16-733_awayreminder@5.badmintonner
 s.net
DTSTAMP:20260420T055111Z
SUMMARY:Uitmatch bevestigd? (Brasschaat 6G (108) - Duffel 2G (107))
DESCRIPTION:Je hebt 72 uur na aanvang om een uitmatch op Badmintonvlaandere
 n in te vullen. Match info: Brasschaat 6G (108) - Duffel 2G (107) - Link: 
 https://www.badmintonvlaanderen.be/sport/teammatch.aspx?id=343A6D01-7373-4
 05B-9427-CB56B07F8CCD&match=733
DTSTART;TZID=Europe/Brussels:20220413T190000
DTEND;TZID=Europe/Brussels:20220413T190000
END:VEVENT
END:VCALENDAR