BEGIN:VCALENDAR
VERSION:2.0
PRODID:spatie/icalendar-generator
NAME:zoersel_4g_105_reminders
X-WR-CALNAME:zoersel_4g_105_reminders
BEGIN:VTIMEZONE
TZID:Europe/Brussels
BEGIN:DAYLIGHT
DTSTART:20210328T010000
TZOFFSETFROM:+0100
TZOFFSETTO:+0200
END:DAYLIGHT
BEGIN:STANDARD
DTSTART:20211031T030000
TZOFFSETFROM:+0200
TZOFFSETTO:+0100
END:STANDARD
BEGIN:DAYLIGHT
DTSTART:20220327T010000
TZOFFSETFROM:+0100
TZOFFSETTO:+0200
END:DAYLIGHT
END:VTIMEZONE
BEGIN:VTIMEZONE
TZID:UTC
BEGIN:STANDARD
DTSTART:20250724T055148
TZOFFSETFROM:+0000
TZOFFSETTO:+0000
END:STANDARD
END:VTIMEZONE
BEGIN:VEVENT
UID:343A6D01-7373-405B-9427-CB56B07F8CCD-17-807_homereminder@100.badmintonn
 ers.net
DTSTAMP:20260420T055148Z
SUMMARY:Thuismatch ingevuld? (Zoersel 4G (105) - Waverse 3G (109))
DESCRIPTION:Je hebt 36 uur na aanvang om een thuismatch op Badmintonvlaande
 ren in te vullen. Match info: Zoersel 4G (105) - Waverse 3G (109) - Link: 
 https://www.badmintonvlaanderen.be/sport/teammatch.aspx?id=343A6D01-7373-4
 05B-9427-CB56B07F8CCD&match=807
DTSTART;TZID=Europe/Brussels:20210921T000000
DTEND;TZID=Europe/Brussels:20210921T000000
END:VEVENT
BEGIN:VEVENT
UID:343A6D01-7373-405B-9427-CB56B07F8CCD-17-795_homereminder@100.badmintonn
 ers.net
DTSTAMP:20260420T055148Z
SUMMARY:Thuismatch ingevuld? (Zoersel 4G (105) - Beerke 3G (106))
DESCRIPTION:Je hebt 36 uur na aanvang om een thuismatch op Badmintonvlaande
 ren in te vullen. Match info: Zoersel 4G (105) - Beerke 3G (106) - Link: h
 ttps://www.badmintonvlaanderen.be/sport/teammatch.aspx?id=343A6D01-7373-40
 5B-9427-CB56B07F8CCD&match=795
DTSTART;TZID=Europe/Brussels:20211005T000000
DTEND;TZID=Europe/Brussels:20211005T000000
END:VEVENT
BEGIN:VEVENT
UID:343A6D01-7373-405B-9427-CB56B07F8CCD-17-783_homereminder@100.badmintonn
 ers.net
DTSTAMP:20260420T055148Z
SUMMARY:Thuismatch ingevuld? (Zoersel 4G (105) - Spinshuttle 5G (112))
DESCRIPTION:Je hebt 36 uur na aanvang om een thuismatch op Badmintonvlaande
 ren in te vullen. Match info: Zoersel 4G (105) - Spinshuttle 5G (112) - Li
 nk: https://www.badmintonvlaanderen.be/sport/teammatch.aspx?id=343A6D01-73
 73-405B-9427-CB56B07F8CCD&match=783
DTSTART;TZID=Europe/Brussels:20211019T000000
DTEND;TZID=Europe/Brussels:20211019T000000
END:VEVENT
BEGIN:VEVENT
UID:343A6D01-7373-405B-9427-CB56B07F8CCD-17-789_homereminder@100.badmintonn
 ers.net
DTSTAMP:20260420T055148Z
SUMMARY:Thuismatch ingevuld? (Zoersel 4G (105) - Rijkerack 4G (107))
DESCRIPTION:Je hebt 36 uur na aanvang om een thuismatch op Badmintonvlaande
 ren in te vullen. Match info: Zoersel 4G (105) - Rijkerack 4G (107) - Link
 : https://www.badmintonvlaanderen.be/sport/teammatch.aspx?id=343A6D01-7373
 -405B-9427-CB56B07F8CCD&match=789
DTSTART;TZID=Europe/Brussels:20220125T000000
DTEND;TZID=Europe/Brussels:20220125T000000
END:VEVENT
BEGIN:VEVENT
UID:343A6D01-7373-405B-9427-CB56B07F8CCD-17-801_homereminder@100.badmintonn
 ers.net
DTSTAMP:20260420T055148Z
SUMMARY:Thuismatch ingevuld? (Zoersel 4G (105) - Sint Job 1G (107))
DESCRIPTION:Je hebt 36 uur na aanvang om een thuismatch op Badmintonvlaande
 ren in te vullen. Match info: Zoersel 4G (105) - Sint Job 1G (107) - Link:
  https://www.badmintonvlaanderen.be/sport/teammatch.aspx?id=343A6D01-7373-
 405B-9427-CB56B07F8CCD&match=801
DTSTART;TZID=Europe/Brussels:20220322T000000
DTEND;TZID=Europe/Brussels:20220322T000000
END:VEVENT
BEGIN:VEVENT
UID:343A6D01-7373-405B-9427-CB56B07F8CCD-17-770_homereminder@100.badmintonn
 ers.net
DTSTAMP:20260420T055148Z
SUMMARY:Thuismatch ingevuld? (Zoersel 4G (105) - Klein Boom 8G (110))
DESCRIPTION:Je hebt 36 uur na aanvang om een thuismatch op Badmintonvlaande
 ren in te vullen. Match info: Zoersel 4G (105) - Klein Boom 8G (110) - Lin
 k: https://www.badmintonvlaanderen.be/sport/teammatch.aspx?id=343A6D01-737
 3-405B-9427-CB56B07F8CCD&match=770
DTSTART;TZID=Europe/Brussels:20220405T000000
DTEND;TZID=Europe/Brussels:20220405T000000
END:VEVENT
BEGIN:VEVENT
UID:343A6D01-7373-405B-9427-CB56B07F8CCD-17-778_awayreminder@100.badmintonn
 ers.net
DTSTAMP:20260420T055148Z
SUMMARY:Uitmatch bevestigd? (Rijkerack 4G (107) - Zoersel 4G (105))
DESCRIPTION:Je hebt 72 uur na aanvang om een uitmatch op Badmintonvlaandere
 n in te vullen. Match info: Rijkerack 4G (107) - Zoersel 4G (105) - Link: 
 https://www.badmintonvlaanderen.be/sport/teammatch.aspx?id=343A6D01-7373-4
 05B-9427-CB56B07F8CCD&match=778
DTSTART;TZID=Europe/Brussels:20211117T190000
DTEND;TZID=Europe/Brussels:20211117T190000
END:VEVENT
BEGIN:VEVENT
UID:343A6D01-7373-405B-9427-CB56B07F8CCD-17-780_awayreminder@100.badmintonn
 ers.net
DTSTAMP:20260420T055148Z
SUMMARY:Uitmatch bevestigd? (Sint Job 1G (107) - Zoersel 4G (105))
DESCRIPTION:Je hebt 72 uur na aanvang om een uitmatch op Badmintonvlaandere
 n in te vullen. Match info: Sint Job 1G (107) - Zoersel 4G (105) - Link: h
 ttps://www.badmintonvlaanderen.be/sport/teammatch.aspx?id=343A6D01-7373-40
 5B-9427-CB56B07F8CCD&match=780
DTSTART;TZID=Europe/Brussels:20211201T100000
DTEND;TZID=Europe/Brussels:20211201T100000
END:VEVENT
BEGIN:VEVENT
UID:343A6D01-7373-405B-9427-CB56B07F8CCD-17-776_awayreminder@100.badmintonn
 ers.net
DTSTAMP:20260420T055148Z
SUMMARY:Uitmatch bevestigd? (Klein Boom 8G (110) - Zoersel 4G (105))
DESCRIPTION:Je hebt 72 uur na aanvang om een uitmatch op Badmintonvlaandere
 n in te vullen. Match info: Klein Boom 8G (110) - Zoersel 4G (105) - Link:
  https://www.badmintonvlaanderen.be/sport/teammatch.aspx?id=343A6D01-7373-
 405B-9427-CB56B07F8CCD&match=776
DTSTART;TZID=Europe/Brussels:20211215T190000
DTEND;TZID=Europe/Brussels:20211215T190000
END:VEVENT
BEGIN:VEVENT
UID:343A6D01-7373-405B-9427-CB56B07F8CCD-17-781_awayreminder@100.badmintonn
 ers.net
DTSTAMP:20260420T055148Z
SUMMARY:Uitmatch bevestigd? (Waverse 3G (109) - Zoersel 4G (105))
DESCRIPTION:Je hebt 72 uur na aanvang om een uitmatch op Badmintonvlaandere
 n in te vullen. Match info: Waverse 3G (109) - Zoersel 4G (105) - Link: ht
 tps://www.badmintonvlaanderen.be/sport/teammatch.aspx?id=343A6D01-7373-405
 B-9427-CB56B07F8CCD&match=781
DTSTART;TZID=Europe/Brussels:20220112T140000
DTEND;TZID=Europe/Brussels:20220112T140000
END:VEVENT
BEGIN:VEVENT
UID:343A6D01-7373-405B-9427-CB56B07F8CCD-17-779_awayreminder@100.badmintonn
 ers.net
DTSTAMP:20260420T055148Z
SUMMARY:Uitmatch bevestigd? (Beerke 3G (106) - Zoersel 4G (105))
DESCRIPTION:Je hebt 72 uur na aanvang om een uitmatch op Badmintonvlaandere
 n in te vullen. Match info: Beerke 3G (106) - Zoersel 4G (105) - Link: htt
 ps://www.badmintonvlaanderen.be/sport/teammatch.aspx?id=343A6D01-7373-405B
 -9427-CB56B07F8CCD&match=779
DTSTART;TZID=Europe/Brussels:20220209T100000
DTEND;TZID=Europe/Brussels:20220209T100000
END:VEVENT
BEGIN:VEVENT
UID:343A6D01-7373-405B-9427-CB56B07F8CCD-17-777_awayreminder@100.badmintonn
 ers.net
DTSTAMP:20260420T055148Z
SUMMARY:Uitmatch bevestigd? (Spinshuttle 5G (112) - Zoersel 4G (105))
DESCRIPTION:Je hebt 72 uur na aanvang om een uitmatch op Badmintonvlaandere
 n in te vullen. Match info: Spinshuttle 5G (112) - Zoersel 4G (105) - Link
 : https://www.badmintonvlaanderen.be/sport/teammatch.aspx?id=343A6D01-7373
 -405B-9427-CB56B07F8CCD&match=777
DTSTART;TZID=Europe/Brussels:20220304T200000
DTEND;TZID=Europe/Brussels:20220304T200000
END:VEVENT
END:VCALENDAR