BEGIN:VCALENDAR
VERSION:2.0
PRODID:spatie/icalendar-generator
NAME:klein_boom_8g_110_reminders
X-WR-CALNAME:klein_boom_8g_110_reminders
BEGIN:VTIMEZONE
TZID:Europe/Brussels
BEGIN:DAYLIGHT
DTSTART:20210328T010000
TZOFFSETFROM:+0100
TZOFFSETTO:+0200
END:DAYLIGHT
BEGIN:STANDARD
DTSTART:20211031T030000
TZOFFSETFROM:+0200
TZOFFSETTO:+0100
END:STANDARD
BEGIN:DAYLIGHT
DTSTART:20220327T010000
TZOFFSETFROM:+0100
TZOFFSETTO:+0200
END:DAYLIGHT
END:VTIMEZONE
BEGIN:VTIMEZONE
TZID:UTC
BEGIN:STANDARD
DTSTART:20250726T082641
TZOFFSETFROM:+0000
TZOFFSETTO:+0000
END:STANDARD
END:VTIMEZONE
BEGIN:VEVENT
UID:343A6D01-7373-405B-9427-CB56B07F8CCD-17-800_homereminder@138.badmintonn
 ers.net
DTSTAMP:20260422T082641Z
SUMMARY:Thuismatch ingevuld? (Klein Boom 8G (110) - Sint Job 1G (107))
DESCRIPTION:Je hebt 36 uur na aanvang om een thuismatch op Badmintonvlaande
 ren in te vullen. Match info: Klein Boom 8G (110) - Sint Job 1G (107) - Li
 nk: https://www.badmintonvlaanderen.be/sport/teammatch.aspx?id=343A6D01-73
 73-405B-9427-CB56B07F8CCD&match=800
DTSTART;TZID=Europe/Brussels:20211006T080000
DTEND;TZID=Europe/Brussels:20211006T080000
END:VEVENT
BEGIN:VEVENT
UID:343A6D01-7373-405B-9427-CB56B07F8CCD-17-788_homereminder@138.badmintonn
 ers.net
DTSTAMP:20260422T082641Z
SUMMARY:Thuismatch ingevuld? (Klein Boom 8G (110) - Rijkerack 4G (107))
DESCRIPTION:Je hebt 36 uur na aanvang om een thuismatch op Badmintonvlaande
 ren in te vullen. Match info: Klein Boom 8G (110) - Rijkerack 4G (107) - L
 ink: https://www.badmintonvlaanderen.be/sport/teammatch.aspx?id=343A6D01-7
 373-405B-9427-CB56B07F8CCD&match=788
DTSTART;TZID=Europe/Brussels:20211123T070000
DTEND;TZID=Europe/Brussels:20211123T070000
END:VEVENT
BEGIN:VEVENT
UID:343A6D01-7373-405B-9427-CB56B07F8CCD-17-776_homereminder@138.badmintonn
 ers.net
DTSTAMP:20260422T082641Z
SUMMARY:Thuismatch ingevuld? (Klein Boom 8G (110) - Zoersel 4G (105))
DESCRIPTION:Je hebt 36 uur na aanvang om een thuismatch op Badmintonvlaande
 ren in te vullen. Match info: Klein Boom 8G (110) - Zoersel 4G (105) - Lin
 k: https://www.badmintonvlaanderen.be/sport/teammatch.aspx?id=343A6D01-737
 3-405B-9427-CB56B07F8CCD&match=776
DTSTART;TZID=Europe/Brussels:20211214T070000
DTEND;TZID=Europe/Brussels:20211214T070000
END:VEVENT
BEGIN:VEVENT
UID:343A6D01-7373-405B-9427-CB56B07F8CCD-17-794_homereminder@138.badmintonn
 ers.net
DTSTAMP:20260422T082641Z
SUMMARY:Thuismatch ingevuld? (Klein Boom 8G (110) - Beerke 3G (106))
DESCRIPTION:Je hebt 36 uur na aanvang om een thuismatch op Badmintonvlaande
 ren in te vullen. Match info: Klein Boom 8G (110) - Beerke 3G (106) - Link
 : https://www.badmintonvlaanderen.be/sport/teammatch.aspx?id=343A6D01-7373
 -405B-9427-CB56B07F8CCD&match=794
DTSTART;TZID=Europe/Brussels:20220125T070000
DTEND;TZID=Europe/Brussels:20220125T070000
END:VEVENT
BEGIN:VEVENT
UID:343A6D01-7373-405B-9427-CB56B07F8CCD-17-782_homereminder@138.badmintonn
 ers.net
DTSTAMP:20260422T082641Z
SUMMARY:Thuismatch ingevuld? (Klein Boom 8G (110) - Spinshuttle 5G (112))
DESCRIPTION:Je hebt 36 uur na aanvang om een thuismatch op Badmintonvlaande
 ren in te vullen. Match info: Klein Boom 8G (110) - Spinshuttle 5G (112) -
  Link: https://www.badmintonvlaanderen.be/sport/teammatch.aspx?id=343A6D01
 -7373-405B-9427-CB56B07F8CCD&match=782
DTSTART;TZID=Europe/Brussels:20220222T070000
DTEND;TZID=Europe/Brussels:20220222T070000
END:VEVENT
BEGIN:VEVENT
UID:343A6D01-7373-405B-9427-CB56B07F8CCD-17-806_homereminder@138.badmintonn
 ers.net
DTSTAMP:20260422T082641Z
SUMMARY:Thuismatch ingevuld? (Klein Boom 8G (110) - Waverse 3G (109))
DESCRIPTION:Je hebt 36 uur na aanvang om een thuismatch op Badmintonvlaande
 ren in te vullen. Match info: Klein Boom 8G (110) - Waverse 3G (109) - Lin
 k: https://www.badmintonvlaanderen.be/sport/teammatch.aspx?id=343A6D01-737
 3-405B-9427-CB56B07F8CCD&match=806
DTSTART;TZID=Europe/Brussels:20220322T070000
DTEND;TZID=Europe/Brussels:20220322T070000
END:VEVENT
BEGIN:VEVENT
UID:343A6D01-7373-405B-9427-CB56B07F8CCD-17-771_awayreminder@138.badmintonn
 ers.net
DTSTAMP:20260422T082641Z
SUMMARY:Uitmatch bevestigd? (Spinshuttle 5G (112) - Klein Boom 8G (110))
DESCRIPTION:Je hebt 72 uur na aanvang om een uitmatch op Badmintonvlaandere
 n in te vullen. Match info: Spinshuttle 5G (112) - Klein Boom 8G (110) - L
 ink: https://www.badmintonvlaanderen.be/sport/teammatch.aspx?id=343A6D01-7
 373-405B-9427-CB56B07F8CCD&match=771
DTSTART;TZID=Europe/Brussels:20211015T200000
DTEND;TZID=Europe/Brussels:20211015T200000
END:VEVENT
BEGIN:VEVENT
UID:343A6D01-7373-405B-9427-CB56B07F8CCD-17-773_awayreminder@138.badmintonn
 ers.net
DTSTAMP:20260422T082641Z
SUMMARY:Uitmatch bevestigd? (Beerke 3G (106) - Klein Boom 8G (110))
DESCRIPTION:Je hebt 72 uur na aanvang om een uitmatch op Badmintonvlaandere
 n in te vullen. Match info: Beerke 3G (106) - Klein Boom 8G (110) - Link: 
 https://www.badmintonvlaanderen.be/sport/teammatch.aspx?id=343A6D01-7373-4
 05B-9427-CB56B07F8CCD&match=773
DTSTART;TZID=Europe/Brussels:20211103T100000
DTEND;TZID=Europe/Brussels:20211103T100000
END:VEVENT
BEGIN:VEVENT
UID:343A6D01-7373-405B-9427-CB56B07F8CCD-17-775_awayreminder@138.badmintonn
 ers.net
DTSTAMP:20260422T082641Z
SUMMARY:Uitmatch bevestigd? (Waverse 3G (109) - Klein Boom 8G (110))
DESCRIPTION:Je hebt 72 uur na aanvang om een uitmatch op Badmintonvlaandere
 n in te vullen. Match info: Waverse 3G (109) - Klein Boom 8G (110) - Link:
  https://www.badmintonvlaanderen.be/sport/teammatch.aspx?id=343A6D01-7373-
 405B-9427-CB56B07F8CCD&match=775
DTSTART;TZID=Europe/Brussels:20211201T140000
DTEND;TZID=Europe/Brussels:20211201T140000
END:VEVENT
BEGIN:VEVENT
UID:343A6D01-7373-405B-9427-CB56B07F8CCD-17-774_awayreminder@138.badmintonn
 ers.net
DTSTAMP:20260422T082641Z
SUMMARY:Uitmatch bevestigd? (Sint Job 1G (107) - Klein Boom 8G (110))
DESCRIPTION:Je hebt 72 uur na aanvang om een uitmatch op Badmintonvlaandere
 n in te vullen. Match info: Sint Job 1G (107) - Klein Boom 8G (110) - Link
 : https://www.badmintonvlaanderen.be/sport/teammatch.aspx?id=343A6D01-7373
 -405B-9427-CB56B07F8CCD&match=774
DTSTART;TZID=Europe/Brussels:20220209T100000
DTEND;TZID=Europe/Brussels:20220209T100000
END:VEVENT
BEGIN:VEVENT
UID:343A6D01-7373-405B-9427-CB56B07F8CCD-17-772_awayreminder@138.badmintonn
 ers.net
DTSTAMP:20260422T082641Z
SUMMARY:Uitmatch bevestigd? (Rijkerack 4G (107) - Klein Boom 8G (110))
DESCRIPTION:Je hebt 72 uur na aanvang om een uitmatch op Badmintonvlaandere
 n in te vullen. Match info: Rijkerack 4G (107) - Klein Boom 8G (110) - Lin
 k: https://www.badmintonvlaanderen.be/sport/teammatch.aspx?id=343A6D01-737
 3-405B-9427-CB56B07F8CCD&match=772
DTSTART;TZID=Europe/Brussels:20220309T190000
DTEND;TZID=Europe/Brussels:20220309T190000
END:VEVENT
BEGIN:VEVENT
UID:343A6D01-7373-405B-9427-CB56B07F8CCD-17-770_awayreminder@138.badmintonn
 ers.net
DTSTAMP:20260422T082641Z
SUMMARY:Uitmatch bevestigd? (Zoersel 4G (105) - Klein Boom 8G (110))
DESCRIPTION:Je hebt 72 uur na aanvang om een uitmatch op Badmintonvlaandere
 n in te vullen. Match info: Zoersel 4G (105) - Klein Boom 8G (110) - Link:
  https://www.badmintonvlaanderen.be/sport/teammatch.aspx?id=343A6D01-7373-
 405B-9427-CB56B07F8CCD&match=770
DTSTART;TZID=Europe/Brussels:20220406T120000
DTEND;TZID=Europe/Brussels:20220406T120000
END:VEVENT
END:VCALENDAR