BEGIN:VCALENDAR
VERSION:2.0
PRODID:spatie/icalendar-generator
NAME:beerke_3g_106_reminders
X-WR-CALNAME:beerke_3g_106_reminders
BEGIN:VTIMEZONE
TZID:Europe/Brussels
BEGIN:DAYLIGHT
DTSTART:20210328T010000
TZOFFSETFROM:+0100
TZOFFSETTO:+0200
END:DAYLIGHT
BEGIN:STANDARD
DTSTART:20211031T030000
TZOFFSETFROM:+0200
TZOFFSETTO:+0100
END:STANDARD
BEGIN:DAYLIGHT
DTSTART:20220327T010000
TZOFFSETFROM:+0100
TZOFFSETTO:+0200
END:DAYLIGHT
END:VTIMEZONE
BEGIN:VTIMEZONE
TZID:UTC
BEGIN:STANDARD
DTSTART:20250724T055143
TZOFFSETFROM:+0000
TZOFFSETTO:+0000
END:STANDARD
END:VTIMEZONE
BEGIN:VEVENT
UID:343A6D01-7373-405B-9427-CB56B07F8CCD-17-804_homereminder@142.badmintonn
 ers.net
DTSTAMP:20260420T055143Z
SUMMARY:Thuismatch ingevuld? (Beerke 3G (106) - Sint Job 1G (107))
DESCRIPTION:Je hebt 36 uur na aanvang om een thuismatch op Badmintonvlaande
 ren in te vullen. Match info: Beerke 3G (106) - Sint Job 1G (107) - Link: 
 https://www.badmintonvlaanderen.be/sport/teammatch.aspx?id=343A6D01-7373-4
 05B-9427-CB56B07F8CCD&match=804
DTSTART;TZID=Europe/Brussels:20211018T220000
DTEND;TZID=Europe/Brussels:20211018T220000
END:VEVENT
BEGIN:VEVENT
UID:343A6D01-7373-405B-9427-CB56B07F8CCD-17-773_homereminder@142.badmintonn
 ers.net
DTSTAMP:20260420T055143Z
SUMMARY:Thuismatch ingevuld? (Beerke 3G (106) - Klein Boom 8G (110))
DESCRIPTION:Je hebt 36 uur na aanvang om een thuismatch op Badmintonvlaande
 ren in te vullen. Match info: Beerke 3G (106) - Klein Boom 8G (110) - Link
 : https://www.badmintonvlaanderen.be/sport/teammatch.aspx?id=343A6D01-7373
 -405B-9427-CB56B07F8CCD&match=773
DTSTART;TZID=Europe/Brussels:20211101T220000
DTEND;TZID=Europe/Brussels:20211101T220000
END:VEVENT
BEGIN:VEVENT
UID:343A6D01-7373-405B-9427-CB56B07F8CCD-17-785_homereminder@142.badmintonn
 ers.net
DTSTAMP:20260420T055143Z
SUMMARY:Thuismatch ingevuld? (Beerke 3G (106) - Spinshuttle 5G (112))
DESCRIPTION:Je hebt 36 uur na aanvang om een thuismatch op Badmintonvlaande
 ren in te vullen. Match info: Beerke 3G (106) - Spinshuttle 5G (112) - Lin
 k: https://www.badmintonvlaanderen.be/sport/teammatch.aspx?id=343A6D01-737
 3-405B-9427-CB56B07F8CCD&match=785
DTSTART;TZID=Europe/Brussels:20211129T220000
DTEND;TZID=Europe/Brussels:20211129T220000
END:VEVENT
BEGIN:VEVENT
UID:343A6D01-7373-405B-9427-CB56B07F8CCD-17-779_homereminder@142.badmintonn
 ers.net
DTSTAMP:20260420T055143Z
SUMMARY:Thuismatch ingevuld? (Beerke 3G (106) - Zoersel 4G (105))
DESCRIPTION:Je hebt 36 uur na aanvang om een thuismatch op Badmintonvlaande
 ren in te vullen. Match info: Beerke 3G (106) - Zoersel 4G (105) - Link: h
 ttps://www.badmintonvlaanderen.be/sport/teammatch.aspx?id=343A6D01-7373-40
 5B-9427-CB56B07F8CCD&match=779
DTSTART;TZID=Europe/Brussels:20220207T220000
DTEND;TZID=Europe/Brussels:20220207T220000
END:VEVENT
BEGIN:VEVENT
UID:343A6D01-7373-405B-9427-CB56B07F8CCD-17-810_homereminder@142.badmintonn
 ers.net
DTSTAMP:20260420T055143Z
SUMMARY:Thuismatch ingevuld? (Beerke 3G (106) - Waverse 3G (109))
DESCRIPTION:Je hebt 36 uur na aanvang om een thuismatch op Badmintonvlaande
 ren in te vullen. Match info: Beerke 3G (106) - Waverse 3G (109) - Link: h
 ttps://www.badmintonvlaanderen.be/sport/teammatch.aspx?id=343A6D01-7373-40
 5B-9427-CB56B07F8CCD&match=810
DTSTART;TZID=Europe/Brussels:20220307T220000
DTEND;TZID=Europe/Brussels:20220307T220000
END:VEVENT
BEGIN:VEVENT
UID:343A6D01-7373-405B-9427-CB56B07F8CCD-17-791_homereminder@142.badmintonn
 ers.net
DTSTAMP:20260420T055143Z
SUMMARY:Thuismatch ingevuld? (Beerke 3G (106) - Rijkerack 4G (107))
DESCRIPTION:Je hebt 36 uur na aanvang om een thuismatch op Badmintonvlaande
 ren in te vullen. Match info: Beerke 3G (106) - Rijkerack 4G (107) - Link:
  https://www.badmintonvlaanderen.be/sport/teammatch.aspx?id=343A6D01-7373-
 405B-9427-CB56B07F8CCD&match=791
DTSTART;TZID=Europe/Brussels:20220321T220000
DTEND;TZID=Europe/Brussels:20220321T220000
END:VEVENT
BEGIN:VEVENT
UID:343A6D01-7373-405B-9427-CB56B07F8CCD-17-799_awayreminder@142.badmintonn
 ers.net
DTSTAMP:20260420T055143Z
SUMMARY:Uitmatch bevestigd? (Waverse 3G (109) - Beerke 3G (106))
DESCRIPTION:Je hebt 72 uur na aanvang om een uitmatch op Badmintonvlaandere
 n in te vullen. Match info: Waverse 3G (109) - Beerke 3G (106) - Link: htt
 ps://www.badmintonvlaanderen.be/sport/teammatch.aspx?id=343A6D01-7373-405B
 -9427-CB56B07F8CCD&match=799
DTSTART;TZID=Europe/Brussels:20210915T140000
DTEND;TZID=Europe/Brussels:20210915T140000
END:VEVENT
BEGIN:VEVENT
UID:343A6D01-7373-405B-9427-CB56B07F8CCD-17-797_awayreminder@142.badmintonn
 ers.net
DTSTAMP:20260420T055143Z
SUMMARY:Uitmatch bevestigd? (Rijkerack 4G (107) - Beerke 3G (106))
DESCRIPTION:Je hebt 72 uur na aanvang om een uitmatch op Badmintonvlaandere
 n in te vullen. Match info: Rijkerack 4G (107) - Beerke 3G (106) - Link: h
 ttps://www.badmintonvlaanderen.be/sport/teammatch.aspx?id=343A6D01-7373-40
 5B-9427-CB56B07F8CCD&match=797
DTSTART;TZID=Europe/Brussels:20210922T190000
DTEND;TZID=Europe/Brussels:20210922T190000
END:VEVENT
BEGIN:VEVENT
UID:343A6D01-7373-405B-9427-CB56B07F8CCD-17-795_awayreminder@142.badmintonn
 ers.net
DTSTAMP:20260420T055143Z
SUMMARY:Uitmatch bevestigd? (Zoersel 4G (105) - Beerke 3G (106))
DESCRIPTION:Je hebt 72 uur na aanvang om een uitmatch op Badmintonvlaandere
 n in te vullen. Match info: Zoersel 4G (105) - Beerke 3G (106) - Link: htt
 ps://www.badmintonvlaanderen.be/sport/teammatch.aspx?id=343A6D01-7373-405B
 -9427-CB56B07F8CCD&match=795
DTSTART;TZID=Europe/Brussels:20211006T120000
DTEND;TZID=Europe/Brussels:20211006T120000
END:VEVENT
BEGIN:VEVENT
UID:343A6D01-7373-405B-9427-CB56B07F8CCD-17-794_awayreminder@142.badmintonn
 ers.net
DTSTAMP:20260420T055143Z
SUMMARY:Uitmatch bevestigd? (Klein Boom 8G (110) - Beerke 3G (106))
DESCRIPTION:Je hebt 72 uur na aanvang om een uitmatch op Badmintonvlaandere
 n in te vullen. Match info: Klein Boom 8G (110) - Beerke 3G (106) - Link: 
 https://www.badmintonvlaanderen.be/sport/teammatch.aspx?id=343A6D01-7373-4
 05B-9427-CB56B07F8CCD&match=794
DTSTART;TZID=Europe/Brussels:20220126T190000
DTEND;TZID=Europe/Brussels:20220126T190000
END:VEVENT
BEGIN:VEVENT
UID:343A6D01-7373-405B-9427-CB56B07F8CCD-17-798_awayreminder@142.badmintonn
 ers.net
DTSTAMP:20260420T055143Z
SUMMARY:Uitmatch bevestigd? (Sint Job 1G (107) - Beerke 3G (106))
DESCRIPTION:Je hebt 72 uur na aanvang om een uitmatch op Badmintonvlaandere
 n in te vullen. Match info: Sint Job 1G (107) - Beerke 3G (106) - Link: ht
 tps://www.badmintonvlaanderen.be/sport/teammatch.aspx?id=343A6D01-7373-405
 B-9427-CB56B07F8CCD&match=798
DTSTART;TZID=Europe/Brussels:20220223T100000
DTEND;TZID=Europe/Brussels:20220223T100000
END:VEVENT
BEGIN:VEVENT
UID:343A6D01-7373-405B-9427-CB56B07F8CCD-17-796_awayreminder@142.badmintonn
 ers.net
DTSTAMP:20260420T055143Z
SUMMARY:Uitmatch bevestigd? (Spinshuttle 5G (112) - Beerke 3G (106))
DESCRIPTION:Je hebt 72 uur na aanvang om een uitmatch op Badmintonvlaandere
 n in te vullen. Match info: Spinshuttle 5G (112) - Beerke 3G (106) - Link:
  https://www.badmintonvlaanderen.be/sport/teammatch.aspx?id=343A6D01-7373-
 405B-9427-CB56B07F8CCD&match=796
DTSTART;TZID=Europe/Brussels:20220415T200000
DTEND;TZID=Europe/Brussels:20220415T200000
END:VEVENT
END:VCALENDAR