BEGIN:VCALENDAR
VERSION:2.0
PRODID:spatie/icalendar-generator
NAME:waverse_3g_109_reminders
X-WR-CALNAME:waverse_3g_109_reminders
BEGIN:VTIMEZONE
TZID:Europe/Brussels
BEGIN:DAYLIGHT
DTSTART:20210328T010000
TZOFFSETFROM:+0100
TZOFFSETTO:+0200
END:DAYLIGHT
BEGIN:STANDARD
DTSTART:20211031T030000
TZOFFSETFROM:+0200
TZOFFSETTO:+0100
END:STANDARD
BEGIN:DAYLIGHT
DTSTART:20220327T010000
TZOFFSETFROM:+0100
TZOFFSETTO:+0200
END:DAYLIGHT
END:VTIMEZONE
BEGIN:VTIMEZONE
TZID:UTC
BEGIN:STANDARD
DTSTART:20250724T055132
TZOFFSETFROM:+0000
TZOFFSETTO:+0000
END:STANDARD
END:VTIMEZONE
BEGIN:VEVENT
UID:343A6D01-7373-405B-9427-CB56B07F8CCD-17-799_homereminder@163.badmintonn
 ers.net
DTSTAMP:20260420T055132Z
SUMMARY:Thuismatch ingevuld? (Waverse 3G (109) - Beerke 3G (106))
DESCRIPTION:Je hebt 36 uur na aanvang om een thuismatch op Badmintonvlaande
 ren in te vullen. Match info: Waverse 3G (109) - Beerke 3G (106) - Link: h
 ttps://www.badmintonvlaanderen.be/sport/teammatch.aspx?id=343A6D01-7373-40
 5B-9427-CB56B07F8CCD&match=799
DTSTART;TZID=Europe/Brussels:20210914T020000
DTEND;TZID=Europe/Brussels:20210914T020000
END:VEVENT
BEGIN:VEVENT
UID:343A6D01-7373-405B-9427-CB56B07F8CCD-17-775_homereminder@163.badmintonn
 ers.net
DTSTAMP:20260420T055132Z
SUMMARY:Thuismatch ingevuld? (Waverse 3G (109) - Klein Boom 8G (110))
DESCRIPTION:Je hebt 36 uur na aanvang om een thuismatch op Badmintonvlaande
 ren in te vullen. Match info: Waverse 3G (109) - Klein Boom 8G (110) - Lin
 k: https://www.badmintonvlaanderen.be/sport/teammatch.aspx?id=343A6D01-737
 3-405B-9427-CB56B07F8CCD&match=775
DTSTART;TZID=Europe/Brussels:20211130T020000
DTEND;TZID=Europe/Brussels:20211130T020000
END:VEVENT
BEGIN:VEVENT
UID:343A6D01-7373-405B-9427-CB56B07F8CCD-17-787_homereminder@163.badmintonn
 ers.net
DTSTAMP:20260420T055132Z
SUMMARY:Thuismatch ingevuld? (Waverse 3G (109) - Spinshuttle 5G (112))
DESCRIPTION:Je hebt 36 uur na aanvang om een thuismatch op Badmintonvlaande
 ren in te vullen. Match info: Waverse 3G (109) - Spinshuttle 5G (112) - Li
 nk: https://www.badmintonvlaanderen.be/sport/teammatch.aspx?id=343A6D01-73
 73-405B-9427-CB56B07F8CCD&match=787
DTSTART;TZID=Europe/Brussels:20211214T020000
DTEND;TZID=Europe/Brussels:20211214T020000
END:VEVENT
BEGIN:VEVENT
UID:343A6D01-7373-405B-9427-CB56B07F8CCD-17-781_homereminder@163.badmintonn
 ers.net
DTSTAMP:20260420T055132Z
SUMMARY:Thuismatch ingevuld? (Waverse 3G (109) - Zoersel 4G (105))
DESCRIPTION:Je hebt 36 uur na aanvang om een thuismatch op Badmintonvlaande
 ren in te vullen. Match info: Waverse 3G (109) - Zoersel 4G (105) - Link: 
 https://www.badmintonvlaanderen.be/sport/teammatch.aspx?id=343A6D01-7373-4
 05B-9427-CB56B07F8CCD&match=781
DTSTART;TZID=Europe/Brussels:20220111T020000
DTEND;TZID=Europe/Brussels:20220111T020000
END:VEVENT
BEGIN:VEVENT
UID:343A6D01-7373-405B-9427-CB56B07F8CCD-17-805_homereminder@163.badmintonn
 ers.net
DTSTAMP:20260420T055132Z
SUMMARY:Thuismatch ingevuld? (Waverse 3G (109) - Sint Job 1G (107))
DESCRIPTION:Je hebt 36 uur na aanvang om een thuismatch op Badmintonvlaande
 ren in te vullen. Match info: Waverse 3G (109) - Sint Job 1G (107) - Link:
  https://www.badmintonvlaanderen.be/sport/teammatch.aspx?id=343A6D01-7373-
 405B-9427-CB56B07F8CCD&match=805
DTSTART;TZID=Europe/Brussels:20220125T020000
DTEND;TZID=Europe/Brussels:20220125T020000
END:VEVENT
BEGIN:VEVENT
UID:343A6D01-7373-405B-9427-CB56B07F8CCD-17-793_homereminder@163.badmintonn
 ers.net
DTSTAMP:20260420T055132Z
SUMMARY:Thuismatch ingevuld? (Waverse 3G (109) - Rijkerack 4G (107))
DESCRIPTION:Je hebt 36 uur na aanvang om een thuismatch op Badmintonvlaande
 ren in te vullen. Match info: Waverse 3G (109) - Rijkerack 4G (107) - Link
 : https://www.badmintonvlaanderen.be/sport/teammatch.aspx?id=343A6D01-7373
 -405B-9427-CB56B07F8CCD&match=793
DTSTART;TZID=Europe/Brussels:20220222T020000
DTEND;TZID=Europe/Brussels:20220222T020000
END:VEVENT
BEGIN:VEVENT
UID:343A6D01-7373-405B-9427-CB56B07F8CCD-17-807_awayreminder@163.badmintonn
 ers.net
DTSTAMP:20260420T055132Z
SUMMARY:Uitmatch bevestigd? (Zoersel 4G (105) - Waverse 3G (109))
DESCRIPTION:Je hebt 72 uur na aanvang om een uitmatch op Badmintonvlaandere
 n in te vullen. Match info: Zoersel 4G (105) - Waverse 3G (109) - Link: ht
 tps://www.badmintonvlaanderen.be/sport/teammatch.aspx?id=343A6D01-7373-405
 B-9427-CB56B07F8CCD&match=807
DTSTART;TZID=Europe/Brussels:20210922T120000
DTEND;TZID=Europe/Brussels:20210922T120000
END:VEVENT
BEGIN:VEVENT
UID:343A6D01-7373-405B-9427-CB56B07F8CCD-17-809_awayreminder@163.badmintonn
 ers.net
DTSTAMP:20260420T055132Z
SUMMARY:Uitmatch bevestigd? (Rijkerack 4G (107) - Waverse 3G (109))
DESCRIPTION:Je hebt 72 uur na aanvang om een uitmatch op Badmintonvlaandere
 n in te vullen. Match info: Rijkerack 4G (107) - Waverse 3G (109) - Link: 
 https://www.badmintonvlaanderen.be/sport/teammatch.aspx?id=343A6D01-7373-4
 05B-9427-CB56B07F8CCD&match=809
DTSTART;TZID=Europe/Brussels:20211020T190000
DTEND;TZID=Europe/Brussels:20211020T190000
END:VEVENT
BEGIN:VEVENT
UID:343A6D01-7373-405B-9427-CB56B07F8CCD-17-811_awayreminder@163.badmintonn
 ers.net
DTSTAMP:20260420T055132Z
SUMMARY:Uitmatch bevestigd? (Sint Job 1G (107) - Waverse 3G (109))
DESCRIPTION:Je hebt 72 uur na aanvang om een uitmatch op Badmintonvlaandere
 n in te vullen. Match info: Sint Job 1G (107) - Waverse 3G (109) - Link: h
 ttps://www.badmintonvlaanderen.be/sport/teammatch.aspx?id=343A6D01-7373-40
 5B-9427-CB56B07F8CCD&match=811
DTSTART;TZID=Europe/Brussels:20211103T100000
DTEND;TZID=Europe/Brussels:20211103T100000
END:VEVENT
BEGIN:VEVENT
UID:343A6D01-7373-405B-9427-CB56B07F8CCD-17-810_awayreminder@163.badmintonn
 ers.net
DTSTAMP:20260420T055132Z
SUMMARY:Uitmatch bevestigd? (Beerke 3G (106) - Waverse 3G (109))
DESCRIPTION:Je hebt 72 uur na aanvang om een uitmatch op Badmintonvlaandere
 n in te vullen. Match info: Beerke 3G (106) - Waverse 3G (109) - Link: htt
 ps://www.badmintonvlaanderen.be/sport/teammatch.aspx?id=343A6D01-7373-405B
 -9427-CB56B07F8CCD&match=810
DTSTART;TZID=Europe/Brussels:20220309T100000
DTEND;TZID=Europe/Brussels:20220309T100000
END:VEVENT
BEGIN:VEVENT
UID:343A6D01-7373-405B-9427-CB56B07F8CCD-17-806_awayreminder@163.badmintonn
 ers.net
DTSTAMP:20260420T055132Z
SUMMARY:Uitmatch bevestigd? (Klein Boom 8G (110) - Waverse 3G (109))
DESCRIPTION:Je hebt 72 uur na aanvang om een uitmatch op Badmintonvlaandere
 n in te vullen. Match info: Klein Boom 8G (110) - Waverse 3G (109) - Link:
  https://www.badmintonvlaanderen.be/sport/teammatch.aspx?id=343A6D01-7373-
 405B-9427-CB56B07F8CCD&match=806
DTSTART;TZID=Europe/Brussels:20220323T190000
DTEND;TZID=Europe/Brussels:20220323T190000
END:VEVENT
BEGIN:VEVENT
UID:343A6D01-7373-405B-9427-CB56B07F8CCD-17-808_awayreminder@163.badmintonn
 ers.net
DTSTAMP:20260420T055132Z
SUMMARY:Uitmatch bevestigd? (Spinshuttle 5G (112) - Waverse 3G (109))
DESCRIPTION:Je hebt 72 uur na aanvang om een uitmatch op Badmintonvlaandere
 n in te vullen. Match info: Spinshuttle 5G (112) - Waverse 3G (109) - Link
 : https://www.badmintonvlaanderen.be/sport/teammatch.aspx?id=343A6D01-7373
 -405B-9427-CB56B07F8CCD&match=808
DTSTART;TZID=Europe/Brussels:20220401T200000
DTEND;TZID=Europe/Brussels:20220401T200000
END:VEVENT
END:VCALENDAR