BEGIN:VCALENDAR
VERSION:2.0
PRODID:spatie/icalendar-generator
NAME:rijkerack_4g_107_reminders
X-WR-CALNAME:rijkerack_4g_107_reminders
BEGIN:VTIMEZONE
TZID:Europe/Brussels
BEGIN:DAYLIGHT
DTSTART:20210328T010000
TZOFFSETFROM:+0100
TZOFFSETTO:+0200
END:DAYLIGHT
BEGIN:STANDARD
DTSTART:20211031T030000
TZOFFSETFROM:+0200
TZOFFSETTO:+0100
END:STANDARD
BEGIN:DAYLIGHT
DTSTART:20220327T010000
TZOFFSETFROM:+0100
TZOFFSETTO:+0200
END:DAYLIGHT
END:VTIMEZONE
BEGIN:VTIMEZONE
TZID:UTC
BEGIN:STANDARD
DTSTART:20250724T055145
TZOFFSETFROM:+0000
TZOFFSETTO:+0000
END:STANDARD
END:VTIMEZONE
BEGIN:VEVENT
UID:343A6D01-7373-405B-9427-CB56B07F8CCD-17-797_homereminder@18.badmintonne
 rs.net
DTSTAMP:20260420T055145Z
SUMMARY:Thuismatch ingevuld? (Rijkerack 4G (107) - Beerke 3G (106))
DESCRIPTION:Je hebt 36 uur na aanvang om een thuismatch op Badmintonvlaande
 ren in te vullen. Match info: Rijkerack 4G (107) - Beerke 3G (106) - Link:
  https://www.badmintonvlaanderen.be/sport/teammatch.aspx?id=343A6D01-7373-
 405B-9427-CB56B07F8CCD&match=797
DTSTART;TZID=Europe/Brussels:20210921T070000
DTEND;TZID=Europe/Brussels:20210921T070000
END:VEVENT
BEGIN:VEVENT
UID:343A6D01-7373-405B-9427-CB56B07F8CCD-17-809_homereminder@18.badmintonne
 rs.net
DTSTAMP:20260420T055145Z
SUMMARY:Thuismatch ingevuld? (Rijkerack 4G (107) - Waverse 3G (109))
DESCRIPTION:Je hebt 36 uur na aanvang om een thuismatch op Badmintonvlaande
 ren in te vullen. Match info: Rijkerack 4G (107) - Waverse 3G (109) - Link
 : https://www.badmintonvlaanderen.be/sport/teammatch.aspx?id=343A6D01-7373
 -405B-9427-CB56B07F8CCD&match=809
DTSTART;TZID=Europe/Brussels:20211019T070000
DTEND;TZID=Europe/Brussels:20211019T070000
END:VEVENT
BEGIN:VEVENT
UID:343A6D01-7373-405B-9427-CB56B07F8CCD-17-778_homereminder@18.badmintonne
 rs.net
DTSTAMP:20260420T055145Z
SUMMARY:Thuismatch ingevuld? (Rijkerack 4G (107) - Zoersel 4G (105))
DESCRIPTION:Je hebt 36 uur na aanvang om een thuismatch op Badmintonvlaande
 ren in te vullen. Match info: Rijkerack 4G (107) - Zoersel 4G (105) - Link
 : https://www.badmintonvlaanderen.be/sport/teammatch.aspx?id=343A6D01-7373
 -405B-9427-CB56B07F8CCD&match=778
DTSTART;TZID=Europe/Brussels:20211116T070000
DTEND;TZID=Europe/Brussels:20211116T070000
END:VEVENT
BEGIN:VEVENT
UID:343A6D01-7373-405B-9427-CB56B07F8CCD-17-784_homereminder@18.badmintonne
 rs.net
DTSTAMP:20260420T055145Z
SUMMARY:Thuismatch ingevuld? (Rijkerack 4G (107) - Spinshuttle 5G (112))
DESCRIPTION:Je hebt 36 uur na aanvang om een thuismatch op Badmintonvlaande
 ren in te vullen. Match info: Rijkerack 4G (107) - Spinshuttle 5G (112) - 
 Link: https://www.badmintonvlaanderen.be/sport/teammatch.aspx?id=343A6D01-
 7373-405B-9427-CB56B07F8CCD&match=784
DTSTART;TZID=Europe/Brussels:20220215T070000
DTEND;TZID=Europe/Brussels:20220215T070000
END:VEVENT
BEGIN:VEVENT
UID:343A6D01-7373-405B-9427-CB56B07F8CCD-17-772_homereminder@18.badmintonne
 rs.net
DTSTAMP:20260420T055145Z
SUMMARY:Thuismatch ingevuld? (Rijkerack 4G (107) - Klein Boom 8G (110))
DESCRIPTION:Je hebt 36 uur na aanvang om een thuismatch op Badmintonvlaande
 ren in te vullen. Match info: Rijkerack 4G (107) - Klein Boom 8G (110) - L
 ink: https://www.badmintonvlaanderen.be/sport/teammatch.aspx?id=343A6D01-7
 373-405B-9427-CB56B07F8CCD&match=772
DTSTART;TZID=Europe/Brussels:20220308T070000
DTEND;TZID=Europe/Brussels:20220308T070000
END:VEVENT
BEGIN:VEVENT
UID:343A6D01-7373-405B-9427-CB56B07F8CCD-17-803_homereminder@18.badmintonne
 rs.net
DTSTAMP:20260420T055145Z
SUMMARY:Thuismatch ingevuld? (Rijkerack 4G (107) - Sint Job 1G (107))
DESCRIPTION:Je hebt 36 uur na aanvang om een thuismatch op Badmintonvlaande
 ren in te vullen. Match info: Rijkerack 4G (107) - Sint Job 1G (107) - Lin
 k: https://www.badmintonvlaanderen.be/sport/teammatch.aspx?id=343A6D01-737
 3-405B-9427-CB56B07F8CCD&match=803
DTSTART;TZID=Europe/Brussels:20220426T070000
DTEND;TZID=Europe/Brussels:20220426T070000
END:VEVENT
BEGIN:VEVENT
UID:343A6D01-7373-405B-9427-CB56B07F8CCD-17-790_awayreminder@18.badmintonne
 rs.net
DTSTAMP:20260420T055145Z
SUMMARY:Uitmatch bevestigd? (Spinshuttle 5G (112) - Rijkerack 4G (107))
DESCRIPTION:Je hebt 72 uur na aanvang om een uitmatch op Badmintonvlaandere
 n in te vullen. Match info: Spinshuttle 5G (112) - Rijkerack 4G (107) - Li
 nk: https://www.badmintonvlaanderen.be/sport/teammatch.aspx?id=343A6D01-73
 73-405B-9427-CB56B07F8CCD&match=790
DTSTART;TZID=Europe/Brussels:20211001T200000
DTEND;TZID=Europe/Brussels:20211001T200000
END:VEVENT
BEGIN:VEVENT
UID:343A6D01-7373-405B-9427-CB56B07F8CCD-17-788_awayreminder@18.badmintonne
 rs.net
DTSTAMP:20260420T055145Z
SUMMARY:Uitmatch bevestigd? (Klein Boom 8G (110) - Rijkerack 4G (107))
DESCRIPTION:Je hebt 72 uur na aanvang om een uitmatch op Badmintonvlaandere
 n in te vullen. Match info: Klein Boom 8G (110) - Rijkerack 4G (107) - Lin
 k: https://www.badmintonvlaanderen.be/sport/teammatch.aspx?id=343A6D01-737
 3-405B-9427-CB56B07F8CCD&match=788
DTSTART;TZID=Europe/Brussels:20211124T190000
DTEND;TZID=Europe/Brussels:20211124T190000
END:VEVENT
BEGIN:VEVENT
UID:343A6D01-7373-405B-9427-CB56B07F8CCD-17-792_awayreminder@18.badmintonne
 rs.net
DTSTAMP:20260420T055145Z
SUMMARY:Uitmatch bevestigd? (Sint Job 1G (107) - Rijkerack 4G (107))
DESCRIPTION:Je hebt 72 uur na aanvang om een uitmatch op Badmintonvlaandere
 n in te vullen. Match info: Sint Job 1G (107) - Rijkerack 4G (107) - Link:
  https://www.badmintonvlaanderen.be/sport/teammatch.aspx?id=343A6D01-7373-
 405B-9427-CB56B07F8CCD&match=792
DTSTART;TZID=Europe/Brussels:20211215T100000
DTEND;TZID=Europe/Brussels:20211215T100000
END:VEVENT
BEGIN:VEVENT
UID:343A6D01-7373-405B-9427-CB56B07F8CCD-17-789_awayreminder@18.badmintonne
 rs.net
DTSTAMP:20260420T055145Z
SUMMARY:Uitmatch bevestigd? (Zoersel 4G (105) - Rijkerack 4G (107))
DESCRIPTION:Je hebt 72 uur na aanvang om een uitmatch op Badmintonvlaandere
 n in te vullen. Match info: Zoersel 4G (105) - Rijkerack 4G (107) - Link: 
 https://www.badmintonvlaanderen.be/sport/teammatch.aspx?id=343A6D01-7373-4
 05B-9427-CB56B07F8CCD&match=789
DTSTART;TZID=Europe/Brussels:20220126T120000
DTEND;TZID=Europe/Brussels:20220126T120000
END:VEVENT
BEGIN:VEVENT
UID:343A6D01-7373-405B-9427-CB56B07F8CCD-17-793_awayreminder@18.badmintonne
 rs.net
DTSTAMP:20260420T055145Z
SUMMARY:Uitmatch bevestigd? (Waverse 3G (109) - Rijkerack 4G (107))
DESCRIPTION:Je hebt 72 uur na aanvang om een uitmatch op Badmintonvlaandere
 n in te vullen. Match info: Waverse 3G (109) - Rijkerack 4G (107) - Link: 
 https://www.badmintonvlaanderen.be/sport/teammatch.aspx?id=343A6D01-7373-4
 05B-9427-CB56B07F8CCD&match=793
DTSTART;TZID=Europe/Brussels:20220223T140000
DTEND;TZID=Europe/Brussels:20220223T140000
END:VEVENT
BEGIN:VEVENT
UID:343A6D01-7373-405B-9427-CB56B07F8CCD-17-791_awayreminder@18.badmintonne
 rs.net
DTSTAMP:20260420T055145Z
SUMMARY:Uitmatch bevestigd? (Beerke 3G (106) - Rijkerack 4G (107))
DESCRIPTION:Je hebt 72 uur na aanvang om een uitmatch op Badmintonvlaandere
 n in te vullen. Match info: Beerke 3G (106) - Rijkerack 4G (107) - Link: h
 ttps://www.badmintonvlaanderen.be/sport/teammatch.aspx?id=343A6D01-7373-40
 5B-9427-CB56B07F8CCD&match=791
DTSTART;TZID=Europe/Brussels:20220323T100000
DTEND;TZID=Europe/Brussels:20220323T100000
END:VEVENT
END:VCALENDAR