BEGIN:VCALENDAR
VERSION:2.0
PRODID:spatie/icalendar-generator
NAME:spinshuttle_5g_112_reminders
X-WR-CALNAME:spinshuttle_5g_112_reminders
BEGIN:VTIMEZONE
TZID:Europe/Brussels
BEGIN:DAYLIGHT
DTSTART:20210328T010000
TZOFFSETFROM:+0100
TZOFFSETTO:+0200
END:DAYLIGHT
BEGIN:STANDARD
DTSTART:20211031T030000
TZOFFSETFROM:+0200
TZOFFSETTO:+0100
END:STANDARD
BEGIN:DAYLIGHT
DTSTART:20220327T010000
TZOFFSETFROM:+0100
TZOFFSETTO:+0200
END:DAYLIGHT
END:VTIMEZONE
BEGIN:VTIMEZONE
TZID:UTC
BEGIN:STANDARD
DTSTART:20250724T073346
TZOFFSETFROM:+0000
TZOFFSETTO:+0000
END:STANDARD
END:VTIMEZONE
BEGIN:VEVENT
UID:343A6D01-7373-405B-9427-CB56B07F8CCD-17-790_homereminder@216.badmintonn
 ers.net
DTSTAMP:20260420T073346Z
SUMMARY:Thuismatch ingevuld? (Spinshuttle 5G (112) - Rijkerack 4G (107))
DESCRIPTION:Je hebt 36 uur na aanvang om een thuismatch op Badmintonvlaande
 ren in te vullen. Match info: Spinshuttle 5G (112) - Rijkerack 4G (107) - 
 Link: https://www.badmintonvlaanderen.be/sport/teammatch.aspx?id=343A6D01-
 7373-405B-9427-CB56B07F8CCD&match=790
DTSTART;TZID=Europe/Brussels:20210930T080000
DTEND;TZID=Europe/Brussels:20210930T080000
END:VEVENT
BEGIN:VEVENT
UID:343A6D01-7373-405B-9427-CB56B07F8CCD-17-771_homereminder@216.badmintonn
 ers.net
DTSTAMP:20260420T073346Z
SUMMARY:Thuismatch ingevuld? (Spinshuttle 5G (112) - Klein Boom 8G (110))
DESCRIPTION:Je hebt 36 uur na aanvang om een thuismatch op Badmintonvlaande
 ren in te vullen. Match info: Spinshuttle 5G (112) - Klein Boom 8G (110) -
  Link: https://www.badmintonvlaanderen.be/sport/teammatch.aspx?id=343A6D01
 -7373-405B-9427-CB56B07F8CCD&match=771
DTSTART;TZID=Europe/Brussels:20211014T080000
DTEND;TZID=Europe/Brussels:20211014T080000
END:VEVENT
BEGIN:VEVENT
UID:343A6D01-7373-405B-9427-CB56B07F8CCD-17-802_homereminder@216.badmintonn
 ers.net
DTSTAMP:20260420T073346Z
SUMMARY:Thuismatch ingevuld? (Spinshuttle 5G (112) - Sint Job 1G (107))
DESCRIPTION:Je hebt 36 uur na aanvang om een thuismatch op Badmintonvlaande
 ren in te vullen. Match info: Spinshuttle 5G (112) - Sint Job 1G (107) - L
 ink: https://www.badmintonvlaanderen.be/sport/teammatch.aspx?id=343A6D01-7
 373-405B-9427-CB56B07F8CCD&match=802
DTSTART;TZID=Europe/Brussels:20211118T080000
DTEND;TZID=Europe/Brussels:20211118T080000
END:VEVENT
BEGIN:VEVENT
UID:343A6D01-7373-405B-9427-CB56B07F8CCD-17-777_homereminder@216.badmintonn
 ers.net
DTSTAMP:20260420T073346Z
SUMMARY:Thuismatch ingevuld? (Spinshuttle 5G (112) - Zoersel 4G (105))
DESCRIPTION:Je hebt 36 uur na aanvang om een thuismatch op Badmintonvlaande
 ren in te vullen. Match info: Spinshuttle 5G (112) - Zoersel 4G (105) - Li
 nk: https://www.badmintonvlaanderen.be/sport/teammatch.aspx?id=343A6D01-73
 73-405B-9427-CB56B07F8CCD&match=777
DTSTART;TZID=Europe/Brussels:20220303T080000
DTEND;TZID=Europe/Brussels:20220303T080000
END:VEVENT
BEGIN:VEVENT
UID:343A6D01-7373-405B-9427-CB56B07F8CCD-17-808_homereminder@216.badmintonn
 ers.net
DTSTAMP:20260420T073346Z
SUMMARY:Thuismatch ingevuld? (Spinshuttle 5G (112) - Waverse 3G (109))
DESCRIPTION:Je hebt 36 uur na aanvang om een thuismatch op Badmintonvlaande
 ren in te vullen. Match info: Spinshuttle 5G (112) - Waverse 3G (109) - Li
 nk: https://www.badmintonvlaanderen.be/sport/teammatch.aspx?id=343A6D01-73
 73-405B-9427-CB56B07F8CCD&match=808
DTSTART;TZID=Europe/Brussels:20220331T080000
DTEND;TZID=Europe/Brussels:20220331T080000
END:VEVENT
BEGIN:VEVENT
UID:343A6D01-7373-405B-9427-CB56B07F8CCD-17-796_homereminder@216.badmintonn
 ers.net
DTSTAMP:20260420T073346Z
SUMMARY:Thuismatch ingevuld? (Spinshuttle 5G (112) - Beerke 3G (106))
DESCRIPTION:Je hebt 36 uur na aanvang om een thuismatch op Badmintonvlaande
 ren in te vullen. Match info: Spinshuttle 5G (112) - Beerke 3G (106) - Lin
 k: https://www.badmintonvlaanderen.be/sport/teammatch.aspx?id=343A6D01-737
 3-405B-9427-CB56B07F8CCD&match=796
DTSTART;TZID=Europe/Brussels:20220414T080000
DTEND;TZID=Europe/Brussels:20220414T080000
END:VEVENT
BEGIN:VEVENT
UID:343A6D01-7373-405B-9427-CB56B07F8CCD-17-783_awayreminder@216.badmintonn
 ers.net
DTSTAMP:20260420T073346Z
SUMMARY:Uitmatch bevestigd? (Zoersel 4G (105) - Spinshuttle 5G (112))
DESCRIPTION:Je hebt 72 uur na aanvang om een uitmatch op Badmintonvlaandere
 n in te vullen. Match info: Zoersel 4G (105) - Spinshuttle 5G (112) - Link
 : https://www.badmintonvlaanderen.be/sport/teammatch.aspx?id=343A6D01-7373
 -405B-9427-CB56B07F8CCD&match=783
DTSTART;TZID=Europe/Brussels:20211020T120000
DTEND;TZID=Europe/Brussels:20211020T120000
END:VEVENT
BEGIN:VEVENT
UID:343A6D01-7373-405B-9427-CB56B07F8CCD-17-785_awayreminder@216.badmintonn
 ers.net
DTSTAMP:20260420T073346Z
SUMMARY:Uitmatch bevestigd? (Beerke 3G (106) - Spinshuttle 5G (112))
DESCRIPTION:Je hebt 72 uur na aanvang om een uitmatch op Badmintonvlaandere
 n in te vullen. Match info: Beerke 3G (106) - Spinshuttle 5G (112) - Link:
  https://www.badmintonvlaanderen.be/sport/teammatch.aspx?id=343A6D01-7373-
 405B-9427-CB56B07F8CCD&match=785
DTSTART;TZID=Europe/Brussels:20211201T100000
DTEND;TZID=Europe/Brussels:20211201T100000
END:VEVENT
BEGIN:VEVENT
UID:343A6D01-7373-405B-9427-CB56B07F8CCD-17-787_awayreminder@216.badmintonn
 ers.net
DTSTAMP:20260420T073346Z
SUMMARY:Uitmatch bevestigd? (Waverse 3G (109) - Spinshuttle 5G (112))
DESCRIPTION:Je hebt 72 uur na aanvang om een uitmatch op Badmintonvlaandere
 n in te vullen. Match info: Waverse 3G (109) - Spinshuttle 5G (112) - Link
 : https://www.badmintonvlaanderen.be/sport/teammatch.aspx?id=343A6D01-7373
 -405B-9427-CB56B07F8CCD&match=787
DTSTART;TZID=Europe/Brussels:20211215T140000
DTEND;TZID=Europe/Brussels:20211215T140000
END:VEVENT
BEGIN:VEVENT
UID:343A6D01-7373-405B-9427-CB56B07F8CCD-17-784_awayreminder@216.badmintonn
 ers.net
DTSTAMP:20260420T073346Z
SUMMARY:Uitmatch bevestigd? (Rijkerack 4G (107) - Spinshuttle 5G (112))
DESCRIPTION:Je hebt 72 uur na aanvang om een uitmatch op Badmintonvlaandere
 n in te vullen. Match info: Rijkerack 4G (107) - Spinshuttle 5G (112) - Li
 nk: https://www.badmintonvlaanderen.be/sport/teammatch.aspx?id=343A6D01-73
 73-405B-9427-CB56B07F8CCD&match=784
DTSTART;TZID=Europe/Brussels:20220216T190000
DTEND;TZID=Europe/Brussels:20220216T190000
END:VEVENT
BEGIN:VEVENT
UID:343A6D01-7373-405B-9427-CB56B07F8CCD-17-782_awayreminder@216.badmintonn
 ers.net
DTSTAMP:20260420T073346Z
SUMMARY:Uitmatch bevestigd? (Klein Boom 8G (110) - Spinshuttle 5G (112))
DESCRIPTION:Je hebt 72 uur na aanvang om een uitmatch op Badmintonvlaandere
 n in te vullen. Match info: Klein Boom 8G (110) - Spinshuttle 5G (112) - L
 ink: https://www.badmintonvlaanderen.be/sport/teammatch.aspx?id=343A6D01-7
 373-405B-9427-CB56B07F8CCD&match=782
DTSTART;TZID=Europe/Brussels:20220223T190000
DTEND;TZID=Europe/Brussels:20220223T190000
END:VEVENT
BEGIN:VEVENT
UID:343A6D01-7373-405B-9427-CB56B07F8CCD-17-786_awayreminder@216.badmintonn
 ers.net
DTSTAMP:20260420T073346Z
SUMMARY:Uitmatch bevestigd? (Sint Job 1G (107) - Spinshuttle 5G (112))
DESCRIPTION:Je hebt 72 uur na aanvang om een uitmatch op Badmintonvlaandere
 n in te vullen. Match info: Sint Job 1G (107) - Spinshuttle 5G (112) - Lin
 k: https://www.badmintonvlaanderen.be/sport/teammatch.aspx?id=343A6D01-737
 3-405B-9427-CB56B07F8CCD&match=786
DTSTART;TZID=Europe/Brussels:20220330T100000
DTEND;TZID=Europe/Brussels:20220330T100000
END:VEVENT
END:VCALENDAR