BEGIN:VCALENDAR
VERSION:2.0
PRODID:spatie/icalendar-generator
NAME:sint_job_1g_107_reminders
X-WR-CALNAME:sint_job_1g_107_reminders
BEGIN:VTIMEZONE
TZID:Europe/Brussels
BEGIN:DAYLIGHT
DTSTART:20210328T010000
TZOFFSETFROM:+0100
TZOFFSETTO:+0200
END:DAYLIGHT
BEGIN:STANDARD
DTSTART:20211031T030000
TZOFFSETFROM:+0200
TZOFFSETTO:+0100
END:STANDARD
BEGIN:DAYLIGHT
DTSTART:20220327T010000
TZOFFSETFROM:+0100
TZOFFSETTO:+0200
END:DAYLIGHT
END:VTIMEZONE
BEGIN:VTIMEZONE
TZID:UTC
BEGIN:STANDARD
DTSTART:20250724T055142
TZOFFSETFROM:+0000
TZOFFSETTO:+0000
END:STANDARD
END:VTIMEZONE
BEGIN:VEVENT
UID:343A6D01-7373-405B-9427-CB56B07F8CCD-17-811_homereminder@219.badmintonn
 ers.net
DTSTAMP:20260420T055142Z
SUMMARY:Thuismatch ingevuld? (Sint Job 1G (107) - Waverse 3G (109))
DESCRIPTION:Je hebt 36 uur na aanvang om een thuismatch op Badmintonvlaande
 ren in te vullen. Match info: Sint Job 1G (107) - Waverse 3G (109) - Link:
  https://www.badmintonvlaanderen.be/sport/teammatch.aspx?id=343A6D01-7373-
 405B-9427-CB56B07F8CCD&match=811
DTSTART;TZID=Europe/Brussels:20211101T220000
DTEND;TZID=Europe/Brussels:20211101T220000
END:VEVENT
BEGIN:VEVENT
UID:343A6D01-7373-405B-9427-CB56B07F8CCD-17-780_homereminder@219.badmintonn
 ers.net
DTSTAMP:20260420T055142Z
SUMMARY:Thuismatch ingevuld? (Sint Job 1G (107) - Zoersel 4G (105))
DESCRIPTION:Je hebt 36 uur na aanvang om een thuismatch op Badmintonvlaande
 ren in te vullen. Match info: Sint Job 1G (107) - Zoersel 4G (105) - Link:
  https://www.badmintonvlaanderen.be/sport/teammatch.aspx?id=343A6D01-7373-
 405B-9427-CB56B07F8CCD&match=780
DTSTART;TZID=Europe/Brussels:20211129T220000
DTEND;TZID=Europe/Brussels:20211129T220000
END:VEVENT
BEGIN:VEVENT
UID:343A6D01-7373-405B-9427-CB56B07F8CCD-17-792_homereminder@219.badmintonn
 ers.net
DTSTAMP:20260420T055142Z
SUMMARY:Thuismatch ingevuld? (Sint Job 1G (107) - Rijkerack 4G (107))
DESCRIPTION:Je hebt 36 uur na aanvang om een thuismatch op Badmintonvlaande
 ren in te vullen. Match info: Sint Job 1G (107) - Rijkerack 4G (107) - Lin
 k: https://www.badmintonvlaanderen.be/sport/teammatch.aspx?id=343A6D01-737
 3-405B-9427-CB56B07F8CCD&match=792
DTSTART;TZID=Europe/Brussels:20211213T220000
DTEND;TZID=Europe/Brussels:20211213T220000
END:VEVENT
BEGIN:VEVENT
UID:343A6D01-7373-405B-9427-CB56B07F8CCD-17-774_homereminder@219.badmintonn
 ers.net
DTSTAMP:20260420T055142Z
SUMMARY:Thuismatch ingevuld? (Sint Job 1G (107) - Klein Boom 8G (110))
DESCRIPTION:Je hebt 36 uur na aanvang om een thuismatch op Badmintonvlaande
 ren in te vullen. Match info: Sint Job 1G (107) - Klein Boom 8G (110) - Li
 nk: https://www.badmintonvlaanderen.be/sport/teammatch.aspx?id=343A6D01-73
 73-405B-9427-CB56B07F8CCD&match=774
DTSTART;TZID=Europe/Brussels:20220207T220000
DTEND;TZID=Europe/Brussels:20220207T220000
END:VEVENT
BEGIN:VEVENT
UID:343A6D01-7373-405B-9427-CB56B07F8CCD-17-798_homereminder@219.badmintonn
 ers.net
DTSTAMP:20260420T055142Z
SUMMARY:Thuismatch ingevuld? (Sint Job 1G (107) - Beerke 3G (106))
DESCRIPTION:Je hebt 36 uur na aanvang om een thuismatch op Badmintonvlaande
 ren in te vullen. Match info: Sint Job 1G (107) - Beerke 3G (106) - Link: 
 https://www.badmintonvlaanderen.be/sport/teammatch.aspx?id=343A6D01-7373-4
 05B-9427-CB56B07F8CCD&match=798
DTSTART;TZID=Europe/Brussels:20220221T220000
DTEND;TZID=Europe/Brussels:20220221T220000
END:VEVENT
BEGIN:VEVENT
UID:343A6D01-7373-405B-9427-CB56B07F8CCD-17-786_homereminder@219.badmintonn
 ers.net
DTSTAMP:20260420T055142Z
SUMMARY:Thuismatch ingevuld? (Sint Job 1G (107) - Spinshuttle 5G (112))
DESCRIPTION:Je hebt 36 uur na aanvang om een thuismatch op Badmintonvlaande
 ren in te vullen. Match info: Sint Job 1G (107) - Spinshuttle 5G (112) - L
 ink: https://www.badmintonvlaanderen.be/sport/teammatch.aspx?id=343A6D01-7
 373-405B-9427-CB56B07F8CCD&match=786
DTSTART;TZID=Europe/Brussels:20220328T220000
DTEND;TZID=Europe/Brussels:20220328T220000
END:VEVENT
BEGIN:VEVENT
UID:343A6D01-7373-405B-9427-CB56B07F8CCD-17-800_awayreminder@219.badmintonn
 ers.net
DTSTAMP:20260420T055142Z
SUMMARY:Uitmatch bevestigd? (Klein Boom 8G (110) - Sint Job 1G (107))
DESCRIPTION:Je hebt 72 uur na aanvang om een uitmatch op Badmintonvlaandere
 n in te vullen. Match info: Klein Boom 8G (110) - Sint Job 1G (107) - Link
 : https://www.badmintonvlaanderen.be/sport/teammatch.aspx?id=343A6D01-7373
 -405B-9427-CB56B07F8CCD&match=800
DTSTART;TZID=Europe/Brussels:20211007T200000
DTEND;TZID=Europe/Brussels:20211007T200000
END:VEVENT
BEGIN:VEVENT
UID:343A6D01-7373-405B-9427-CB56B07F8CCD-17-804_awayreminder@219.badmintonn
 ers.net
DTSTAMP:20260420T055142Z
SUMMARY:Uitmatch bevestigd? (Beerke 3G (106) - Sint Job 1G (107))
DESCRIPTION:Je hebt 72 uur na aanvang om een uitmatch op Badmintonvlaandere
 n in te vullen. Match info: Beerke 3G (106) - Sint Job 1G (107) - Link: ht
 tps://www.badmintonvlaanderen.be/sport/teammatch.aspx?id=343A6D01-7373-405
 B-9427-CB56B07F8CCD&match=804
DTSTART;TZID=Europe/Brussels:20211020T100000
DTEND;TZID=Europe/Brussels:20211020T100000
END:VEVENT
BEGIN:VEVENT
UID:343A6D01-7373-405B-9427-CB56B07F8CCD-17-802_awayreminder@219.badmintonn
 ers.net
DTSTAMP:20260420T055142Z
SUMMARY:Uitmatch bevestigd? (Spinshuttle 5G (112) - Sint Job 1G (107))
DESCRIPTION:Je hebt 72 uur na aanvang om een uitmatch op Badmintonvlaandere
 n in te vullen. Match info: Spinshuttle 5G (112) - Sint Job 1G (107) - Lin
 k: https://www.badmintonvlaanderen.be/sport/teammatch.aspx?id=343A6D01-737
 3-405B-9427-CB56B07F8CCD&match=802
DTSTART;TZID=Europe/Brussels:20211119T200000
DTEND;TZID=Europe/Brussels:20211119T200000
END:VEVENT
BEGIN:VEVENT
UID:343A6D01-7373-405B-9427-CB56B07F8CCD-17-805_awayreminder@219.badmintonn
 ers.net
DTSTAMP:20260420T055142Z
SUMMARY:Uitmatch bevestigd? (Waverse 3G (109) - Sint Job 1G (107))
DESCRIPTION:Je hebt 72 uur na aanvang om een uitmatch op Badmintonvlaandere
 n in te vullen. Match info: Waverse 3G (109) - Sint Job 1G (107) - Link: h
 ttps://www.badmintonvlaanderen.be/sport/teammatch.aspx?id=343A6D01-7373-40
 5B-9427-CB56B07F8CCD&match=805
DTSTART;TZID=Europe/Brussels:20220126T140000
DTEND;TZID=Europe/Brussels:20220126T140000
END:VEVENT
BEGIN:VEVENT
UID:343A6D01-7373-405B-9427-CB56B07F8CCD-17-801_awayreminder@219.badmintonn
 ers.net
DTSTAMP:20260420T055142Z
SUMMARY:Uitmatch bevestigd? (Zoersel 4G (105) - Sint Job 1G (107))
DESCRIPTION:Je hebt 72 uur na aanvang om een uitmatch op Badmintonvlaandere
 n in te vullen. Match info: Zoersel 4G (105) - Sint Job 1G (107) - Link: h
 ttps://www.badmintonvlaanderen.be/sport/teammatch.aspx?id=343A6D01-7373-40
 5B-9427-CB56B07F8CCD&match=801
DTSTART;TZID=Europe/Brussels:20220323T120000
DTEND;TZID=Europe/Brussels:20220323T120000
END:VEVENT
BEGIN:VEVENT
UID:343A6D01-7373-405B-9427-CB56B07F8CCD-17-803_awayreminder@219.badmintonn
 ers.net
DTSTAMP:20260420T055142Z
SUMMARY:Uitmatch bevestigd? (Rijkerack 4G (107) - Sint Job 1G (107))
DESCRIPTION:Je hebt 72 uur na aanvang om een uitmatch op Badmintonvlaandere
 n in te vullen. Match info: Rijkerack 4G (107) - Sint Job 1G (107) - Link:
  https://www.badmintonvlaanderen.be/sport/teammatch.aspx?id=343A6D01-7373-
 405B-9427-CB56B07F8CCD&match=803
DTSTART;TZID=Europe/Brussels:20220427T190000
DTEND;TZID=Europe/Brussels:20220427T190000
END:VEVENT
END:VCALENDAR