BEGIN:VCALENDAR
VERSION:2.0
PRODID:spatie/icalendar-generator
NAME:oelegem_1g_135_reminders
X-WR-CALNAME:oelegem_1g_135_reminders
BEGIN:VTIMEZONE
TZID:Europe/Brussels
BEGIN:DAYLIGHT
DTSTART:20210328T010000
TZOFFSETFROM:+0100
TZOFFSETTO:+0200
END:DAYLIGHT
BEGIN:STANDARD
DTSTART:20211031T030000
TZOFFSETFROM:+0200
TZOFFSETTO:+0100
END:STANDARD
BEGIN:DAYLIGHT
DTSTART:20220327T010000
TZOFFSETFROM:+0100
TZOFFSETTO:+0200
END:DAYLIGHT
END:VTIMEZONE
BEGIN:VTIMEZONE
TZID:UTC
BEGIN:STANDARD
DTSTART:20250724T055146
TZOFFSETFROM:+0000
TZOFFSETTO:+0000
END:STANDARD
END:VTIMEZONE
BEGIN:VEVENT
UID:343A6D01-7373-405B-9427-CB56B07F8CCD-18-841_homereminder@10.badmintonne
 rs.net
DTSTAMP:20260420T055146Z
SUMMARY:Thuismatch ingevuld? (Oelegem 1G (135) - Rita Serveert 4G (130))
DESCRIPTION:Je hebt 36 uur na aanvang om een thuismatch op Badmintonvlaande
 ren in te vullen. Match info: Oelegem 1G (135) - Rita Serveert 4G (130) - 
 Link: https://www.badmintonvlaanderen.be/sport/teammatch.aspx?id=343A6D01-
 7373-405B-9427-CB56B07F8CCD&match=841
DTSTART;TZID=Europe/Brussels:20211005T070000
DTEND;TZID=Europe/Brussels:20211005T070000
END:VEVENT
BEGIN:VEVENT
UID:343A6D01-7373-405B-9427-CB56B07F8CCD-18-860_homereminder@10.badmintonne
 rs.net
DTSTAMP:20260420T055146Z
SUMMARY:Thuismatch ingevuld? (Oelegem 1G (135) - Duffel 3G (133))
DESCRIPTION:Je hebt 36 uur na aanvang om een thuismatch op Badmintonvlaande
 ren in te vullen. Match info: Oelegem 1G (135) - Duffel 3G (133) - Link: h
 ttps://www.badmintonvlaanderen.be/sport/teammatch.aspx?id=343A6D01-7373-40
 5B-9427-CB56B07F8CCD&match=860
DTSTART;TZID=Europe/Brussels:20211019T070000
DTEND;TZID=Europe/Brussels:20211019T070000
END:VEVENT
BEGIN:VEVENT
UID:343A6D01-7373-405B-9427-CB56B07F8CCD-18-829_homereminder@10.badmintonne
 rs.net
DTSTAMP:20260420T055146Z
SUMMARY:Thuismatch ingevuld? (Oelegem 1G (135) - Bacss 4G (127))
DESCRIPTION:Je hebt 36 uur na aanvang om een thuismatch op Badmintonvlaande
 ren in te vullen. Match info: Oelegem 1G (135) - Bacss 4G (127) - Link: ht
 tps://www.badmintonvlaanderen.be/sport/teammatch.aspx?id=343A6D01-7373-405
 B-9427-CB56B07F8CCD&match=829
DTSTART;TZID=Europe/Brussels:20211214T070000
DTEND;TZID=Europe/Brussels:20211214T070000
END:VEVENT
BEGIN:VEVENT
UID:343A6D01-7373-405B-9427-CB56B07F8CCD-18-835_homereminder@10.badmintonne
 rs.net
DTSTAMP:20260420T055146Z
SUMMARY:Thuismatch ingevuld? (Oelegem 1G (135) - Berlaar 3G (127))
DESCRIPTION:Je hebt 36 uur na aanvang om een thuismatch op Badmintonvlaande
 ren in te vullen. Match info: Oelegem 1G (135) - Berlaar 3G (127) - Link: 
 https://www.badmintonvlaanderen.be/sport/teammatch.aspx?id=343A6D01-7373-4
 05B-9427-CB56B07F8CCD&match=835
DTSTART;TZID=Europe/Brussels:20220201T070000
DTEND;TZID=Europe/Brussels:20220201T070000
END:VEVENT
BEGIN:VEVENT
UID:343A6D01-7373-405B-9427-CB56B07F8CCD-18-847_homereminder@10.badmintonne
 rs.net
DTSTAMP:20260420T055146Z
SUMMARY:Thuismatch ingevuld? (Oelegem 1G (135) - Klein Boom 9G (124))
DESCRIPTION:Je hebt 36 uur na aanvang om een thuismatch op Badmintonvlaande
 ren in te vullen. Match info: Oelegem 1G (135) - Klein Boom 9G (124) - Lin
 k: https://www.badmintonvlaanderen.be/sport/teammatch.aspx?id=343A6D01-737
 3-405B-9427-CB56B07F8CCD&match=847
DTSTART;TZID=Europe/Brussels:20220208T070000
DTEND;TZID=Europe/Brussels:20220208T070000
END:VEVENT
BEGIN:VEVENT
UID:343A6D01-7373-405B-9427-CB56B07F8CCD-18-823_homereminder@10.badmintonne
 rs.net
DTSTAMP:20260420T055146Z
SUMMARY:Thuismatch ingevuld? (Oelegem 1G (135) - Opslag 5G (120))
DESCRIPTION:Je hebt 36 uur na aanvang om een thuismatch op Badmintonvlaande
 ren in te vullen. Match info: Oelegem 1G (135) - Opslag 5G (120) - Link: h
 ttps://www.badmintonvlaanderen.be/sport/teammatch.aspx?id=343A6D01-7373-40
 5B-9427-CB56B07F8CCD&match=823
DTSTART;TZID=Europe/Brussels:20220322T070000
DTEND;TZID=Europe/Brussels:20220322T070000
END:VEVENT
BEGIN:VEVENT
UID:343A6D01-7373-405B-9427-CB56B07F8CCD-18-1540_homereminder@10.badmintonn
 ers.net
DTSTAMP:20260420T055146Z
SUMMARY:Thuismatch ingevuld? (Oelegem 1G (135) - Baret 1G (123))
DESCRIPTION:Je hebt 36 uur na aanvang om een thuismatch op Badmintonvlaande
 ren in te vullen. Match info: Oelegem 1G (135) - Baret 1G (123) - Link: ht
 tps://www.badmintonvlaanderen.be/sport/teammatch.aspx?id=343A6D01-7373-405
 B-9427-CB56B07F8CCD&match=1540
DTSTART;TZID=Europe/Brussels:20220405T070000
DTEND;TZID=Europe/Brussels:20220405T070000
END:VEVENT
BEGIN:VEVENT
UID:343A6D01-7373-405B-9427-CB56B07F8CCD-18-853_awayreminder@10.badmintonne
 rs.net
DTSTAMP:20260420T055146Z
SUMMARY:Uitmatch bevestigd? (Klein Boom 9G (124) - Oelegem 1G (135))
DESCRIPTION:Je hebt 72 uur na aanvang om een uitmatch op Badmintonvlaandere
 n in te vullen. Match info: Klein Boom 9G (124) - Oelegem 1G (135) - Link:
  https://www.badmintonvlaanderen.be/sport/teammatch.aspx?id=343A6D01-7373-
 405B-9427-CB56B07F8CCD&match=853
DTSTART;TZID=Europe/Brussels:20210915T190000
DTEND;TZID=Europe/Brussels:20210915T190000
END:VEVENT
BEGIN:VEVENT
UID:343A6D01-7373-405B-9427-CB56B07F8CCD-18-851_awayreminder@10.badmintonne
 rs.net
DTSTAMP:20260420T055146Z
SUMMARY:Uitmatch bevestigd? (Berlaar 3G (127) - Oelegem 1G (135))
DESCRIPTION:Je hebt 72 uur na aanvang om een uitmatch op Badmintonvlaandere
 n in te vullen. Match info: Berlaar 3G (127) - Oelegem 1G (135) - Link: ht
 tps://www.badmintonvlaanderen.be/sport/teammatch.aspx?id=343A6D01-7373-405
 B-9427-CB56B07F8CCD&match=851
DTSTART;TZID=Europe/Brussels:20211110T093000
DTEND;TZID=Europe/Brussels:20211110T093000
END:VEVENT
BEGIN:VEVENT
UID:343A6D01-7373-405B-9427-CB56B07F8CCD-18-849_awayreminder@10.badmintonne
 rs.net
DTSTAMP:20260420T055146Z
SUMMARY:Uitmatch bevestigd? (Opslag 5G (120) - Oelegem 1G (135))
DESCRIPTION:Je hebt 72 uur na aanvang om een uitmatch op Badmintonvlaandere
 n in te vullen. Match info: Opslag 5G (120) - Oelegem 1G (135) - Link: htt
 ps://www.badmintonvlaanderen.be/sport/teammatch.aspx?id=343A6D01-7373-405B
 -9427-CB56B07F8CCD&match=849
DTSTART;TZID=Europe/Brussels:20211117T163000
DTEND;TZID=Europe/Brussels:20211117T163000
END:VEVENT
BEGIN:VEVENT
UID:343A6D01-7373-405B-9427-CB56B07F8CCD-18-1533_awayreminder@10.badmintonn
 ers.net
DTSTAMP:20260420T055146Z
SUMMARY:Uitmatch bevestigd? (Baret 1G (123) - Oelegem 1G (135))
DESCRIPTION:Je hebt 72 uur na aanvang om een uitmatch op Badmintonvlaandere
 n in te vullen. Match info: Baret 1G (123) - Oelegem 1G (135) - Link: http
 s://www.badmintonvlaanderen.be/sport/teammatch.aspx?id=343A6D01-7373-405B-
 9427-CB56B07F8CCD&match=1533
DTSTART;TZID=Europe/Brussels:20211201T190000
DTEND;TZID=Europe/Brussels:20211201T190000
END:VEVENT
BEGIN:VEVENT
UID:343A6D01-7373-405B-9427-CB56B07F8CCD-18-854_awayreminder@10.badmintonne
 rs.net
DTSTAMP:20260420T055146Z
SUMMARY:Uitmatch bevestigd? (Duffel 3G (133) - Oelegem 1G (135))
DESCRIPTION:Je hebt 72 uur na aanvang om een uitmatch op Badmintonvlaandere
 n in te vullen. Match info: Duffel 3G (133) - Oelegem 1G (135) - Link: htt
 ps://www.badmintonvlaanderen.be/sport/teammatch.aspx?id=343A6D01-7373-405B
 -9427-CB56B07F8CCD&match=854
DTSTART;TZID=Europe/Brussels:20220126T200000
DTEND;TZID=Europe/Brussels:20220126T200000
END:VEVENT
BEGIN:VEVENT
UID:343A6D01-7373-405B-9427-CB56B07F8CCD-18-850_awayreminder@10.badmintonne
 rs.net
DTSTAMP:20260420T055146Z
SUMMARY:Uitmatch bevestigd? (Bacss 4G (127) - Oelegem 1G (135))
DESCRIPTION:Je hebt 72 uur na aanvang om een uitmatch op Badmintonvlaandere
 n in te vullen. Match info: Bacss 4G (127) - Oelegem 1G (135) - Link: http
 s://www.badmintonvlaanderen.be/sport/teammatch.aspx?id=343A6D01-7373-405B-
 9427-CB56B07F8CCD&match=850
DTSTART;TZID=Europe/Brussels:20220221T201500
DTEND;TZID=Europe/Brussels:20220221T201500
END:VEVENT
BEGIN:VEVENT
UID:343A6D01-7373-405B-9427-CB56B07F8CCD-18-852_awayreminder@10.badmintonne
 rs.net
DTSTAMP:20260420T055146Z
SUMMARY:Uitmatch bevestigd? (Rita Serveert 4G (130) - Oelegem 1G (135))
DESCRIPTION:Je hebt 72 uur na aanvang om een uitmatch op Badmintonvlaandere
 n in te vullen. Match info: Rita Serveert 4G (130) - Oelegem 1G (135) - Li
 nk: https://www.badmintonvlaanderen.be/sport/teammatch.aspx?id=343A6D01-73
 73-405B-9427-CB56B07F8CCD&match=852
DTSTART;TZID=Europe/Brussels:20220309T190000
DTEND;TZID=Europe/Brussels:20220309T190000
END:VEVENT
END:VCALENDAR