BEGIN:VCALENDAR
VERSION:2.0
PRODID:spatie/icalendar-generator
NAME:opslag_5g_120_reminders
X-WR-CALNAME:opslag_5g_120_reminders
BEGIN:VTIMEZONE
TZID:Europe/Brussels
BEGIN:DAYLIGHT
DTSTART:20210328T010000
TZOFFSETFROM:+0100
TZOFFSETTO:+0200
END:DAYLIGHT
BEGIN:STANDARD
DTSTART:20211031T030000
TZOFFSETFROM:+0200
TZOFFSETTO:+0100
END:STANDARD
BEGIN:DAYLIGHT
DTSTART:20220327T010000
TZOFFSETFROM:+0100
TZOFFSETTO:+0200
END:DAYLIGHT
END:VTIMEZONE
BEGIN:VTIMEZONE
TZID:UTC
BEGIN:STANDARD
DTSTART:20250724T073346
TZOFFSETFROM:+0000
TZOFFSETTO:+0000
END:STANDARD
END:VTIMEZONE
BEGIN:VEVENT
UID:343A6D01-7373-405B-9427-CB56B07F8CCD-18-825_homereminder@160.badmintonn
 ers.net
DTSTAMP:20260420T073346Z
SUMMARY:Thuismatch ingevuld? (Opslag 5G (120) - Bacss 4G (127))
DESCRIPTION:Je hebt 36 uur na aanvang om een thuismatch op Badmintonvlaande
 ren in te vullen. Match info: Opslag 5G (120) - Bacss 4G (127) - Link: htt
 ps://www.badmintonvlaanderen.be/sport/teammatch.aspx?id=343A6D01-7373-405B
 -9427-CB56B07F8CCD&match=825
DTSTART;TZID=Europe/Brussels:20211005T043000
DTEND;TZID=Europe/Brussels:20211005T043000
END:VEVENT
BEGIN:VEVENT
UID:343A6D01-7373-405B-9427-CB56B07F8CCD-18-849_homereminder@160.badmintonn
 ers.net
DTSTAMP:20260420T073346Z
SUMMARY:Thuismatch ingevuld? (Opslag 5G (120) - Oelegem 1G (135))
DESCRIPTION:Je hebt 36 uur na aanvang om een thuismatch op Badmintonvlaande
 ren in te vullen. Match info: Opslag 5G (120) - Oelegem 1G (135) - Link: h
 ttps://www.badmintonvlaanderen.be/sport/teammatch.aspx?id=343A6D01-7373-40
 5B-9427-CB56B07F8CCD&match=849
DTSTART;TZID=Europe/Brussels:20211116T043000
DTEND;TZID=Europe/Brussels:20211116T043000
END:VEVENT
BEGIN:VEVENT
UID:343A6D01-7373-405B-9427-CB56B07F8CCD-18-1535_homereminder@160.badminton
 ners.net
DTSTAMP:20260420T073346Z
SUMMARY:Thuismatch ingevuld? (Opslag 5G (120) - Baret 1G (123))
DESCRIPTION:Je hebt 36 uur na aanvang om een thuismatch op Badmintonvlaande
 ren in te vullen. Match info: Opslag 5G (120) - Baret 1G (123) - Link: htt
 ps://www.badmintonvlaanderen.be/sport/teammatch.aspx?id=343A6D01-7373-405B
 -9427-CB56B07F8CCD&match=1535
DTSTART;TZID=Europe/Brussels:20211123T043000
DTEND;TZID=Europe/Brussels:20211123T043000
END:VEVENT
BEGIN:VEVENT
UID:343A6D01-7373-405B-9427-CB56B07F8CCD-18-837_homereminder@160.badmintonn
 ers.net
DTSTAMP:20260420T073346Z
SUMMARY:Thuismatch ingevuld? (Opslag 5G (120) - Rita Serveert 4G (130))
DESCRIPTION:Je hebt 36 uur na aanvang om een thuismatch op Badmintonvlaande
 ren in te vullen. Match info: Opslag 5G (120) - Rita Serveert 4G (130) - L
 ink: https://www.badmintonvlaanderen.be/sport/teammatch.aspx?id=343A6D01-7
 373-405B-9427-CB56B07F8CCD&match=837
DTSTART;TZID=Europe/Brussels:20211207T043000
DTEND;TZID=Europe/Brussels:20211207T043000
END:VEVENT
BEGIN:VEVENT
UID:343A6D01-7373-405B-9427-CB56B07F8CCD-18-843_homereminder@160.badmintonn
 ers.net
DTSTAMP:20260420T073346Z
SUMMARY:Thuismatch ingevuld? (Opslag 5G (120) - Klein Boom 9G (124))
DESCRIPTION:Je hebt 36 uur na aanvang om een thuismatch op Badmintonvlaande
 ren in te vullen. Match info: Opslag 5G (120) - Klein Boom 9G (124) - Link
 : https://www.badmintonvlaanderen.be/sport/teammatch.aspx?id=343A6D01-7373
 -405B-9427-CB56B07F8CCD&match=843
DTSTART;TZID=Europe/Brussels:20220125T043000
DTEND;TZID=Europe/Brussels:20220125T043000
END:VEVENT
BEGIN:VEVENT
UID:343A6D01-7373-405B-9427-CB56B07F8CCD-18-831_homereminder@160.badmintonn
 ers.net
DTSTAMP:20260420T073346Z
SUMMARY:Thuismatch ingevuld? (Opslag 5G (120) - Berlaar 3G (127))
DESCRIPTION:Je hebt 36 uur na aanvang om een thuismatch op Badmintonvlaande
 ren in te vullen. Match info: Opslag 5G (120) - Berlaar 3G (127) - Link: h
 ttps://www.badmintonvlaanderen.be/sport/teammatch.aspx?id=343A6D01-7373-40
 5B-9427-CB56B07F8CCD&match=831
DTSTART;TZID=Europe/Brussels:20220208T043000
DTEND;TZID=Europe/Brussels:20220208T043000
END:VEVENT
BEGIN:VEVENT
UID:343A6D01-7373-405B-9427-CB56B07F8CCD-18-855_homereminder@160.badmintonn
 ers.net
DTSTAMP:20260420T073346Z
SUMMARY:Thuismatch ingevuld? (Opslag 5G (120) - Duffel 3G (133))
DESCRIPTION:Je hebt 36 uur na aanvang om een thuismatch op Badmintonvlaande
 ren in te vullen. Match info: Opslag 5G (120) - Duffel 3G (133) - Link: ht
 tps://www.badmintonvlaanderen.be/sport/teammatch.aspx?id=343A6D01-7373-405
 B-9427-CB56B07F8CCD&match=855
DTSTART;TZID=Europe/Brussels:20220222T043000
DTEND;TZID=Europe/Brussels:20220222T043000
END:VEVENT
BEGIN:VEVENT
UID:343A6D01-7373-405B-9427-CB56B07F8CCD-18-820_awayreminder@160.badmintonn
 ers.net
DTSTAMP:20260420T073346Z
SUMMARY:Uitmatch bevestigd? (Berlaar 3G (127) - Opslag 5G (120))
DESCRIPTION:Je hebt 72 uur na aanvang om een uitmatch op Badmintonvlaandere
 n in te vullen. Match info: Berlaar 3G (127) - Opslag 5G (120) - Link: htt
 ps://www.badmintonvlaanderen.be/sport/teammatch.aspx?id=343A6D01-7373-405B
 -9427-CB56B07F8CCD&match=820
DTSTART;TZID=Europe/Brussels:20210922T093000
DTEND;TZID=Europe/Brussels:20210922T093000
END:VEVENT
BEGIN:VEVENT
UID:343A6D01-7373-405B-9427-CB56B07F8CCD-18-822_awayreminder@160.badmintonn
 ers.net
DTSTAMP:20260420T073346Z
SUMMARY:Uitmatch bevestigd? (Klein Boom 9G (124) - Opslag 5G (120))
DESCRIPTION:Je hebt 72 uur na aanvang om een uitmatch op Badmintonvlaandere
 n in te vullen. Match info: Klein Boom 9G (124) - Opslag 5G (120) - Link: 
 https://www.badmintonvlaanderen.be/sport/teammatch.aspx?id=343A6D01-7373-4
 05B-9427-CB56B07F8CCD&match=822
DTSTART;TZID=Europe/Brussels:20211020T190000
DTEND;TZID=Europe/Brussels:20211020T190000
END:VEVENT
BEGIN:VEVENT
UID:343A6D01-7373-405B-9427-CB56B07F8CCD-18-824_awayreminder@160.badmintonn
 ers.net
DTSTAMP:20260420T073346Z
SUMMARY:Uitmatch bevestigd? (Duffel 3G (133) - Opslag 5G (120))
DESCRIPTION:Je hebt 72 uur na aanvang om een uitmatch op Badmintonvlaandere
 n in te vullen. Match info: Duffel 3G (133) - Opslag 5G (120) - Link: http
 s://www.badmintonvlaanderen.be/sport/teammatch.aspx?id=343A6D01-7373-405B-
 9427-CB56B07F8CCD&match=824
DTSTART;TZID=Europe/Brussels:20211215T200000
DTEND;TZID=Europe/Brussels:20211215T200000
END:VEVENT
BEGIN:VEVENT
UID:343A6D01-7373-405B-9427-CB56B07F8CCD-18-1528_awayreminder@160.badminton
 ners.net
DTSTAMP:20260420T073346Z
SUMMARY:Uitmatch bevestigd? (Baret 1G (123) - Opslag 5G (120))
DESCRIPTION:Je hebt 72 uur na aanvang om een uitmatch op Badmintonvlaandere
 n in te vullen. Match info: Baret 1G (123) - Opslag 5G (120) - Link: https
 ://www.badmintonvlaanderen.be/sport/teammatch.aspx?id=343A6D01-7373-405B-9
 427-CB56B07F8CCD&match=1528
DTSTART;TZID=Europe/Brussels:20220112T190000
DTEND;TZID=Europe/Brussels:20220112T190000
END:VEVENT
BEGIN:VEVENT
UID:343A6D01-7373-405B-9427-CB56B07F8CCD-18-819_awayreminder@160.badmintonn
 ers.net
DTSTAMP:20260420T073346Z
SUMMARY:Uitmatch bevestigd? (Bacss 4G (127) - Opslag 5G (120))
DESCRIPTION:Je hebt 72 uur na aanvang om een uitmatch op Badmintonvlaandere
 n in te vullen. Match info: Bacss 4G (127) - Opslag 5G (120) - Link: https
 ://www.badmintonvlaanderen.be/sport/teammatch.aspx?id=343A6D01-7373-405B-9
 427-CB56B07F8CCD&match=819
DTSTART;TZID=Europe/Brussels:20220307T201500
DTEND;TZID=Europe/Brussels:20220307T201500
END:VEVENT
BEGIN:VEVENT
UID:343A6D01-7373-405B-9427-CB56B07F8CCD-18-823_awayreminder@160.badmintonn
 ers.net
DTSTAMP:20260420T073346Z
SUMMARY:Uitmatch bevestigd? (Oelegem 1G (135) - Opslag 5G (120))
DESCRIPTION:Je hebt 72 uur na aanvang om een uitmatch op Badmintonvlaandere
 n in te vullen. Match info: Oelegem 1G (135) - Opslag 5G (120) - Link: htt
 ps://www.badmintonvlaanderen.be/sport/teammatch.aspx?id=343A6D01-7373-405B
 -9427-CB56B07F8CCD&match=823
DTSTART;TZID=Europe/Brussels:20220323T190000
DTEND;TZID=Europe/Brussels:20220323T190000
END:VEVENT
BEGIN:VEVENT
UID:343A6D01-7373-405B-9427-CB56B07F8CCD-18-821_awayreminder@160.badmintonn
 ers.net
DTSTAMP:20260420T073346Z
SUMMARY:Uitmatch bevestigd? (Rita Serveert 4G (130) - Opslag 5G (120))
DESCRIPTION:Je hebt 72 uur na aanvang om een uitmatch op Badmintonvlaandere
 n in te vullen. Match info: Rita Serveert 4G (130) - Opslag 5G (120) - Lin
 k: https://www.badmintonvlaanderen.be/sport/teammatch.aspx?id=343A6D01-737
 3-405B-9427-CB56B07F8CCD&match=821
DTSTART;TZID=Europe/Brussels:20220406T190000
DTEND;TZID=Europe/Brussels:20220406T190000
END:VEVENT
END:VCALENDAR