BEGIN:VCALENDAR
VERSION:2.0
PRODID:spatie/icalendar-generator
NAME:berlaar_3g_127_reminders
X-WR-CALNAME:berlaar_3g_127_reminders
BEGIN:VTIMEZONE
TZID:Europe/Brussels
BEGIN:DAYLIGHT
DTSTART:20210328T010000
TZOFFSETFROM:+0100
TZOFFSETTO:+0200
END:DAYLIGHT
BEGIN:STANDARD
DTSTART:20211031T030000
TZOFFSETFROM:+0200
TZOFFSETTO:+0100
END:STANDARD
BEGIN:DAYLIGHT
DTSTART:20220327T010000
TZOFFSETFROM:+0100
TZOFFSETTO:+0200
END:DAYLIGHT
END:VTIMEZONE
BEGIN:VTIMEZONE
TZID:UTC
BEGIN:STANDARD
DTSTART:20250724T055140
TZOFFSETFROM:+0000
TZOFFSETTO:+0000
END:STANDARD
END:VTIMEZONE
BEGIN:VEVENT
UID:343A6D01-7373-405B-9427-CB56B07F8CCD-18-820_homereminder@171.badmintonn
 ers.net
DTSTAMP:20260420T055140Z
SUMMARY:Thuismatch ingevuld? (Berlaar 3G (127) - Opslag 5G (120))
DESCRIPTION:Je hebt 36 uur na aanvang om een thuismatch op Badmintonvlaande
 ren in te vullen. Match info: Berlaar 3G (127) - Opslag 5G (120) - Link: h
 ttps://www.badmintonvlaanderen.be/sport/teammatch.aspx?id=343A6D01-7373-40
 5B-9427-CB56B07F8CCD&match=820
DTSTART;TZID=Europe/Brussels:20210920T213000
DTEND;TZID=Europe/Brussels:20210920T213000
END:VEVENT
BEGIN:VEVENT
UID:343A6D01-7373-405B-9427-CB56B07F8CCD-18-1537_homereminder@171.badminton
 ners.net
DTSTAMP:20260420T055140Z
SUMMARY:Thuismatch ingevuld? (Berlaar 3G (127) - Baret 1G (123))
DESCRIPTION:Je hebt 36 uur na aanvang om een thuismatch op Badmintonvlaande
 ren in te vullen. Match info: Berlaar 3G (127) - Baret 1G (123) - Link: ht
 tps://www.badmintonvlaanderen.be/sport/teammatch.aspx?id=343A6D01-7373-405
 B-9427-CB56B07F8CCD&match=1537
DTSTART;TZID=Europe/Brussels:20211018T213000
DTEND;TZID=Europe/Brussels:20211018T213000
END:VEVENT
BEGIN:VEVENT
UID:343A6D01-7373-405B-9427-CB56B07F8CCD-18-851_homereminder@171.badmintonn
 ers.net
DTSTAMP:20260420T055140Z
SUMMARY:Thuismatch ingevuld? (Berlaar 3G (127) - Oelegem 1G (135))
DESCRIPTION:Je hebt 36 uur na aanvang om een thuismatch op Badmintonvlaande
 ren in te vullen. Match info: Berlaar 3G (127) - Oelegem 1G (135) - Link: 
 https://www.badmintonvlaanderen.be/sport/teammatch.aspx?id=343A6D01-7373-4
 05B-9427-CB56B07F8CCD&match=851
DTSTART;TZID=Europe/Brussels:20211108T213000
DTEND;TZID=Europe/Brussels:20211108T213000
END:VEVENT
BEGIN:VEVENT
UID:343A6D01-7373-405B-9427-CB56B07F8CCD-18-839_homereminder@171.badmintonn
 ers.net
DTSTAMP:20260420T055140Z
SUMMARY:Thuismatch ingevuld? (Berlaar 3G (127) - Rita Serveert 4G (130))
DESCRIPTION:Je hebt 36 uur na aanvang om een thuismatch op Badmintonvlaande
 ren in te vullen. Match info: Berlaar 3G (127) - Rita Serveert 4G (130) - 
 Link: https://www.badmintonvlaanderen.be/sport/teammatch.aspx?id=343A6D01-
 7373-405B-9427-CB56B07F8CCD&match=839
DTSTART;TZID=Europe/Brussels:20211115T213000
DTEND;TZID=Europe/Brussels:20211115T213000
END:VEVENT
BEGIN:VEVENT
UID:343A6D01-7373-405B-9427-CB56B07F8CCD-18-845_homereminder@171.badmintonn
 ers.net
DTSTAMP:20260420T055140Z
SUMMARY:Thuismatch ingevuld? (Berlaar 3G (127) - Klein Boom 9G (124))
DESCRIPTION:Je hebt 36 uur na aanvang om een thuismatch op Badmintonvlaande
 ren in te vullen. Match info: Berlaar 3G (127) - Klein Boom 9G (124) - Lin
 k: https://www.badmintonvlaanderen.be/sport/teammatch.aspx?id=343A6D01-737
 3-405B-9427-CB56B07F8CCD&match=845
DTSTART;TZID=Europe/Brussels:20220221T213000
DTEND;TZID=Europe/Brussels:20220221T213000
END:VEVENT
BEGIN:VEVENT
UID:343A6D01-7373-405B-9427-CB56B07F8CCD-18-857_homereminder@171.badmintonn
 ers.net
DTSTAMP:20260420T055140Z
SUMMARY:Thuismatch ingevuld? (Berlaar 3G (127) - Duffel 3G (133))
DESCRIPTION:Je hebt 36 uur na aanvang om een thuismatch op Badmintonvlaande
 ren in te vullen. Match info: Berlaar 3G (127) - Duffel 3G (133) - Link: h
 ttps://www.badmintonvlaanderen.be/sport/teammatch.aspx?id=343A6D01-7373-40
 5B-9427-CB56B07F8CCD&match=857
DTSTART;TZID=Europe/Brussels:20220307T213000
DTEND;TZID=Europe/Brussels:20220307T213000
END:VEVENT
BEGIN:VEVENT
UID:343A6D01-7373-405B-9427-CB56B07F8CCD-18-826_homereminder@171.badmintonn
 ers.net
DTSTAMP:20260420T055140Z
SUMMARY:Thuismatch ingevuld? (Berlaar 3G (127) - Bacss 4G (127))
DESCRIPTION:Je hebt 36 uur na aanvang om een thuismatch op Badmintonvlaande
 ren in te vullen. Match info: Berlaar 3G (127) - Bacss 4G (127) - Link: ht
 tps://www.badmintonvlaanderen.be/sport/teammatch.aspx?id=343A6D01-7373-405
 B-9427-CB56B07F8CCD&match=826
DTSTART;TZID=Europe/Brussels:20220404T213000
DTEND;TZID=Europe/Brussels:20220404T213000
END:VEVENT
BEGIN:VEVENT
UID:343A6D01-7373-405B-9427-CB56B07F8CCD-18-836_awayreminder@171.badmintonn
 ers.net
DTSTAMP:20260420T055140Z
SUMMARY:Uitmatch bevestigd? (Duffel 3G (133) - Berlaar 3G (127))
DESCRIPTION:Je hebt 72 uur na aanvang om een uitmatch op Badmintonvlaandere
 n in te vullen. Match info: Duffel 3G (133) - Berlaar 3G (127) - Link: htt
 ps://www.badmintonvlaanderen.be/sport/teammatch.aspx?id=343A6D01-7373-405B
 -9427-CB56B07F8CCD&match=836
DTSTART;TZID=Europe/Brussels:20211006T200000
DTEND;TZID=Europe/Brussels:20211006T200000
END:VEVENT
BEGIN:VEVENT
UID:343A6D01-7373-405B-9427-CB56B07F8CCD-18-834_awayreminder@171.badmintonn
 ers.net
DTSTAMP:20260420T055140Z
SUMMARY:Uitmatch bevestigd? (Klein Boom 9G (124) - Berlaar 3G (127))
DESCRIPTION:Je hebt 72 uur na aanvang om een uitmatch op Badmintonvlaandere
 n in te vullen. Match info: Klein Boom 9G (124) - Berlaar 3G (127) - Link:
  https://www.badmintonvlaanderen.be/sport/teammatch.aspx?id=343A6D01-7373-
 405B-9427-CB56B07F8CCD&match=834
DTSTART;TZID=Europe/Brussels:20211215T190000
DTEND;TZID=Europe/Brussels:20211215T190000
END:VEVENT
BEGIN:VEVENT
UID:343A6D01-7373-405B-9427-CB56B07F8CCD-18-832_awayreminder@171.badmintonn
 ers.net
DTSTAMP:20260420T055140Z
SUMMARY:Uitmatch bevestigd? (Bacss 4G (127) - Berlaar 3G (127))
DESCRIPTION:Je hebt 72 uur na aanvang om een uitmatch op Badmintonvlaandere
 n in te vullen. Match info: Bacss 4G (127) - Berlaar 3G (127) - Link: http
 s://www.badmintonvlaanderen.be/sport/teammatch.aspx?id=343A6D01-7373-405B-
 9427-CB56B07F8CCD&match=832
DTSTART;TZID=Europe/Brussels:20220117T201500
DTEND;TZID=Europe/Brussels:20220117T201500
END:VEVENT
BEGIN:VEVENT
UID:343A6D01-7373-405B-9427-CB56B07F8CCD-18-1530_awayreminder@171.badminton
 ners.net
DTSTAMP:20260420T055140Z
SUMMARY:Uitmatch bevestigd? (Baret 1G (123) - Berlaar 3G (127))
DESCRIPTION:Je hebt 72 uur na aanvang om een uitmatch op Badmintonvlaandere
 n in te vullen. Match info: Baret 1G (123) - Berlaar 3G (127) - Link: http
 s://www.badmintonvlaanderen.be/sport/teammatch.aspx?id=343A6D01-7373-405B-
 9427-CB56B07F8CCD&match=1530
DTSTART;TZID=Europe/Brussels:20220126T190000
DTEND;TZID=Europe/Brussels:20220126T190000
END:VEVENT
BEGIN:VEVENT
UID:343A6D01-7373-405B-9427-CB56B07F8CCD-18-835_awayreminder@171.badmintonn
 ers.net
DTSTAMP:20260420T055140Z
SUMMARY:Uitmatch bevestigd? (Oelegem 1G (135) - Berlaar 3G (127))
DESCRIPTION:Je hebt 72 uur na aanvang om een uitmatch op Badmintonvlaandere
 n in te vullen. Match info: Oelegem 1G (135) - Berlaar 3G (127) - Link: ht
 tps://www.badmintonvlaanderen.be/sport/teammatch.aspx?id=343A6D01-7373-405
 B-9427-CB56B07F8CCD&match=835
DTSTART;TZID=Europe/Brussels:20220202T190000
DTEND;TZID=Europe/Brussels:20220202T190000
END:VEVENT
BEGIN:VEVENT
UID:343A6D01-7373-405B-9427-CB56B07F8CCD-18-831_awayreminder@171.badmintonn
 ers.net
DTSTAMP:20260420T055140Z
SUMMARY:Uitmatch bevestigd? (Opslag 5G (120) - Berlaar 3G (127))
DESCRIPTION:Je hebt 72 uur na aanvang om een uitmatch op Badmintonvlaandere
 n in te vullen. Match info: Opslag 5G (120) - Berlaar 3G (127) - Link: htt
 ps://www.badmintonvlaanderen.be/sport/teammatch.aspx?id=343A6D01-7373-405B
 -9427-CB56B07F8CCD&match=831
DTSTART;TZID=Europe/Brussels:20220209T163000
DTEND;TZID=Europe/Brussels:20220209T163000
END:VEVENT
BEGIN:VEVENT
UID:343A6D01-7373-405B-9427-CB56B07F8CCD-18-833_awayreminder@171.badmintonn
 ers.net
DTSTAMP:20260420T055140Z
SUMMARY:Uitmatch bevestigd? (Rita Serveert 4G (130) - Berlaar 3G (127))
DESCRIPTION:Je hebt 72 uur na aanvang om een uitmatch op Badmintonvlaandere
 n in te vullen. Match info: Rita Serveert 4G (130) - Berlaar 3G (127) - Li
 nk: https://www.badmintonvlaanderen.be/sport/teammatch.aspx?id=343A6D01-73
 73-405B-9427-CB56B07F8CCD&match=833
DTSTART;TZID=Europe/Brussels:20220323T190000
DTEND;TZID=Europe/Brussels:20220323T190000
END:VEVENT
END:VCALENDAR