BEGIN:VCALENDAR
VERSION:2.0
PRODID:spatie/icalendar-generator
NAME:baret_1g_123_reminders
X-WR-CALNAME:baret_1g_123_reminders
BEGIN:VTIMEZONE
TZID:Europe/Brussels
BEGIN:DAYLIGHT
DTSTART:20210328T010000
TZOFFSETFROM:+0100
TZOFFSETTO:+0200
END:DAYLIGHT
BEGIN:STANDARD
DTSTART:20211031T030000
TZOFFSETFROM:+0200
TZOFFSETTO:+0100
END:STANDARD
BEGIN:DAYLIGHT
DTSTART:20220327T010000
TZOFFSETFROM:+0100
TZOFFSETTO:+0200
END:DAYLIGHT
END:VTIMEZONE
BEGIN:VTIMEZONE
TZID:UTC
BEGIN:STANDARD
DTSTART:20250724T055149
TZOFFSETFROM:+0000
TZOFFSETTO:+0000
END:STANDARD
END:VTIMEZONE
BEGIN:VEVENT
UID:343A6D01-7373-405B-9427-CB56B07F8CCD-18-1532_homereminder@231.badminton
 ners.net
DTSTAMP:20260420T055149Z
SUMMARY:Thuismatch ingevuld? (Baret 1G (123) - Klein Boom 9G (124))
DESCRIPTION:Je hebt 36 uur na aanvang om een thuismatch op Badmintonvlaande
 ren in te vullen. Match info: Baret 1G (123) - Klein Boom 9G (124) - Link:
  https://www.badmintonvlaanderen.be/sport/teammatch.aspx?id=343A6D01-7373-
 405B-9427-CB56B07F8CCD&match=1532
DTSTART;TZID=Europe/Brussels:20211005T070000
DTEND;TZID=Europe/Brussels:20211005T070000
END:VEVENT
BEGIN:VEVENT
UID:343A6D01-7373-405B-9427-CB56B07F8CCD-18-1534_homereminder@231.badminton
 ners.net
DTSTAMP:20260420T055149Z
SUMMARY:Thuismatch ingevuld? (Baret 1G (123) - Duffel 3G (133))
DESCRIPTION:Je hebt 36 uur na aanvang om een thuismatch op Badmintonvlaande
 ren in te vullen. Match info: Baret 1G (123) - Duffel 3G (133) - Link: htt
 ps://www.badmintonvlaanderen.be/sport/teammatch.aspx?id=343A6D01-7373-405B
 -9427-CB56B07F8CCD&match=1534
DTSTART;TZID=Europe/Brussels:20211116T070000
DTEND;TZID=Europe/Brussels:20211116T070000
END:VEVENT
BEGIN:VEVENT
UID:343A6D01-7373-405B-9427-CB56B07F8CCD-18-1533_homereminder@231.badminton
 ners.net
DTSTAMP:20260420T055149Z
SUMMARY:Thuismatch ingevuld? (Baret 1G (123) - Oelegem 1G (135))
DESCRIPTION:Je hebt 36 uur na aanvang om een thuismatch op Badmintonvlaande
 ren in te vullen. Match info: Baret 1G (123) - Oelegem 1G (135) - Link: ht
 tps://www.badmintonvlaanderen.be/sport/teammatch.aspx?id=343A6D01-7373-405
 B-9427-CB56B07F8CCD&match=1533
DTSTART;TZID=Europe/Brussels:20211130T070000
DTEND;TZID=Europe/Brussels:20211130T070000
END:VEVENT
BEGIN:VEVENT
UID:343A6D01-7373-405B-9427-CB56B07F8CCD-18-1528_homereminder@231.badminton
 ners.net
DTSTAMP:20260420T055149Z
SUMMARY:Thuismatch ingevuld? (Baret 1G (123) - Opslag 5G (120))
DESCRIPTION:Je hebt 36 uur na aanvang om een thuismatch op Badmintonvlaande
 ren in te vullen. Match info: Baret 1G (123) - Opslag 5G (120) - Link: htt
 ps://www.badmintonvlaanderen.be/sport/teammatch.aspx?id=343A6D01-7373-405B
 -9427-CB56B07F8CCD&match=1528
DTSTART;TZID=Europe/Brussels:20220111T070000
DTEND;TZID=Europe/Brussels:20220111T070000
END:VEVENT
BEGIN:VEVENT
UID:343A6D01-7373-405B-9427-CB56B07F8CCD-18-1530_homereminder@231.badminton
 ners.net
DTSTAMP:20260420T055149Z
SUMMARY:Thuismatch ingevuld? (Baret 1G (123) - Berlaar 3G (127))
DESCRIPTION:Je hebt 36 uur na aanvang om een thuismatch op Badmintonvlaande
 ren in te vullen. Match info: Baret 1G (123) - Berlaar 3G (127) - Link: ht
 tps://www.badmintonvlaanderen.be/sport/teammatch.aspx?id=343A6D01-7373-405
 B-9427-CB56B07F8CCD&match=1530
DTSTART;TZID=Europe/Brussels:20220125T070000
DTEND;TZID=Europe/Brussels:20220125T070000
END:VEVENT
BEGIN:VEVENT
UID:343A6D01-7373-405B-9427-CB56B07F8CCD-18-1529_homereminder@231.badminton
 ners.net
DTSTAMP:20260420T055149Z
SUMMARY:Thuismatch ingevuld? (Baret 1G (123) - Bacss 4G (127))
DESCRIPTION:Je hebt 36 uur na aanvang om een thuismatch op Badmintonvlaande
 ren in te vullen. Match info: Baret 1G (123) - Bacss 4G (127) - Link: http
 s://www.badmintonvlaanderen.be/sport/teammatch.aspx?id=343A6D01-7373-405B-
 9427-CB56B07F8CCD&match=1529
DTSTART;TZID=Europe/Brussels:20220208T070000
DTEND;TZID=Europe/Brussels:20220208T070000
END:VEVENT
BEGIN:VEVENT
UID:343A6D01-7373-405B-9427-CB56B07F8CCD-18-1531_homereminder@231.badminton
 ners.net
DTSTAMP:20260420T055149Z
SUMMARY:Thuismatch ingevuld? (Baret 1G (123) - Rita Serveert 4G (130))
DESCRIPTION:Je hebt 36 uur na aanvang om een thuismatch op Badmintonvlaande
 ren in te vullen. Match info: Baret 1G (123) - Rita Serveert 4G (130) - Li
 nk: https://www.badmintonvlaanderen.be/sport/teammatch.aspx?id=343A6D01-73
 73-405B-9427-CB56B07F8CCD&match=1531
DTSTART;TZID=Europe/Brussels:20220222T070000
DTEND;TZID=Europe/Brussels:20220222T070000
END:VEVENT
BEGIN:VEVENT
UID:343A6D01-7373-405B-9427-CB56B07F8CCD-18-1536_awayreminder@231.badminton
 ners.net
DTSTAMP:20260420T055149Z
SUMMARY:Uitmatch bevestigd? (Bacss 4G (127) - Baret 1G (123))
DESCRIPTION:Je hebt 72 uur na aanvang om een uitmatch op Badmintonvlaandere
 n in te vullen. Match info: Bacss 4G (127) - Baret 1G (123) - Link: https:
 //www.badmintonvlaanderen.be/sport/teammatch.aspx?id=343A6D01-7373-405B-94
 27-CB56B07F8CCD&match=1536
DTSTART;TZID=Europe/Brussels:20210920T200500
DTEND;TZID=Europe/Brussels:20210920T200500
END:VEVENT
BEGIN:VEVENT
UID:343A6D01-7373-405B-9427-CB56B07F8CCD-18-1537_awayreminder@231.badminton
 ners.net
DTSTAMP:20260420T055149Z
SUMMARY:Uitmatch bevestigd? (Berlaar 3G (127) - Baret 1G (123))
DESCRIPTION:Je hebt 72 uur na aanvang om een uitmatch op Badmintonvlaandere
 n in te vullen. Match info: Berlaar 3G (127) - Baret 1G (123) - Link: http
 s://www.badmintonvlaanderen.be/sport/teammatch.aspx?id=343A6D01-7373-405B-
 9427-CB56B07F8CCD&match=1537
DTSTART;TZID=Europe/Brussels:20211020T093000
DTEND;TZID=Europe/Brussels:20211020T093000
END:VEVENT
BEGIN:VEVENT
UID:343A6D01-7373-405B-9427-CB56B07F8CCD-18-1535_awayreminder@231.badminton
 ners.net
DTSTAMP:20260420T055149Z
SUMMARY:Uitmatch bevestigd? (Opslag 5G (120) - Baret 1G (123))
DESCRIPTION:Je hebt 72 uur na aanvang om een uitmatch op Badmintonvlaandere
 n in te vullen. Match info: Opslag 5G (120) - Baret 1G (123) - Link: https
 ://www.badmintonvlaanderen.be/sport/teammatch.aspx?id=343A6D01-7373-405B-9
 427-CB56B07F8CCD&match=1535
DTSTART;TZID=Europe/Brussels:20211124T163000
DTEND;TZID=Europe/Brussels:20211124T163000
END:VEVENT
BEGIN:VEVENT
UID:343A6D01-7373-405B-9427-CB56B07F8CCD-18-1538_awayreminder@231.badminton
 ners.net
DTSTAMP:20260420T055149Z
SUMMARY:Uitmatch bevestigd? (Rita Serveert 4G (130) - Baret 1G (123))
DESCRIPTION:Je hebt 72 uur na aanvang om een uitmatch op Badmintonvlaandere
 n in te vullen. Match info: Rita Serveert 4G (130) - Baret 1G (123) - Link
 : https://www.badmintonvlaanderen.be/sport/teammatch.aspx?id=343A6D01-7373
 -405B-9427-CB56B07F8CCD&match=1538
DTSTART;TZID=Europe/Brussels:20211215T190000
DTEND;TZID=Europe/Brussels:20211215T190000
END:VEVENT
BEGIN:VEVENT
UID:343A6D01-7373-405B-9427-CB56B07F8CCD-18-1539_awayreminder@231.badminton
 ners.net
DTSTAMP:20260420T055149Z
SUMMARY:Uitmatch bevestigd? (Klein Boom 9G (124) - Baret 1G (123))
DESCRIPTION:Je hebt 72 uur na aanvang om een uitmatch op Badmintonvlaandere
 n in te vullen. Match info: Klein Boom 9G (124) - Baret 1G (123) - Link: h
 ttps://www.badmintonvlaanderen.be/sport/teammatch.aspx?id=343A6D01-7373-40
 5B-9427-CB56B07F8CCD&match=1539
DTSTART;TZID=Europe/Brussels:20220309T190000
DTEND;TZID=Europe/Brussels:20220309T190000
END:VEVENT
BEGIN:VEVENT
UID:343A6D01-7373-405B-9427-CB56B07F8CCD-18-1541_awayreminder@231.badminton
 ners.net
DTSTAMP:20260420T055149Z
SUMMARY:Uitmatch bevestigd? (Duffel 3G (133) - Baret 1G (123))
DESCRIPTION:Je hebt 72 uur na aanvang om een uitmatch op Badmintonvlaandere
 n in te vullen. Match info: Duffel 3G (133) - Baret 1G (123) - Link: https
 ://www.badmintonvlaanderen.be/sport/teammatch.aspx?id=343A6D01-7373-405B-9
 427-CB56B07F8CCD&match=1541
DTSTART;TZID=Europe/Brussels:20220323T200000
DTEND;TZID=Europe/Brussels:20220323T200000
END:VEVENT
BEGIN:VEVENT
UID:343A6D01-7373-405B-9427-CB56B07F8CCD-18-1540_awayreminder@231.badminton
 ners.net
DTSTAMP:20260420T055149Z
SUMMARY:Uitmatch bevestigd? (Oelegem 1G (135) - Baret 1G (123))
DESCRIPTION:Je hebt 72 uur na aanvang om een uitmatch op Badmintonvlaandere
 n in te vullen. Match info: Oelegem 1G (135) - Baret 1G (123) - Link: http
 s://www.badmintonvlaanderen.be/sport/teammatch.aspx?id=343A6D01-7373-405B-
 9427-CB56B07F8CCD&match=1540
DTSTART;TZID=Europe/Brussels:20220406T190000
DTEND;TZID=Europe/Brussels:20220406T190000
END:VEVENT
END:VCALENDAR