BEGIN:VCALENDAR
VERSION:2.0
PRODID:spatie/icalendar-generator
NAME:duffel_3g_133_reminders
X-WR-CALNAME:duffel_3g_133_reminders
BEGIN:VTIMEZONE
TZID:Europe/Brussels
BEGIN:DAYLIGHT
DTSTART:20210328T010000
TZOFFSETFROM:+0100
TZOFFSETTO:+0200
END:DAYLIGHT
BEGIN:STANDARD
DTSTART:20211031T030000
TZOFFSETFROM:+0200
TZOFFSETTO:+0100
END:STANDARD
BEGIN:DAYLIGHT
DTSTART:20220327T010000
TZOFFSETFROM:+0100
TZOFFSETTO:+0200
END:DAYLIGHT
BEGIN:STANDARD
DTSTART:20221030T030000
TZOFFSETFROM:+0200
TZOFFSETTO:+0100
END:STANDARD
END:VTIMEZONE
BEGIN:VTIMEZONE
TZID:UTC
BEGIN:STANDARD
DTSTART:20250724T055112
TZOFFSETFROM:+0000
TZOFFSETTO:+0000
END:STANDARD
END:VTIMEZONE
BEGIN:VEVENT
UID:343A6D01-7373-405B-9427-CB56B07F8CCD-18-836_homereminder@4.badmintonner
 s.net
DTSTAMP:20260420T055112Z
SUMMARY:Thuismatch ingevuld? (Duffel 3G (133) - Berlaar 3G (127))
DESCRIPTION:Je hebt 36 uur na aanvang om een thuismatch op Badmintonvlaande
 ren in te vullen. Match info: Duffel 3G (133) - Berlaar 3G (127) - Link: h
 ttps://www.badmintonvlaanderen.be/sport/teammatch.aspx?id=343A6D01-7373-40
 5B-9427-CB56B07F8CCD&match=836
DTSTART;TZID=Europe/Brussels:20211005T080000
DTEND;TZID=Europe/Brussels:20211005T080000
END:VEVENT
BEGIN:VEVENT
UID:343A6D01-7373-405B-9427-CB56B07F8CCD-18-848_homereminder@4.badmintonner
 s.net
DTSTAMP:20260420T055112Z
SUMMARY:Thuismatch ingevuld? (Duffel 3G (133) - Klein Boom 9G (124))
DESCRIPTION:Je hebt 36 uur na aanvang om een thuismatch op Badmintonvlaande
 ren in te vullen. Match info: Duffel 3G (133) - Klein Boom 9G (124) - Link
 : https://www.badmintonvlaanderen.be/sport/teammatch.aspx?id=343A6D01-7373
 -405B-9427-CB56B07F8CCD&match=848
DTSTART;TZID=Europe/Brussels:20211130T080000
DTEND;TZID=Europe/Brussels:20211130T080000
END:VEVENT
BEGIN:VEVENT
UID:343A6D01-7373-405B-9427-CB56B07F8CCD-18-824_homereminder@4.badmintonner
 s.net
DTSTAMP:20260420T055112Z
SUMMARY:Thuismatch ingevuld? (Duffel 3G (133) - Opslag 5G (120))
DESCRIPTION:Je hebt 36 uur na aanvang om een thuismatch op Badmintonvlaande
 ren in te vullen. Match info: Duffel 3G (133) - Opslag 5G (120) - Link: ht
 tps://www.badmintonvlaanderen.be/sport/teammatch.aspx?id=343A6D01-7373-405
 B-9427-CB56B07F8CCD&match=824
DTSTART;TZID=Europe/Brussels:20211214T080000
DTEND;TZID=Europe/Brussels:20211214T080000
END:VEVENT
BEGIN:VEVENT
UID:343A6D01-7373-405B-9427-CB56B07F8CCD-18-854_homereminder@4.badmintonner
 s.net
DTSTAMP:20260420T055112Z
SUMMARY:Thuismatch ingevuld? (Duffel 3G (133) - Oelegem 1G (135))
DESCRIPTION:Je hebt 36 uur na aanvang om een thuismatch op Badmintonvlaande
 ren in te vullen. Match info: Duffel 3G (133) - Oelegem 1G (135) - Link: h
 ttps://www.badmintonvlaanderen.be/sport/teammatch.aspx?id=343A6D01-7373-40
 5B-9427-CB56B07F8CCD&match=854
DTSTART;TZID=Europe/Brussels:20220125T080000
DTEND;TZID=Europe/Brussels:20220125T080000
END:VEVENT
BEGIN:VEVENT
UID:343A6D01-7373-405B-9427-CB56B07F8CCD-18-1541_homereminder@4.badmintonne
 rs.net
DTSTAMP:20260420T055112Z
SUMMARY:Thuismatch ingevuld? (Duffel 3G (133) - Baret 1G (123))
DESCRIPTION:Je hebt 36 uur na aanvang om een thuismatch op Badmintonvlaande
 ren in te vullen. Match info: Duffel 3G (133) - Baret 1G (123) - Link: htt
 ps://www.badmintonvlaanderen.be/sport/teammatch.aspx?id=343A6D01-7373-405B
 -9427-CB56B07F8CCD&match=1541
DTSTART;TZID=Europe/Brussels:20220322T080000
DTEND;TZID=Europe/Brussels:20220322T080000
END:VEVENT
BEGIN:VEVENT
UID:343A6D01-7373-405B-9427-CB56B07F8CCD-18-842_homereminder@4.badmintonner
 s.net
DTSTAMP:20260420T055112Z
SUMMARY:Thuismatch ingevuld? (Duffel 3G (133) - Rita Serveert 4G (130))
DESCRIPTION:Je hebt 36 uur na aanvang om een thuismatch op Badmintonvlaande
 ren in te vullen. Match info: Duffel 3G (133) - Rita Serveert 4G (130) - L
 ink: https://www.badmintonvlaanderen.be/sport/teammatch.aspx?id=343A6D01-7
 373-405B-9427-CB56B07F8CCD&match=842
DTSTART;TZID=Europe/Brussels:20220329T080000
DTEND;TZID=Europe/Brussels:20220329T080000
END:VEVENT
BEGIN:VEVENT
UID:343A6D01-7373-405B-9427-CB56B07F8CCD-18-830_homereminder@4.badmintonner
 s.net
DTSTAMP:20260420T055112Z
SUMMARY:Thuismatch ingevuld? (Duffel 3G (133) - Bacss 4G (127))
DESCRIPTION:Je hebt 36 uur na aanvang om een thuismatch op Badmintonvlaande
 ren in te vullen. Match info: Duffel 3G (133) - Bacss 4G (127) - Link: htt
 ps://www.badmintonvlaanderen.be/sport/teammatch.aspx?id=343A6D01-7373-405B
 -9427-CB56B07F8CCD&match=830
DTSTART;TZID=Europe/Brussels:20220430T080000
DTEND;TZID=Europe/Brussels:20220430T080000
END:VEVENT
BEGIN:VEVENT
UID:343A6D01-7373-405B-9427-CB56B07F8CCD-18-860_awayreminder@4.badmintonner
 s.net
DTSTAMP:20260420T055112Z
SUMMARY:Uitmatch bevestigd? (Oelegem 1G (135) - Duffel 3G (133))
DESCRIPTION:Je hebt 72 uur na aanvang om een uitmatch op Badmintonvlaandere
 n in te vullen. Match info: Oelegem 1G (135) - Duffel 3G (133) - Link: htt
 ps://www.badmintonvlaanderen.be/sport/teammatch.aspx?id=343A6D01-7373-405B
 -9427-CB56B07F8CCD&match=860
DTSTART;TZID=Europe/Brussels:20211020T190000
DTEND;TZID=Europe/Brussels:20211020T190000
END:VEVENT
BEGIN:VEVENT
UID:343A6D01-7373-405B-9427-CB56B07F8CCD-18-856_awayreminder@4.badmintonner
 s.net
DTSTAMP:20260420T055112Z
SUMMARY:Uitmatch bevestigd? (Bacss 4G (127) - Duffel 3G (133))
DESCRIPTION:Je hebt 72 uur na aanvang om een uitmatch op Badmintonvlaandere
 n in te vullen. Match info: Bacss 4G (127) - Duffel 3G (133) - Link: https
 ://www.badmintonvlaanderen.be/sport/teammatch.aspx?id=343A6D01-7373-405B-9
 427-CB56B07F8CCD&match=856
DTSTART;TZID=Europe/Brussels:20211101T190500
DTEND;TZID=Europe/Brussels:20211101T190500
END:VEVENT
BEGIN:VEVENT
UID:343A6D01-7373-405B-9427-CB56B07F8CCD-18-858_awayreminder@4.badmintonner
 s.net
DTSTAMP:20260420T055112Z
SUMMARY:Uitmatch bevestigd? (Rita Serveert 4G (130) - Duffel 3G (133))
DESCRIPTION:Je hebt 72 uur na aanvang om een uitmatch op Badmintonvlaandere
 n in te vullen. Match info: Rita Serveert 4G (130) - Duffel 3G (133) - Lin
 k: https://www.badmintonvlaanderen.be/sport/teammatch.aspx?id=343A6D01-737
 3-405B-9427-CB56B07F8CCD&match=858
DTSTART;TZID=Europe/Brussels:20211110T190000
DTEND;TZID=Europe/Brussels:20211110T190000
END:VEVENT
BEGIN:VEVENT
UID:343A6D01-7373-405B-9427-CB56B07F8CCD-18-1534_awayreminder@4.badmintonne
 rs.net
DTSTAMP:20260420T055112Z
SUMMARY:Uitmatch bevestigd? (Baret 1G (123) - Duffel 3G (133))
DESCRIPTION:Je hebt 72 uur na aanvang om een uitmatch op Badmintonvlaandere
 n in te vullen. Match info: Baret 1G (123) - Duffel 3G (133) - Link: https
 ://www.badmintonvlaanderen.be/sport/teammatch.aspx?id=343A6D01-7373-405B-9
 427-CB56B07F8CCD&match=1534
DTSTART;TZID=Europe/Brussels:20211117T190000
DTEND;TZID=Europe/Brussels:20211117T190000
END:VEVENT
BEGIN:VEVENT
UID:343A6D01-7373-405B-9427-CB56B07F8CCD-18-855_awayreminder@4.badmintonner
 s.net
DTSTAMP:20260420T055112Z
SUMMARY:Uitmatch bevestigd? (Opslag 5G (120) - Duffel 3G (133))
DESCRIPTION:Je hebt 72 uur na aanvang om een uitmatch op Badmintonvlaandere
 n in te vullen. Match info: Opslag 5G (120) - Duffel 3G (133) - Link: http
 s://www.badmintonvlaanderen.be/sport/teammatch.aspx?id=343A6D01-7373-405B-
 9427-CB56B07F8CCD&match=855
DTSTART;TZID=Europe/Brussels:20220223T163000
DTEND;TZID=Europe/Brussels:20220223T163000
END:VEVENT
BEGIN:VEVENT
UID:343A6D01-7373-405B-9427-CB56B07F8CCD-18-857_awayreminder@4.badmintonner
 s.net
DTSTAMP:20260420T055112Z
SUMMARY:Uitmatch bevestigd? (Berlaar 3G (127) - Duffel 3G (133))
DESCRIPTION:Je hebt 72 uur na aanvang om een uitmatch op Badmintonvlaandere
 n in te vullen. Match info: Berlaar 3G (127) - Duffel 3G (133) - Link: htt
 ps://www.badmintonvlaanderen.be/sport/teammatch.aspx?id=343A6D01-7373-405B
 -9427-CB56B07F8CCD&match=857
DTSTART;TZID=Europe/Brussels:20220309T093000
DTEND;TZID=Europe/Brussels:20220309T093000
END:VEVENT
BEGIN:VEVENT
UID:343A6D01-7373-405B-9427-CB56B07F8CCD-18-859_awayreminder@4.badmintonner
 s.net
DTSTAMP:20260420T055112Z
SUMMARY:Uitmatch bevestigd? (Klein Boom 9G (124) - Duffel 3G (133))
DESCRIPTION:Je hebt 72 uur na aanvang om een uitmatch op Badmintonvlaandere
 n in te vullen. Match info: Klein Boom 9G (124) - Duffel 3G (133) - Link: 
 https://www.badmintonvlaanderen.be/sport/teammatch.aspx?id=343A6D01-7373-4
 05B-9427-CB56B07F8CCD&match=859
DTSTART;TZID=Europe/Brussels:20220406T190000
DTEND;TZID=Europe/Brussels:20220406T190000
END:VEVENT
END:VCALENDAR