BEGIN:VCALENDAR
VERSION:2.0
PRODID:spatie/icalendar-generator
NAME:rita_serveert_4g_130_reminders
X-WR-CALNAME:rita_serveert_4g_130_reminders
BEGIN:VTIMEZONE
TZID:Europe/Brussels
BEGIN:DAYLIGHT
DTSTART:20210328T010000
TZOFFSETFROM:+0100
TZOFFSETTO:+0200
END:DAYLIGHT
BEGIN:STANDARD
DTSTART:20211031T030000
TZOFFSETFROM:+0200
TZOFFSETTO:+0100
END:STANDARD
BEGIN:DAYLIGHT
DTSTART:20220327T010000
TZOFFSETFROM:+0100
TZOFFSETTO:+0200
END:DAYLIGHT
END:VTIMEZONE
BEGIN:VTIMEZONE
TZID:UTC
BEGIN:STANDARD
DTSTART:20250724T072411
TZOFFSETFROM:+0000
TZOFFSETTO:+0000
END:STANDARD
END:VTIMEZONE
BEGIN:VEVENT
UID:343A6D01-7373-405B-9427-CB56B07F8CCD-18-827_homereminder@65.badmintonne
 rs.net
DTSTAMP:20260420T072411Z
SUMMARY:Thuismatch ingevuld? (Rita Serveert 4G (130) - Bacss 4G (127))
DESCRIPTION:Je hebt 36 uur na aanvang om een thuismatch op Badmintonvlaande
 ren in te vullen. Match info: Rita Serveert 4G (130) - Bacss 4G (127) - Li
 nk: https://www.badmintonvlaanderen.be/sport/teammatch.aspx?id=343A6D01-73
 73-405B-9427-CB56B07F8CCD&match=827
DTSTART;TZID=Europe/Brussels:20211019T070000
DTEND;TZID=Europe/Brussels:20211019T070000
END:VEVENT
BEGIN:VEVENT
UID:343A6D01-7373-405B-9427-CB56B07F8CCD-18-858_homereminder@65.badmintonne
 rs.net
DTSTAMP:20260420T072411Z
SUMMARY:Thuismatch ingevuld? (Rita Serveert 4G (130) - Duffel 3G (133))
DESCRIPTION:Je hebt 36 uur na aanvang om een thuismatch op Badmintonvlaande
 ren in te vullen. Match info: Rita Serveert 4G (130) - Duffel 3G (133) - L
 ink: https://www.badmintonvlaanderen.be/sport/teammatch.aspx?id=343A6D01-7
 373-405B-9427-CB56B07F8CCD&match=858
DTSTART;TZID=Europe/Brussels:20211109T070000
DTEND;TZID=Europe/Brussels:20211109T070000
END:VEVENT
BEGIN:VEVENT
UID:343A6D01-7373-405B-9427-CB56B07F8CCD-18-1538_homereminder@65.badmintonn
 ers.net
DTSTAMP:20260420T072411Z
SUMMARY:Thuismatch ingevuld? (Rita Serveert 4G (130) - Baret 1G (123))
DESCRIPTION:Je hebt 36 uur na aanvang om een thuismatch op Badmintonvlaande
 ren in te vullen. Match info: Rita Serveert 4G (130) - Baret 1G (123) - Li
 nk: https://www.badmintonvlaanderen.be/sport/teammatch.aspx?id=343A6D01-73
 73-405B-9427-CB56B07F8CCD&match=1538
DTSTART;TZID=Europe/Brussels:20211214T070000
DTEND;TZID=Europe/Brussels:20211214T070000
END:VEVENT
BEGIN:VEVENT
UID:343A6D01-7373-405B-9427-CB56B07F8CCD-18-846_homereminder@65.badmintonne
 rs.net
DTSTAMP:20260420T072411Z
SUMMARY:Thuismatch ingevuld? (Rita Serveert 4G (130) - Klein Boom 9G (124))
DESCRIPTION:Je hebt 36 uur na aanvang om een thuismatch op Badmintonvlaande
 ren in te vullen. Match info: Rita Serveert 4G (130) - Klein Boom 9G (124)
  - Link: https://www.badmintonvlaanderen.be/sport/teammatch.aspx?id=343A6D
 01-7373-405B-9427-CB56B07F8CCD&match=846
DTSTART;TZID=Europe/Brussels:20220215T070000
DTEND;TZID=Europe/Brussels:20220215T070000
END:VEVENT
BEGIN:VEVENT
UID:343A6D01-7373-405B-9427-CB56B07F8CCD-18-852_homereminder@65.badmintonne
 rs.net
DTSTAMP:20260420T072411Z
SUMMARY:Thuismatch ingevuld? (Rita Serveert 4G (130) - Oelegem 1G (135))
DESCRIPTION:Je hebt 36 uur na aanvang om een thuismatch op Badmintonvlaande
 ren in te vullen. Match info: Rita Serveert 4G (130) - Oelegem 1G (135) - 
 Link: https://www.badmintonvlaanderen.be/sport/teammatch.aspx?id=343A6D01-
 7373-405B-9427-CB56B07F8CCD&match=852
DTSTART;TZID=Europe/Brussels:20220308T070000
DTEND;TZID=Europe/Brussels:20220308T070000
END:VEVENT
BEGIN:VEVENT
UID:343A6D01-7373-405B-9427-CB56B07F8CCD-18-833_homereminder@65.badmintonne
 rs.net
DTSTAMP:20260420T072411Z
SUMMARY:Thuismatch ingevuld? (Rita Serveert 4G (130) - Berlaar 3G (127))
DESCRIPTION:Je hebt 36 uur na aanvang om een thuismatch op Badmintonvlaande
 ren in te vullen. Match info: Rita Serveert 4G (130) - Berlaar 3G (127) - 
 Link: https://www.badmintonvlaanderen.be/sport/teammatch.aspx?id=343A6D01-
 7373-405B-9427-CB56B07F8CCD&match=833
DTSTART;TZID=Europe/Brussels:20220322T070000
DTEND;TZID=Europe/Brussels:20220322T070000
END:VEVENT
BEGIN:VEVENT
UID:343A6D01-7373-405B-9427-CB56B07F8CCD-18-821_homereminder@65.badmintonne
 rs.net
DTSTAMP:20260420T072411Z
SUMMARY:Thuismatch ingevuld? (Rita Serveert 4G (130) - Opslag 5G (120))
DESCRIPTION:Je hebt 36 uur na aanvang om een thuismatch op Badmintonvlaande
 ren in te vullen. Match info: Rita Serveert 4G (130) - Opslag 5G (120) - L
 ink: https://www.badmintonvlaanderen.be/sport/teammatch.aspx?id=343A6D01-7
 373-405B-9427-CB56B07F8CCD&match=821
DTSTART;TZID=Europe/Brussels:20220405T070000
DTEND;TZID=Europe/Brussels:20220405T070000
END:VEVENT
BEGIN:VEVENT
UID:343A6D01-7373-405B-9427-CB56B07F8CCD-18-841_awayreminder@65.badmintonne
 rs.net
DTSTAMP:20260420T072411Z
SUMMARY:Uitmatch bevestigd? (Oelegem 1G (135) - Rita Serveert 4G (130))
DESCRIPTION:Je hebt 72 uur na aanvang om een uitmatch op Badmintonvlaandere
 n in te vullen. Match info: Oelegem 1G (135) - Rita Serveert 4G (130) - Li
 nk: https://www.badmintonvlaanderen.be/sport/teammatch.aspx?id=343A6D01-73
 73-405B-9427-CB56B07F8CCD&match=841
DTSTART;TZID=Europe/Brussels:20211006T190000
DTEND;TZID=Europe/Brussels:20211006T190000
END:VEVENT
BEGIN:VEVENT
UID:343A6D01-7373-405B-9427-CB56B07F8CCD-18-840_awayreminder@65.badmintonne
 rs.net
DTSTAMP:20260420T072411Z
SUMMARY:Uitmatch bevestigd? (Klein Boom 9G (124) - Rita Serveert 4G (130))
DESCRIPTION:Je hebt 72 uur na aanvang om een uitmatch op Badmintonvlaandere
 n in te vullen. Match info: Klein Boom 9G (124) - Rita Serveert 4G (130) -
  Link: https://www.badmintonvlaanderen.be/sport/teammatch.aspx?id=343A6D01
 -7373-405B-9427-CB56B07F8CCD&match=840
DTSTART;TZID=Europe/Brussels:20211013T190000
DTEND;TZID=Europe/Brussels:20211013T190000
END:VEVENT
BEGIN:VEVENT
UID:343A6D01-7373-405B-9427-CB56B07F8CCD-18-839_awayreminder@65.badmintonne
 rs.net
DTSTAMP:20260420T072411Z
SUMMARY:Uitmatch bevestigd? (Berlaar 3G (127) - Rita Serveert 4G (130))
DESCRIPTION:Je hebt 72 uur na aanvang om een uitmatch op Badmintonvlaandere
 n in te vullen. Match info: Berlaar 3G (127) - Rita Serveert 4G (130) - Li
 nk: https://www.badmintonvlaanderen.be/sport/teammatch.aspx?id=343A6D01-73
 73-405B-9427-CB56B07F8CCD&match=839
DTSTART;TZID=Europe/Brussels:20211117T093000
DTEND;TZID=Europe/Brussels:20211117T093000
END:VEVENT
BEGIN:VEVENT
UID:343A6D01-7373-405B-9427-CB56B07F8CCD-18-837_awayreminder@65.badmintonne
 rs.net
DTSTAMP:20260420T072411Z
SUMMARY:Uitmatch bevestigd? (Opslag 5G (120) - Rita Serveert 4G (130))
DESCRIPTION:Je hebt 72 uur na aanvang om een uitmatch op Badmintonvlaandere
 n in te vullen. Match info: Opslag 5G (120) - Rita Serveert 4G (130) - Lin
 k: https://www.badmintonvlaanderen.be/sport/teammatch.aspx?id=343A6D01-737
 3-405B-9427-CB56B07F8CCD&match=837
DTSTART;TZID=Europe/Brussels:20211208T163000
DTEND;TZID=Europe/Brussels:20211208T163000
END:VEVENT
BEGIN:VEVENT
UID:343A6D01-7373-405B-9427-CB56B07F8CCD-18-1531_awayreminder@65.badmintonn
 ers.net
DTSTAMP:20260420T072411Z
SUMMARY:Uitmatch bevestigd? (Baret 1G (123) - Rita Serveert 4G (130))
DESCRIPTION:Je hebt 72 uur na aanvang om een uitmatch op Badmintonvlaandere
 n in te vullen. Match info: Baret 1G (123) - Rita Serveert 4G (130) - Link
 : https://www.badmintonvlaanderen.be/sport/teammatch.aspx?id=343A6D01-7373
 -405B-9427-CB56B07F8CCD&match=1531
DTSTART;TZID=Europe/Brussels:20220223T190000
DTEND;TZID=Europe/Brussels:20220223T190000
END:VEVENT
BEGIN:VEVENT
UID:343A6D01-7373-405B-9427-CB56B07F8CCD-18-838_awayreminder@65.badmintonne
 rs.net
DTSTAMP:20260420T072411Z
SUMMARY:Uitmatch bevestigd? (Bacss 4G (127) - Rita Serveert 4G (130))
DESCRIPTION:Je hebt 72 uur na aanvang om een uitmatch op Badmintonvlaandere
 n in te vullen. Match info: Bacss 4G (127) - Rita Serveert 4G (130) - Link
 : https://www.badmintonvlaanderen.be/sport/teammatch.aspx?id=343A6D01-7373
 -405B-9427-CB56B07F8CCD&match=838
DTSTART;TZID=Europe/Brussels:20220314T201500
DTEND;TZID=Europe/Brussels:20220314T201500
END:VEVENT
BEGIN:VEVENT
UID:343A6D01-7373-405B-9427-CB56B07F8CCD-18-842_awayreminder@65.badmintonne
 rs.net
DTSTAMP:20260420T072411Z
SUMMARY:Uitmatch bevestigd? (Duffel 3G (133) - Rita Serveert 4G (130))
DESCRIPTION:Je hebt 72 uur na aanvang om een uitmatch op Badmintonvlaandere
 n in te vullen. Match info: Duffel 3G (133) - Rita Serveert 4G (130) - Lin
 k: https://www.badmintonvlaanderen.be/sport/teammatch.aspx?id=343A6D01-737
 3-405B-9427-CB56B07F8CCD&match=842
DTSTART;TZID=Europe/Brussels:20220330T200000
DTEND;TZID=Europe/Brussels:20220330T200000
END:VEVENT
END:VCALENDAR