BEGIN:VCALENDAR
VERSION:2.0
PRODID:spatie/icalendar-generator
NAME:bacss_4g_127_reminders
X-WR-CALNAME:bacss_4g_127_reminders
BEGIN:VTIMEZONE
TZID:Europe/Brussels
BEGIN:DAYLIGHT
DTSTART:20210328T010000
TZOFFSETFROM:+0100
TZOFFSETTO:+0200
END:DAYLIGHT
BEGIN:STANDARD
DTSTART:20211031T030000
TZOFFSETFROM:+0200
TZOFFSETTO:+0100
END:STANDARD
BEGIN:DAYLIGHT
DTSTART:20220327T010000
TZOFFSETFROM:+0100
TZOFFSETTO:+0200
END:DAYLIGHT
BEGIN:STANDARD
DTSTART:20221030T030000
TZOFFSETFROM:+0200
TZOFFSETTO:+0100
END:STANDARD
END:VTIMEZONE
BEGIN:VTIMEZONE
TZID:UTC
BEGIN:STANDARD
DTSTART:20250724T055146
TZOFFSETFROM:+0000
TZOFFSETTO:+0000
END:STANDARD
END:VTIMEZONE
BEGIN:VEVENT
UID:343A6D01-7373-405B-9427-CB56B07F8CCD-18-1536_homereminder@78.badmintonn
 ers.net
DTSTAMP:20260420T055146Z
SUMMARY:Thuismatch ingevuld? (Bacss 4G (127) - Baret 1G (123))
DESCRIPTION:Je hebt 36 uur na aanvang om een thuismatch op Badmintonvlaande
 ren in te vullen. Match info: Bacss 4G (127) - Baret 1G (123) - Link: http
 s://www.badmintonvlaanderen.be/sport/teammatch.aspx?id=343A6D01-7373-405B-
 9427-CB56B07F8CCD&match=1536
DTSTART;TZID=Europe/Brussels:20210919T080500
DTEND;TZID=Europe/Brussels:20210919T080500
END:VEVENT
BEGIN:VEVENT
UID:343A6D01-7373-405B-9427-CB56B07F8CCD-18-856_homereminder@78.badmintonne
 rs.net
DTSTAMP:20260420T055146Z
SUMMARY:Thuismatch ingevuld? (Bacss 4G (127) - Duffel 3G (133))
DESCRIPTION:Je hebt 36 uur na aanvang om een thuismatch op Badmintonvlaande
 ren in te vullen. Match info: Bacss 4G (127) - Duffel 3G (133) - Link: htt
 ps://www.badmintonvlaanderen.be/sport/teammatch.aspx?id=343A6D01-7373-405B
 -9427-CB56B07F8CCD&match=856
DTSTART;TZID=Europe/Brussels:20211031T070500
DTEND;TZID=Europe/Brussels:20211031T070500
END:VEVENT
BEGIN:VEVENT
UID:343A6D01-7373-405B-9427-CB56B07F8CCD-18-832_homereminder@78.badmintonne
 rs.net
DTSTAMP:20260420T055146Z
SUMMARY:Thuismatch ingevuld? (Bacss 4G (127) - Berlaar 3G (127))
DESCRIPTION:Je hebt 36 uur na aanvang om een thuismatch op Badmintonvlaande
 ren in te vullen. Match info: Bacss 4G (127) - Berlaar 3G (127) - Link: ht
 tps://www.badmintonvlaanderen.be/sport/teammatch.aspx?id=343A6D01-7373-405
 B-9427-CB56B07F8CCD&match=832
DTSTART;TZID=Europe/Brussels:20220116T081500
DTEND;TZID=Europe/Brussels:20220116T081500
END:VEVENT
BEGIN:VEVENT
UID:343A6D01-7373-405B-9427-CB56B07F8CCD-18-850_homereminder@78.badmintonne
 rs.net
DTSTAMP:20260420T055146Z
SUMMARY:Thuismatch ingevuld? (Bacss 4G (127) - Oelegem 1G (135))
DESCRIPTION:Je hebt 36 uur na aanvang om een thuismatch op Badmintonvlaande
 ren in te vullen. Match info: Bacss 4G (127) - Oelegem 1G (135) - Link: ht
 tps://www.badmintonvlaanderen.be/sport/teammatch.aspx?id=343A6D01-7373-405
 B-9427-CB56B07F8CCD&match=850
DTSTART;TZID=Europe/Brussels:20220220T081500
DTEND;TZID=Europe/Brussels:20220220T081500
END:VEVENT
BEGIN:VEVENT
UID:343A6D01-7373-405B-9427-CB56B07F8CCD-18-819_homereminder@78.badmintonne
 rs.net
DTSTAMP:20260420T055146Z
SUMMARY:Thuismatch ingevuld? (Bacss 4G (127) - Opslag 5G (120))
DESCRIPTION:Je hebt 36 uur na aanvang om een thuismatch op Badmintonvlaande
 ren in te vullen. Match info: Bacss 4G (127) - Opslag 5G (120) - Link: htt
 ps://www.badmintonvlaanderen.be/sport/teammatch.aspx?id=343A6D01-7373-405B
 -9427-CB56B07F8CCD&match=819
DTSTART;TZID=Europe/Brussels:20220306T081500
DTEND;TZID=Europe/Brussels:20220306T081500
END:VEVENT
BEGIN:VEVENT
UID:343A6D01-7373-405B-9427-CB56B07F8CCD-18-838_homereminder@78.badmintonne
 rs.net
DTSTAMP:20260420T055146Z
SUMMARY:Thuismatch ingevuld? (Bacss 4G (127) - Rita Serveert 4G (130))
DESCRIPTION:Je hebt 36 uur na aanvang om een thuismatch op Badmintonvlaande
 ren in te vullen. Match info: Bacss 4G (127) - Rita Serveert 4G (130) - Li
 nk: https://www.badmintonvlaanderen.be/sport/teammatch.aspx?id=343A6D01-73
 73-405B-9427-CB56B07F8CCD&match=838
DTSTART;TZID=Europe/Brussels:20220313T081500
DTEND;TZID=Europe/Brussels:20220313T081500
END:VEVENT
BEGIN:VEVENT
UID:343A6D01-7373-405B-9427-CB56B07F8CCD-18-844_homereminder@78.badmintonne
 rs.net
DTSTAMP:20260420T055146Z
SUMMARY:Thuismatch ingevuld? (Bacss 4G (127) - Klein Boom 9G (124))
DESCRIPTION:Je hebt 36 uur na aanvang om een thuismatch op Badmintonvlaande
 ren in te vullen. Match info: Bacss 4G (127) - Klein Boom 9G (124) - Link:
  https://www.badmintonvlaanderen.be/sport/teammatch.aspx?id=343A6D01-7373-
 405B-9427-CB56B07F8CCD&match=844
DTSTART;TZID=Europe/Brussels:20220320T081500
DTEND;TZID=Europe/Brussels:20220320T081500
END:VEVENT
BEGIN:VEVENT
UID:343A6D01-7373-405B-9427-CB56B07F8CCD-18-825_awayreminder@78.badmintonne
 rs.net
DTSTAMP:20260420T055146Z
SUMMARY:Uitmatch bevestigd? (Opslag 5G (120) - Bacss 4G (127))
DESCRIPTION:Je hebt 72 uur na aanvang om een uitmatch op Badmintonvlaandere
 n in te vullen. Match info: Opslag 5G (120) - Bacss 4G (127) - Link: https
 ://www.badmintonvlaanderen.be/sport/teammatch.aspx?id=343A6D01-7373-405B-9
 427-CB56B07F8CCD&match=825
DTSTART;TZID=Europe/Brussels:20211006T163000
DTEND;TZID=Europe/Brussels:20211006T163000
END:VEVENT
BEGIN:VEVENT
UID:343A6D01-7373-405B-9427-CB56B07F8CCD-18-827_awayreminder@78.badmintonne
 rs.net
DTSTAMP:20260420T055146Z
SUMMARY:Uitmatch bevestigd? (Rita Serveert 4G (130) - Bacss 4G (127))
DESCRIPTION:Je hebt 72 uur na aanvang om een uitmatch op Badmintonvlaandere
 n in te vullen. Match info: Rita Serveert 4G (130) - Bacss 4G (127) - Link
 : https://www.badmintonvlaanderen.be/sport/teammatch.aspx?id=343A6D01-7373
 -405B-9427-CB56B07F8CCD&match=827
DTSTART;TZID=Europe/Brussels:20211020T190000
DTEND;TZID=Europe/Brussels:20211020T190000
END:VEVENT
BEGIN:VEVENT
UID:343A6D01-7373-405B-9427-CB56B07F8CCD-18-828_awayreminder@78.badmintonne
 rs.net
DTSTAMP:20260420T055146Z
SUMMARY:Uitmatch bevestigd? (Klein Boom 9G (124) - Bacss 4G (127))
DESCRIPTION:Je hebt 72 uur na aanvang om een uitmatch op Badmintonvlaandere
 n in te vullen. Match info: Klein Boom 9G (124) - Bacss 4G (127) - Link: h
 ttps://www.badmintonvlaanderen.be/sport/teammatch.aspx?id=343A6D01-7373-40
 5B-9427-CB56B07F8CCD&match=828
DTSTART;TZID=Europe/Brussels:20211117T190000
DTEND;TZID=Europe/Brussels:20211117T190000
END:VEVENT
BEGIN:VEVENT
UID:343A6D01-7373-405B-9427-CB56B07F8CCD-18-829_awayreminder@78.badmintonne
 rs.net
DTSTAMP:20260420T055146Z
SUMMARY:Uitmatch bevestigd? (Oelegem 1G (135) - Bacss 4G (127))
DESCRIPTION:Je hebt 72 uur na aanvang om een uitmatch op Badmintonvlaandere
 n in te vullen. Match info: Oelegem 1G (135) - Bacss 4G (127) - Link: http
 s://www.badmintonvlaanderen.be/sport/teammatch.aspx?id=343A6D01-7373-405B-
 9427-CB56B07F8CCD&match=829
DTSTART;TZID=Europe/Brussels:20211215T190000
DTEND;TZID=Europe/Brussels:20211215T190000
END:VEVENT
BEGIN:VEVENT
UID:343A6D01-7373-405B-9427-CB56B07F8CCD-18-1529_awayreminder@78.badmintonn
 ers.net
DTSTAMP:20260420T055146Z
SUMMARY:Uitmatch bevestigd? (Baret 1G (123) - Bacss 4G (127))
DESCRIPTION:Je hebt 72 uur na aanvang om een uitmatch op Badmintonvlaandere
 n in te vullen. Match info: Baret 1G (123) - Bacss 4G (127) - Link: https:
 //www.badmintonvlaanderen.be/sport/teammatch.aspx?id=343A6D01-7373-405B-94
 27-CB56B07F8CCD&match=1529
DTSTART;TZID=Europe/Brussels:20220209T190000
DTEND;TZID=Europe/Brussels:20220209T190000
END:VEVENT
BEGIN:VEVENT
UID:343A6D01-7373-405B-9427-CB56B07F8CCD-18-826_awayreminder@78.badmintonne
 rs.net
DTSTAMP:20260420T055146Z
SUMMARY:Uitmatch bevestigd? (Berlaar 3G (127) - Bacss 4G (127))
DESCRIPTION:Je hebt 72 uur na aanvang om een uitmatch op Badmintonvlaandere
 n in te vullen. Match info: Berlaar 3G (127) - Bacss 4G (127) - Link: http
 s://www.badmintonvlaanderen.be/sport/teammatch.aspx?id=343A6D01-7373-405B-
 9427-CB56B07F8CCD&match=826
DTSTART;TZID=Europe/Brussels:20220406T093000
DTEND;TZID=Europe/Brussels:20220406T093000
END:VEVENT
BEGIN:VEVENT
UID:343A6D01-7373-405B-9427-CB56B07F8CCD-18-830_awayreminder@78.badmintonne
 rs.net
DTSTAMP:20260420T055146Z
SUMMARY:Uitmatch bevestigd? (Duffel 3G (133) - Bacss 4G (127))
DESCRIPTION:Je hebt 72 uur na aanvang om een uitmatch op Badmintonvlaandere
 n in te vullen. Match info: Duffel 3G (133) - Bacss 4G (127) - Link: https
 ://www.badmintonvlaanderen.be/sport/teammatch.aspx?id=343A6D01-7373-405B-9
 427-CB56B07F8CCD&match=830
DTSTART;TZID=Europe/Brussels:20220501T200000
DTEND;TZID=Europe/Brussels:20220501T200000
END:VEVENT
END:VCALENDAR