BEGIN:VCALENDAR
VERSION:2.0
PRODID:spatie/icalendar-generator
NAME:klein_boom_1h_47_reminders
X-WR-CALNAME:klein_boom_1h_47_reminders
BEGIN:VTIMEZONE
TZID:Europe/Brussels
BEGIN:DAYLIGHT
DTSTART:20210328T010000
TZOFFSETFROM:+0100
TZOFFSETTO:+0200
END:DAYLIGHT
BEGIN:STANDARD
DTSTART:20211031T030000
TZOFFSETFROM:+0200
TZOFFSETTO:+0100
END:STANDARD
BEGIN:DAYLIGHT
DTSTART:20220327T010000
TZOFFSETFROM:+0100
TZOFFSETTO:+0200
END:DAYLIGHT
END:VTIMEZONE
BEGIN:VTIMEZONE
TZID:UTC
BEGIN:STANDARD
DTSTART:20250724T054020
TZOFFSETFROM:+0000
TZOFFSETTO:+0000
END:STANDARD
END:VTIMEZONE
BEGIN:VEVENT
UID:343A6D01-7373-405B-9427-CB56B07F8CCD-21-972_homereminder@133.badmintonn
 ers.net
DTSTAMP:20260420T054020Z
SUMMARY:Thuismatch ingevuld? (Klein Boom 1H (47) - De Klamp 2H (47))
DESCRIPTION:Je hebt 36 uur na aanvang om een thuismatch op Badmintonvlaande
 ren in te vullen. Match info: Klein Boom 1H (47) - De Klamp 2H (47) - Link
 : https://www.badmintonvlaanderen.be/sport/teammatch.aspx?id=343A6D01-7373
 -405B-9427-CB56B07F8CCD&match=972
DTSTART;TZID=Europe/Brussels:20210914T070000
DTEND;TZID=Europe/Brussels:20210914T070000
END:VEVENT
BEGIN:VEVENT
UID:343A6D01-7373-405B-9427-CB56B07F8CCD-21-986_homereminder@133.badmintonn
 ers.net
DTSTAMP:20260420T054020Z
SUMMARY:Thuismatch ingevuld? (Klein Boom 1H (47) - Smash 1H (57))
DESCRIPTION:Je hebt 36 uur na aanvang om een thuismatch op Badmintonvlaande
 ren in te vullen. Match info: Klein Boom 1H (47) - Smash 1H (57) - Link: h
 ttps://www.badmintonvlaanderen.be/sport/teammatch.aspx?id=343A6D01-7373-40
 5B-9427-CB56B07F8CCD&match=986
DTSTART;TZID=Europe/Brussels:20211109T070000
DTEND;TZID=Europe/Brussels:20211109T070000
END:VEVENT
BEGIN:VEVENT
UID:343A6D01-7373-405B-9427-CB56B07F8CCD-21-993_homereminder@133.badmintonn
 ers.net
DTSTAMP:20260420T054020Z
SUMMARY:Thuismatch ingevuld? (Klein Boom 1H (47) - Olve 3H (47))
DESCRIPTION:Je hebt 36 uur na aanvang om een thuismatch op Badmintonvlaande
 ren in te vullen. Match info: Klein Boom 1H (47) - Olve 3H (47) - Link: ht
 tps://www.badmintonvlaanderen.be/sport/teammatch.aspx?id=343A6D01-7373-405
 B-9427-CB56B07F8CCD&match=993
DTSTART;TZID=Europe/Brussels:20211221T070000
DTEND;TZID=Europe/Brussels:20211221T070000
END:VEVENT
BEGIN:VEVENT
UID:343A6D01-7373-405B-9427-CB56B07F8CCD-21-979_homereminder@133.badmintonn
 ers.net
DTSTAMP:20260420T054020Z
SUMMARY:Thuismatch ingevuld? (Klein Boom 1H (47) - Brasschaat 3H (47))
DESCRIPTION:Je hebt 36 uur na aanvang om een thuismatch op Badmintonvlaande
 ren in te vullen. Match info: Klein Boom 1H (47) - Brasschaat 3H (47) - Li
 nk: https://www.badmintonvlaanderen.be/sport/teammatch.aspx?id=343A6D01-73
 73-405B-9427-CB56B07F8CCD&match=979
DTSTART;TZID=Europe/Brussels:20220118T070000
DTEND;TZID=Europe/Brussels:20220118T070000
END:VEVENT
BEGIN:VEVENT
UID:343A6D01-7373-405B-9427-CB56B07F8CCD-21-943_homereminder@133.badmintonn
 ers.net
DTSTAMP:20260420T054020Z
SUMMARY:Thuismatch ingevuld? (Klein Boom 1H (47) - De Pluim 1H (54))
DESCRIPTION:Je hebt 36 uur na aanvang om een thuismatch op Badmintonvlaande
 ren in te vullen. Match info: Klein Boom 1H (47) - De Pluim 1H (54) - Link
 : https://www.badmintonvlaanderen.be/sport/teammatch.aspx?id=343A6D01-7373
 -405B-9427-CB56B07F8CCD&match=943
DTSTART;TZID=Europe/Brussels:20220215T070000
DTEND;TZID=Europe/Brussels:20220215T070000
END:VEVENT
BEGIN:VEVENT
UID:343A6D01-7373-405B-9427-CB56B07F8CCD-21-950_homereminder@133.badmintonn
 ers.net
DTSTAMP:20260420T054020Z
SUMMARY:Thuismatch ingevuld? (Klein Boom 1H (47) - Royal Antwerp 4H (53))
DESCRIPTION:Je hebt 36 uur na aanvang om een thuismatch op Badmintonvlaande
 ren in te vullen. Match info: Klein Boom 1H (47) - Royal Antwerp 4H (53) -
  Link: https://www.badmintonvlaanderen.be/sport/teammatch.aspx?id=343A6D01
 -7373-405B-9427-CB56B07F8CCD&match=950
DTSTART;TZID=Europe/Brussels:20220329T070000
DTEND;TZID=Europe/Brussels:20220329T070000
END:VEVENT
BEGIN:VEVENT
UID:343A6D01-7373-405B-9427-CB56B07F8CCD-21-957_homereminder@133.badmintonn
 ers.net
DTSTAMP:20260420T054020Z
SUMMARY:Thuismatch ingevuld? (Klein Boom 1H (47) - Beerke 1H (47))
DESCRIPTION:Je hebt 36 uur na aanvang om een thuismatch op Badmintonvlaande
 ren in te vullen. Match info: Klein Boom 1H (47) - Beerke 1H (47) - Link: 
 https://www.badmintonvlaanderen.be/sport/teammatch.aspx?id=343A6D01-7373-4
 05B-9427-CB56B07F8CCD&match=957
DTSTART;TZID=Europe/Brussels:20220412T070000
DTEND;TZID=Europe/Brussels:20220412T070000
END:VEVENT
BEGIN:VEVENT
UID:343A6D01-7373-405B-9427-CB56B07F8CCD-21-966_awayreminder@133.badmintonn
 ers.net
DTSTAMP:20260420T054020Z
SUMMARY:Uitmatch bevestigd? (Brasschaat 3H (47) - Klein Boom 1H (47))
DESCRIPTION:Je hebt 72 uur na aanvang om een uitmatch op Badmintonvlaandere
 n in te vullen. Match info: Brasschaat 3H (47) - Klein Boom 1H (47) - Link
 : https://www.badmintonvlaanderen.be/sport/teammatch.aspx?id=343A6D01-7373
 -405B-9427-CB56B07F8CCD&match=966
DTSTART;TZID=Europe/Brussels:20210929T190000
DTEND;TZID=Europe/Brussels:20210929T190000
END:VEVENT
BEGIN:VEVENT
UID:343A6D01-7373-405B-9427-CB56B07F8CCD-21-962_awayreminder@133.badmintonn
 ers.net
DTSTAMP:20260420T054020Z
SUMMARY:Uitmatch bevestigd? (De Pluim 1H (54) - Klein Boom 1H (47))
DESCRIPTION:Je hebt 72 uur na aanvang om een uitmatch op Badmintonvlaandere
 n in te vullen. Match info: De Pluim 1H (54) - Klein Boom 1H (47) - Link: 
 https://www.badmintonvlaanderen.be/sport/teammatch.aspx?id=343A6D01-7373-4
 05B-9427-CB56B07F8CCD&match=962
DTSTART;TZID=Europe/Brussels:20211027T180000
DTEND;TZID=Europe/Brussels:20211027T180000
END:VEVENT
BEGIN:VEVENT
UID:343A6D01-7373-405B-9427-CB56B07F8CCD-21-964_awayreminder@133.badmintonn
 ers.net
DTSTAMP:20260420T054020Z
SUMMARY:Uitmatch bevestigd? (Beerke 1H (47) - Klein Boom 1H (47))
DESCRIPTION:Je hebt 72 uur na aanvang om een uitmatch op Badmintonvlaandere
 n in te vullen. Match info: Beerke 1H (47) - Klein Boom 1H (47) - Link: ht
 tps://www.badmintonvlaanderen.be/sport/teammatch.aspx?id=343A6D01-7373-405
 B-9427-CB56B07F8CCD&match=964
DTSTART;TZID=Europe/Brussels:20211124T100000
DTEND;TZID=Europe/Brussels:20211124T100000
END:VEVENT
BEGIN:VEVENT
UID:343A6D01-7373-405B-9427-CB56B07F8CCD-21-963_awayreminder@133.badmintonn
 ers.net
DTSTAMP:20260420T054020Z
SUMMARY:Uitmatch bevestigd? (Royal Antwerp 4H (53) - Klein Boom 1H (47))
DESCRIPTION:Je hebt 72 uur na aanvang om een uitmatch op Badmintonvlaandere
 n in te vullen. Match info: Royal Antwerp 4H (53) - Klein Boom 1H (47) - L
 ink: https://www.badmintonvlaanderen.be/sport/teammatch.aspx?id=343A6D01-7
 373-405B-9427-CB56B07F8CCD&match=963
DTSTART;TZID=Europe/Brussels:20211208T180000
DTEND;TZID=Europe/Brussels:20211208T180000
END:VEVENT
BEGIN:VEVENT
UID:343A6D01-7373-405B-9427-CB56B07F8CCD-21-967_awayreminder@133.badmintonn
 ers.net
DTSTAMP:20260420T054020Z
SUMMARY:Uitmatch bevestigd? (Smash 1H (57) - Klein Boom 1H (47))
DESCRIPTION:Je hebt 72 uur na aanvang om een uitmatch op Badmintonvlaandere
 n in te vullen. Match info: Smash 1H (57) - Klein Boom 1H (47) - Link: htt
 ps://www.badmintonvlaanderen.be/sport/teammatch.aspx?id=343A6D01-7373-405B
 -9427-CB56B07F8CCD&match=967
DTSTART;TZID=Europe/Brussels:20220126T100000
DTEND;TZID=Europe/Brussels:20220126T100000
END:VEVENT
BEGIN:VEVENT
UID:343A6D01-7373-405B-9427-CB56B07F8CCD-21-965_awayreminder@133.badmintonn
 ers.net
DTSTAMP:20260420T054020Z
SUMMARY:Uitmatch bevestigd? (De Klamp 2H (47) - Klein Boom 1H (47))
DESCRIPTION:Je hebt 72 uur na aanvang om een uitmatch op Badmintonvlaandere
 n in te vullen. Match info: De Klamp 2H (47) - Klein Boom 1H (47) - Link: 
 https://www.badmintonvlaanderen.be/sport/teammatch.aspx?id=343A6D01-7373-4
 05B-9427-CB56B07F8CCD&match=965
DTSTART;TZID=Europe/Brussels:20220202T181500
DTEND;TZID=Europe/Brussels:20220202T181500
END:VEVENT
BEGIN:VEVENT
UID:343A6D01-7373-405B-9427-CB56B07F8CCD-21-968_awayreminder@133.badmintonn
 ers.net
DTSTAMP:20260420T054020Z
SUMMARY:Uitmatch bevestigd? (Olve 3H (47) - Klein Boom 1H (47))
DESCRIPTION:Je hebt 72 uur na aanvang om een uitmatch op Badmintonvlaandere
 n in te vullen. Match info: Olve 3H (47) - Klein Boom 1H (47) - Link: http
 s://www.badmintonvlaanderen.be/sport/teammatch.aspx?id=343A6D01-7373-405B-
 9427-CB56B07F8CCD&match=968
DTSTART;TZID=Europe/Brussels:20220315T103000
DTEND;TZID=Europe/Brussels:20220315T103000
END:VEVENT
END:VCALENDAR