BEGIN:VCALENDAR
VERSION:2.0
PRODID:spatie/icalendar-generator
NAME:beerke_1h_47_reminders
X-WR-CALNAME:beerke_1h_47_reminders
BEGIN:VTIMEZONE
TZID:Europe/Brussels
BEGIN:DAYLIGHT
DTSTART:20210328T010000
TZOFFSETFROM:+0100
TZOFFSETTO:+0200
END:DAYLIGHT
BEGIN:STANDARD
DTSTART:20211031T030000
TZOFFSETFROM:+0200
TZOFFSETTO:+0100
END:STANDARD
BEGIN:DAYLIGHT
DTSTART:20220327T010000
TZOFFSETFROM:+0100
TZOFFSETTO:+0200
END:DAYLIGHT
END:VTIMEZONE
BEGIN:VTIMEZONE
TZID:UTC
BEGIN:STANDARD
DTSTART:20250724T070459
TZOFFSETFROM:+0000
TZOFFSETTO:+0000
END:STANDARD
END:VTIMEZONE
BEGIN:VEVENT
UID:343A6D01-7373-405B-9427-CB56B07F8CCD-21-942_homereminder@145.badmintonn
 ers.net
DTSTAMP:20260420T070459Z
SUMMARY:Thuismatch ingevuld? (Beerke 1H (47) - De Pluim 1H (54))
DESCRIPTION:Je hebt 36 uur na aanvang om een thuismatch op Badmintonvlaande
 ren in te vullen. Match info: Beerke 1H (47) - De Pluim 1H (54) - Link: ht
 tps://www.badmintonvlaanderen.be/sport/teammatch.aspx?id=343A6D01-7373-405
 B-9427-CB56B07F8CCD&match=942
DTSTART;TZID=Europe/Brussels:20211011T220000
DTEND;TZID=Europe/Brussels:20211011T220000
END:VEVENT
BEGIN:VEVENT
UID:343A6D01-7373-405B-9427-CB56B07F8CCD-21-964_homereminder@145.badmintonn
 ers.net
DTSTAMP:20260420T070459Z
SUMMARY:Thuismatch ingevuld? (Beerke 1H (47) - Klein Boom 1H (47))
DESCRIPTION:Je hebt 36 uur na aanvang om een thuismatch op Badmintonvlaande
 ren in te vullen. Match info: Beerke 1H (47) - Klein Boom 1H (47) - Link: 
 https://www.badmintonvlaanderen.be/sport/teammatch.aspx?id=343A6D01-7373-4
 05B-9427-CB56B07F8CCD&match=964
DTSTART;TZID=Europe/Brussels:20211122T220000
DTEND;TZID=Europe/Brussels:20211122T220000
END:VEVENT
BEGIN:VEVENT
UID:343A6D01-7373-405B-9427-CB56B07F8CCD-21-992_homereminder@145.badmintonn
 ers.net
DTSTAMP:20260420T070459Z
SUMMARY:Thuismatch ingevuld? (Beerke 1H (47) - Olve 3H (47))
DESCRIPTION:Je hebt 36 uur na aanvang om een thuismatch op Badmintonvlaande
 ren in te vullen. Match info: Beerke 1H (47) - Olve 3H (47) - Link: https:
 //www.badmintonvlaanderen.be/sport/teammatch.aspx?id=343A6D01-7373-405B-94
 27-CB56B07F8CCD&match=992
DTSTART;TZID=Europe/Brussels:20211206T220000
DTEND;TZID=Europe/Brussels:20211206T220000
END:VEVENT
BEGIN:VEVENT
UID:343A6D01-7373-405B-9427-CB56B07F8CCD-21-978_homereminder@145.badmintonn
 ers.net
DTSTAMP:20260420T070459Z
SUMMARY:Thuismatch ingevuld? (Beerke 1H (47) - Brasschaat 3H (47))
DESCRIPTION:Je hebt 36 uur na aanvang om een thuismatch op Badmintonvlaande
 ren in te vullen. Match info: Beerke 1H (47) - Brasschaat 3H (47) - Link: 
 https://www.badmintonvlaanderen.be/sport/teammatch.aspx?id=343A6D01-7373-4
 05B-9427-CB56B07F8CCD&match=978
DTSTART;TZID=Europe/Brussels:20220115T080000
DTEND;TZID=Europe/Brussels:20220115T080000
END:VEVENT
BEGIN:VEVENT
UID:343A6D01-7373-405B-9427-CB56B07F8CCD-21-949_homereminder@145.badmintonn
 ers.net
DTSTAMP:20260420T070459Z
SUMMARY:Thuismatch ingevuld? (Beerke 1H (47) - Royal Antwerp 4H (53))
DESCRIPTION:Je hebt 36 uur na aanvang om een thuismatch op Badmintonvlaande
 ren in te vullen. Match info: Beerke 1H (47) - Royal Antwerp 4H (53) - Lin
 k: https://www.badmintonvlaanderen.be/sport/teammatch.aspx?id=343A6D01-737
 3-405B-9427-CB56B07F8CCD&match=949
DTSTART;TZID=Europe/Brussels:20220214T220000
DTEND;TZID=Europe/Brussels:20220214T220000
END:VEVENT
BEGIN:VEVENT
UID:343A6D01-7373-405B-9427-CB56B07F8CCD-21-971_homereminder@145.badmintonn
 ers.net
DTSTAMP:20260420T070459Z
SUMMARY:Thuismatch ingevuld? (Beerke 1H (47) - De Klamp 2H (47))
DESCRIPTION:Je hebt 36 uur na aanvang om een thuismatch op Badmintonvlaande
 ren in te vullen. Match info: Beerke 1H (47) - De Klamp 2H (47) - Link: ht
 tps://www.badmintonvlaanderen.be/sport/teammatch.aspx?id=343A6D01-7373-405
 B-9427-CB56B07F8CCD&match=971
DTSTART;TZID=Europe/Brussels:20220314T220000
DTEND;TZID=Europe/Brussels:20220314T220000
END:VEVENT
BEGIN:VEVENT
UID:343A6D01-7373-405B-9427-CB56B07F8CCD-21-985_homereminder@145.badmintonn
 ers.net
DTSTAMP:20260420T070459Z
SUMMARY:Thuismatch ingevuld? (Beerke 1H (47) - Smash 1H (57))
DESCRIPTION:Je hebt 36 uur na aanvang om een thuismatch op Badmintonvlaande
 ren in te vullen. Match info: Beerke 1H (47) - Smash 1H (57) - Link: https
 ://www.badmintonvlaanderen.be/sport/teammatch.aspx?id=343A6D01-7373-405B-9
 427-CB56B07F8CCD&match=985
DTSTART;TZID=Europe/Brussels:20220328T220000
DTEND;TZID=Europe/Brussels:20220328T220000
END:VEVENT
BEGIN:VEVENT
UID:343A6D01-7373-405B-9427-CB56B07F8CCD-21-960_awayreminder@145.badmintonn
 ers.net
DTSTAMP:20260420T070459Z
SUMMARY:Uitmatch bevestigd? (Smash 1H (57) - Beerke 1H (47))
DESCRIPTION:Je hebt 72 uur na aanvang om een uitmatch op Badmintonvlaandere
 n in te vullen. Match info: Smash 1H (57) - Beerke 1H (47) - Link: https:/
 /www.badmintonvlaanderen.be/sport/teammatch.aspx?id=343A6D01-7373-405B-942
 7-CB56B07F8CCD&match=960
DTSTART;TZID=Europe/Brussels:20210929T100000
DTEND;TZID=Europe/Brussels:20210929T100000
END:VEVENT
BEGIN:VEVENT
UID:343A6D01-7373-405B-9427-CB56B07F8CCD-21-956_awayreminder@145.badmintonn
 ers.net
DTSTAMP:20260420T070459Z
SUMMARY:Uitmatch bevestigd? (Royal Antwerp 4H (53) - Beerke 1H (47))
DESCRIPTION:Je hebt 72 uur na aanvang om een uitmatch op Badmintonvlaandere
 n in te vullen. Match info: Royal Antwerp 4H (53) - Beerke 1H (47) - Link:
  https://www.badmintonvlaanderen.be/sport/teammatch.aspx?id=343A6D01-7373-
 405B-9427-CB56B07F8CCD&match=956
DTSTART;TZID=Europe/Brussels:20211110T180000
DTEND;TZID=Europe/Brussels:20211110T180000
END:VEVENT
BEGIN:VEVENT
UID:343A6D01-7373-405B-9427-CB56B07F8CCD-21-958_awayreminder@145.badmintonn
 ers.net
DTSTAMP:20260420T070459Z
SUMMARY:Uitmatch bevestigd? (De Klamp 2H (47) - Beerke 1H (47))
DESCRIPTION:Je hebt 72 uur na aanvang om een uitmatch op Badmintonvlaandere
 n in te vullen. Match info: De Klamp 2H (47) - Beerke 1H (47) - Link: http
 s://www.badmintonvlaanderen.be/sport/teammatch.aspx?id=343A6D01-7373-405B-
 9427-CB56B07F8CCD&match=958
DTSTART;TZID=Europe/Brussels:20211222T181500
DTEND;TZID=Europe/Brussels:20211222T181500
END:VEVENT
BEGIN:VEVENT
UID:343A6D01-7373-405B-9427-CB56B07F8CCD-21-959_awayreminder@145.badmintonn
 ers.net
DTSTAMP:20260420T070459Z
SUMMARY:Uitmatch bevestigd? (Brasschaat 3H (47) - Beerke 1H (47))
DESCRIPTION:Je hebt 72 uur na aanvang om een uitmatch op Badmintonvlaandere
 n in te vullen. Match info: Brasschaat 3H (47) - Beerke 1H (47) - Link: ht
 tps://www.badmintonvlaanderen.be/sport/teammatch.aspx?id=343A6D01-7373-405
 B-9427-CB56B07F8CCD&match=959
DTSTART;TZID=Europe/Brussels:20220202T190000
DTEND;TZID=Europe/Brussels:20220202T190000
END:VEVENT
BEGIN:VEVENT
UID:343A6D01-7373-405B-9427-CB56B07F8CCD-21-955_awayreminder@145.badmintonn
 ers.net
DTSTAMP:20260420T070459Z
SUMMARY:Uitmatch bevestigd? (De Pluim 1H (54) - Beerke 1H (47))
DESCRIPTION:Je hebt 72 uur na aanvang om een uitmatch op Badmintonvlaandere
 n in te vullen. Match info: De Pluim 1H (54) - Beerke 1H (47) - Link: http
 s://www.badmintonvlaanderen.be/sport/teammatch.aspx?id=343A6D01-7373-405B-
 9427-CB56B07F8CCD&match=955
DTSTART;TZID=Europe/Brussels:20220302T180000
DTEND;TZID=Europe/Brussels:20220302T180000
END:VEVENT
BEGIN:VEVENT
UID:343A6D01-7373-405B-9427-CB56B07F8CCD-21-961_awayreminder@145.badmintonn
 ers.net
DTSTAMP:20260420T070459Z
SUMMARY:Uitmatch bevestigd? (Olve 3H (47) - Beerke 1H (47))
DESCRIPTION:Je hebt 72 uur na aanvang om een uitmatch op Badmintonvlaandere
 n in te vullen. Match info: Olve 3H (47) - Beerke 1H (47) - Link: https://
 www.badmintonvlaanderen.be/sport/teammatch.aspx?id=343A6D01-7373-405B-9427
 -CB56B07F8CCD&match=961
DTSTART;TZID=Europe/Brussels:20220329T113000
DTEND;TZID=Europe/Brussels:20220329T113000
END:VEVENT
BEGIN:VEVENT
UID:343A6D01-7373-405B-9427-CB56B07F8CCD-21-957_awayreminder@145.badmintonn
 ers.net
DTSTAMP:20260420T070459Z
SUMMARY:Uitmatch bevestigd? (Klein Boom 1H (47) - Beerke 1H (47))
DESCRIPTION:Je hebt 72 uur na aanvang om een uitmatch op Badmintonvlaandere
 n in te vullen. Match info: Klein Boom 1H (47) - Beerke 1H (47) - Link: ht
 tps://www.badmintonvlaanderen.be/sport/teammatch.aspx?id=343A6D01-7373-405
 B-9427-CB56B07F8CCD&match=957
DTSTART;TZID=Europe/Brussels:20220413T190000
DTEND;TZID=Europe/Brussels:20220413T190000
END:VEVENT
END:VCALENDAR