BEGIN:VCALENDAR
VERSION:2.0
PRODID:spatie/icalendar-generator
NAME:royal_antwerp_4h_53_reminders
X-WR-CALNAME:royal_antwerp_4h_53_reminders
BEGIN:VTIMEZONE
TZID:Europe/Brussels
BEGIN:DAYLIGHT
DTSTART:20210328T010000
TZOFFSETFROM:+0100
TZOFFSETTO:+0200
END:DAYLIGHT
BEGIN:STANDARD
DTSTART:20211031T030000
TZOFFSETFROM:+0200
TZOFFSETTO:+0100
END:STANDARD
BEGIN:DAYLIGHT
DTSTART:20220327T010000
TZOFFSETFROM:+0100
TZOFFSETTO:+0200
END:DAYLIGHT
END:VTIMEZONE
BEGIN:VTIMEZONE
TZID:UTC
BEGIN:STANDARD
DTSTART:20250724T070459
TZOFFSETFROM:+0000
TZOFFSETTO:+0000
END:STANDARD
END:VTIMEZONE
BEGIN:VEVENT
UID:343A6D01-7373-405B-9427-CB56B07F8CCD-21-984_homereminder@192.badmintonn
 ers.net
DTSTAMP:20260420T070459Z
SUMMARY:Thuismatch ingevuld? (Royal Antwerp 4H (53) - Smash 1H (57))
DESCRIPTION:Je hebt 36 uur na aanvang om een thuismatch op Badmintonvlaande
 ren in te vullen. Match info: Royal Antwerp 4H (53) - Smash 1H (57) - Link
 : https://www.badmintonvlaanderen.be/sport/teammatch.aspx?id=343A6D01-7373
 -405B-9427-CB56B07F8CCD&match=984
DTSTART;TZID=Europe/Brussels:20210914T060000
DTEND;TZID=Europe/Brussels:20210914T060000
END:VEVENT
BEGIN:VEVENT
UID:343A6D01-7373-405B-9427-CB56B07F8CCD-21-991_homereminder@192.badmintonn
 ers.net
DTSTAMP:20260420T070459Z
SUMMARY:Thuismatch ingevuld? (Royal Antwerp 4H (53) - Olve 3H (47))
DESCRIPTION:Je hebt 36 uur na aanvang om een thuismatch op Badmintonvlaande
 ren in te vullen. Match info: Royal Antwerp 4H (53) - Olve 3H (47) - Link:
  https://www.badmintonvlaanderen.be/sport/teammatch.aspx?id=343A6D01-7373-
 405B-9427-CB56B07F8CCD&match=991
DTSTART;TZID=Europe/Brussels:20211012T060000
DTEND;TZID=Europe/Brussels:20211012T060000
END:VEVENT
BEGIN:VEVENT
UID:343A6D01-7373-405B-9427-CB56B07F8CCD-21-956_homereminder@192.badmintonn
 ers.net
DTSTAMP:20260420T070459Z
SUMMARY:Thuismatch ingevuld? (Royal Antwerp 4H (53) - Beerke 1H (47))
DESCRIPTION:Je hebt 36 uur na aanvang om een thuismatch op Badmintonvlaande
 ren in te vullen. Match info: Royal Antwerp 4H (53) - Beerke 1H (47) - Lin
 k: https://www.badmintonvlaanderen.be/sport/teammatch.aspx?id=343A6D01-737
 3-405B-9427-CB56B07F8CCD&match=956
DTSTART;TZID=Europe/Brussels:20211109T060000
DTEND;TZID=Europe/Brussels:20211109T060000
END:VEVENT
BEGIN:VEVENT
UID:343A6D01-7373-405B-9427-CB56B07F8CCD-21-970_homereminder@192.badmintonn
 ers.net
DTSTAMP:20260420T070459Z
SUMMARY:Thuismatch ingevuld? (Royal Antwerp 4H (53) - De Klamp 2H (47))
DESCRIPTION:Je hebt 36 uur na aanvang om een thuismatch op Badmintonvlaande
 ren in te vullen. Match info: Royal Antwerp 4H (53) - De Klamp 2H (47) - L
 ink: https://www.badmintonvlaanderen.be/sport/teammatch.aspx?id=343A6D01-7
 373-405B-9427-CB56B07F8CCD&match=970
DTSTART;TZID=Europe/Brussels:20211123T060000
DTEND;TZID=Europe/Brussels:20211123T060000
END:VEVENT
BEGIN:VEVENT
UID:343A6D01-7373-405B-9427-CB56B07F8CCD-21-963_homereminder@192.badmintonn
 ers.net
DTSTAMP:20260420T070459Z
SUMMARY:Thuismatch ingevuld? (Royal Antwerp 4H (53) - Klein Boom 1H (47))
DESCRIPTION:Je hebt 36 uur na aanvang om een thuismatch op Badmintonvlaande
 ren in te vullen. Match info: Royal Antwerp 4H (53) - Klein Boom 1H (47) -
  Link: https://www.badmintonvlaanderen.be/sport/teammatch.aspx?id=343A6D01
 -7373-405B-9427-CB56B07F8CCD&match=963
DTSTART;TZID=Europe/Brussels:20211207T060000
DTEND;TZID=Europe/Brussels:20211207T060000
END:VEVENT
BEGIN:VEVENT
UID:343A6D01-7373-405B-9427-CB56B07F8CCD-21-941_homereminder@192.badmintonn
 ers.net
DTSTAMP:20260420T070459Z
SUMMARY:Thuismatch ingevuld? (Royal Antwerp 4H (53) - De Pluim 1H (54))
DESCRIPTION:Je hebt 36 uur na aanvang om een thuismatch op Badmintonvlaande
 ren in te vullen. Match info: Royal Antwerp 4H (53) - De Pluim 1H (54) - L
 ink: https://www.badmintonvlaanderen.be/sport/teammatch.aspx?id=343A6D01-7
 373-405B-9427-CB56B07F8CCD&match=941
DTSTART;TZID=Europe/Brussels:20220118T060000
DTEND;TZID=Europe/Brussels:20220118T060000
END:VEVENT
BEGIN:VEVENT
UID:343A6D01-7373-405B-9427-CB56B07F8CCD-21-977_homereminder@192.badmintonn
 ers.net
DTSTAMP:20260420T070459Z
SUMMARY:Thuismatch ingevuld? (Royal Antwerp 4H (53) - Brasschaat 3H (47))
DESCRIPTION:Je hebt 36 uur na aanvang om een thuismatch op Badmintonvlaande
 ren in te vullen. Match info: Royal Antwerp 4H (53) - Brasschaat 3H (47) -
  Link: https://www.badmintonvlaanderen.be/sport/teammatch.aspx?id=343A6D01
 -7373-405B-9427-CB56B07F8CCD&match=977
DTSTART;TZID=Europe/Brussels:20220417T080000
DTEND;TZID=Europe/Brussels:20220417T080000
END:VEVENT
BEGIN:VEVENT
UID:343A6D01-7373-405B-9427-CB56B07F8CCD-21-948_awayreminder@192.badmintonn
 ers.net
DTSTAMP:20260420T070459Z
SUMMARY:Uitmatch bevestigd? (De Pluim 1H (54) - Royal Antwerp 4H (53))
DESCRIPTION:Je hebt 72 uur na aanvang om een uitmatch op Badmintonvlaandere
 n in te vullen. Match info: De Pluim 1H (54) - Royal Antwerp 4H (53) - Lin
 k: https://www.badmintonvlaanderen.be/sport/teammatch.aspx?id=343A6D01-737
 3-405B-9427-CB56B07F8CCD&match=948
DTSTART;TZID=Europe/Brussels:20210929T180000
DTEND;TZID=Europe/Brussels:20210929T180000
END:VEVENT
BEGIN:VEVENT
UID:343A6D01-7373-405B-9427-CB56B07F8CCD-21-952_awayreminder@192.badmintonn
 ers.net
DTSTAMP:20260420T070459Z
SUMMARY:Uitmatch bevestigd? (Brasschaat 3H (47) - Royal Antwerp 4H (53))
DESCRIPTION:Je hebt 72 uur na aanvang om een uitmatch op Badmintonvlaandere
 n in te vullen. Match info: Brasschaat 3H (47) - Royal Antwerp 4H (53) - L
 ink: https://www.badmintonvlaanderen.be/sport/teammatch.aspx?id=343A6D01-7
 373-405B-9427-CB56B07F8CCD&match=952
DTSTART;TZID=Europe/Brussels:20211201T190000
DTEND;TZID=Europe/Brussels:20211201T190000
END:VEVENT
BEGIN:VEVENT
UID:343A6D01-7373-405B-9427-CB56B07F8CCD-21-953_awayreminder@192.badmintonn
 ers.net
DTSTAMP:20260420T070459Z
SUMMARY:Uitmatch bevestigd? (Smash 1H (57) - Royal Antwerp 4H (53))
DESCRIPTION:Je hebt 72 uur na aanvang om een uitmatch op Badmintonvlaandere
 n in te vullen. Match info: Smash 1H (57) - Royal Antwerp 4H (53) - Link: 
 https://www.badmintonvlaanderen.be/sport/teammatch.aspx?id=343A6D01-7373-4
 05B-9427-CB56B07F8CCD&match=953
DTSTART;TZID=Europe/Brussels:20220202T100000
DTEND;TZID=Europe/Brussels:20220202T100000
END:VEVENT
BEGIN:VEVENT
UID:343A6D01-7373-405B-9427-CB56B07F8CCD-21-949_awayreminder@192.badmintonn
 ers.net
DTSTAMP:20260420T070459Z
SUMMARY:Uitmatch bevestigd? (Beerke 1H (47) - Royal Antwerp 4H (53))
DESCRIPTION:Je hebt 72 uur na aanvang om een uitmatch op Badmintonvlaandere
 n in te vullen. Match info: Beerke 1H (47) - Royal Antwerp 4H (53) - Link:
  https://www.badmintonvlaanderen.be/sport/teammatch.aspx?id=343A6D01-7373-
 405B-9427-CB56B07F8CCD&match=949
DTSTART;TZID=Europe/Brussels:20220216T100000
DTEND;TZID=Europe/Brussels:20220216T100000
END:VEVENT
BEGIN:VEVENT
UID:343A6D01-7373-405B-9427-CB56B07F8CCD-21-954_awayreminder@192.badmintonn
 ers.net
DTSTAMP:20260420T070459Z
SUMMARY:Uitmatch bevestigd? (Olve 3H (47) - Royal Antwerp 4H (53))
DESCRIPTION:Je hebt 72 uur na aanvang om een uitmatch op Badmintonvlaandere
 n in te vullen. Match info: Olve 3H (47) - Royal Antwerp 4H (53) - Link: h
 ttps://www.badmintonvlaanderen.be/sport/teammatch.aspx?id=343A6D01-7373-40
 5B-9427-CB56B07F8CCD&match=954
DTSTART;TZID=Europe/Brussels:20220301T103000
DTEND;TZID=Europe/Brussels:20220301T103000
END:VEVENT
BEGIN:VEVENT
UID:343A6D01-7373-405B-9427-CB56B07F8CCD-21-950_awayreminder@192.badmintonn
 ers.net
DTSTAMP:20260420T070459Z
SUMMARY:Uitmatch bevestigd? (Klein Boom 1H (47) - Royal Antwerp 4H (53))
DESCRIPTION:Je hebt 72 uur na aanvang om een uitmatch op Badmintonvlaandere
 n in te vullen. Match info: Klein Boom 1H (47) - Royal Antwerp 4H (53) - L
 ink: https://www.badmintonvlaanderen.be/sport/teammatch.aspx?id=343A6D01-7
 373-405B-9427-CB56B07F8CCD&match=950
DTSTART;TZID=Europe/Brussels:20220330T190000
DTEND;TZID=Europe/Brussels:20220330T190000
END:VEVENT
BEGIN:VEVENT
UID:343A6D01-7373-405B-9427-CB56B07F8CCD-21-951_awayreminder@192.badmintonn
 ers.net
DTSTAMP:20260420T070459Z
SUMMARY:Uitmatch bevestigd? (De Klamp 2H (47) - Royal Antwerp 4H (53))
DESCRIPTION:Je hebt 72 uur na aanvang om een uitmatch op Badmintonvlaandere
 n in te vullen. Match info: De Klamp 2H (47) - Royal Antwerp 4H (53) - Lin
 k: https://www.badmintonvlaanderen.be/sport/teammatch.aspx?id=343A6D01-737
 3-405B-9427-CB56B07F8CCD&match=951
DTSTART;TZID=Europe/Brussels:20220413T181500
DTEND;TZID=Europe/Brussels:20220413T181500
END:VEVENT
END:VCALENDAR