BEGIN:VCALENDAR
VERSION:2.0
PRODID:spatie/icalendar-generator
NAME:smash_1h_57_reminders
X-WR-CALNAME:smash_1h_57_reminders
BEGIN:VTIMEZONE
TZID:Europe/Brussels
BEGIN:DAYLIGHT
DTSTART:20210328T010000
TZOFFSETFROM:+0100
TZOFFSETTO:+0200
END:DAYLIGHT
BEGIN:STANDARD
DTSTART:20211031T030000
TZOFFSETFROM:+0200
TZOFFSETTO:+0100
END:STANDARD
BEGIN:DAYLIGHT
DTSTART:20220327T010000
TZOFFSETFROM:+0100
TZOFFSETTO:+0200
END:DAYLIGHT
END:VTIMEZONE
BEGIN:VTIMEZONE
TZID:UTC
BEGIN:STANDARD
DTSTART:20250724T054023
TZOFFSETFROM:+0000
TZOFFSETTO:+0000
END:STANDARD
END:VTIMEZONE
BEGIN:VEVENT
UID:343A6D01-7373-405B-9427-CB56B07F8CCD-21-960_homereminder@201.badmintonn
 ers.net
DTSTAMP:20260420T054023Z
SUMMARY:Thuismatch ingevuld? (Smash 1H (57) - Beerke 1H (47))
DESCRIPTION:Je hebt 36 uur na aanvang om een thuismatch op Badmintonvlaande
 ren in te vullen. Match info: Smash 1H (57) - Beerke 1H (47) - Link: https
 ://www.badmintonvlaanderen.be/sport/teammatch.aspx?id=343A6D01-7373-405B-9
 427-CB56B07F8CCD&match=960
DTSTART;TZID=Europe/Brussels:20210927T220000
DTEND;TZID=Europe/Brussels:20210927T220000
END:VEVENT
BEGIN:VEVENT
UID:343A6D01-7373-405B-9427-CB56B07F8CCD-21-974_homereminder@201.badmintonn
 ers.net
DTSTAMP:20260420T054023Z
SUMMARY:Thuismatch ingevuld? (Smash 1H (57) - De Klamp 2H (47))
DESCRIPTION:Je hebt 36 uur na aanvang om een thuismatch op Badmintonvlaande
 ren in te vullen. Match info: Smash 1H (57) - De Klamp 2H (47) - Link: htt
 ps://www.badmintonvlaanderen.be/sport/teammatch.aspx?id=343A6D01-7373-405B
 -9427-CB56B07F8CCD&match=974
DTSTART;TZID=Europe/Brussels:20211025T220000
DTEND;TZID=Europe/Brussels:20211025T220000
END:VEVENT
BEGIN:VEVENT
UID:343A6D01-7373-405B-9427-CB56B07F8CCD-21-967_homereminder@201.badmintonn
 ers.net
DTSTAMP:20260420T054023Z
SUMMARY:Thuismatch ingevuld? (Smash 1H (57) - Klein Boom 1H (47))
DESCRIPTION:Je hebt 36 uur na aanvang om een thuismatch op Badmintonvlaande
 ren in te vullen. Match info: Smash 1H (57) - Klein Boom 1H (47) - Link: h
 ttps://www.badmintonvlaanderen.be/sport/teammatch.aspx?id=343A6D01-7373-40
 5B-9427-CB56B07F8CCD&match=967
DTSTART;TZID=Europe/Brussels:20220124T220000
DTEND;TZID=Europe/Brussels:20220124T220000
END:VEVENT
BEGIN:VEVENT
UID:343A6D01-7373-405B-9427-CB56B07F8CCD-21-953_homereminder@201.badmintonn
 ers.net
DTSTAMP:20260420T054023Z
SUMMARY:Thuismatch ingevuld? (Smash 1H (57) - Royal Antwerp 4H (53))
DESCRIPTION:Je hebt 36 uur na aanvang om een thuismatch op Badmintonvlaande
 ren in te vullen. Match info: Smash 1H (57) - Royal Antwerp 4H (53) - Link
 : https://www.badmintonvlaanderen.be/sport/teammatch.aspx?id=343A6D01-7373
 -405B-9427-CB56B07F8CCD&match=953
DTSTART;TZID=Europe/Brussels:20220131T220000
DTEND;TZID=Europe/Brussels:20220131T220000
END:VEVENT
BEGIN:VEVENT
UID:343A6D01-7373-405B-9427-CB56B07F8CCD-21-946_homereminder@201.badmintonn
 ers.net
DTSTAMP:20260420T054023Z
SUMMARY:Thuismatch ingevuld? (Smash 1H (57) - De Pluim 1H (54))
DESCRIPTION:Je hebt 36 uur na aanvang om een thuismatch op Badmintonvlaande
 ren in te vullen. Match info: Smash 1H (57) - De Pluim 1H (54) - Link: htt
 ps://www.badmintonvlaanderen.be/sport/teammatch.aspx?id=343A6D01-7373-405B
 -9427-CB56B07F8CCD&match=946
DTSTART;TZID=Europe/Brussels:20220221T220000
DTEND;TZID=Europe/Brussels:20220221T220000
END:VEVENT
BEGIN:VEVENT
UID:343A6D01-7373-405B-9427-CB56B07F8CCD-21-996_homereminder@201.badmintonn
 ers.net
DTSTAMP:20260420T054023Z
SUMMARY:Thuismatch ingevuld? (Smash 1H (57) - Olve 3H (47))
DESCRIPTION:Je hebt 36 uur na aanvang om een thuismatch op Badmintonvlaande
 ren in te vullen. Match info: Smash 1H (57) - Olve 3H (47) - Link: https:/
 /www.badmintonvlaanderen.be/sport/teammatch.aspx?id=343A6D01-7373-405B-942
 7-CB56B07F8CCD&match=996
DTSTART;TZID=Europe/Brussels:20220411T220000
DTEND;TZID=Europe/Brussels:20220411T220000
END:VEVENT
BEGIN:VEVENT
UID:343A6D01-7373-405B-9427-CB56B07F8CCD-21-981_homereminder@201.badmintonn
 ers.net
DTSTAMP:20260420T054023Z
SUMMARY:Thuismatch ingevuld? (Smash 1H (57) - Brasschaat 3H (47))
DESCRIPTION:Je hebt 36 uur na aanvang om een thuismatch op Badmintonvlaande
 ren in te vullen. Match info: Smash 1H (57) - Brasschaat 3H (47) - Link: h
 ttps://www.badmintonvlaanderen.be/sport/teammatch.aspx?id=343A6D01-7373-40
 5B-9427-CB56B07F8CCD&match=981
DTSTART;TZID=Europe/Brussels:20220425T220000
DTEND;TZID=Europe/Brussels:20220425T220000
END:VEVENT
BEGIN:VEVENT
UID:343A6D01-7373-405B-9427-CB56B07F8CCD-21-984_awayreminder@201.badmintonn
 ers.net
DTSTAMP:20260420T054023Z
SUMMARY:Uitmatch bevestigd? (Royal Antwerp 4H (53) - Smash 1H (57))
DESCRIPTION:Je hebt 72 uur na aanvang om een uitmatch op Badmintonvlaandere
 n in te vullen. Match info: Royal Antwerp 4H (53) - Smash 1H (57) - Link: 
 https://www.badmintonvlaanderen.be/sport/teammatch.aspx?id=343A6D01-7373-4
 05B-9427-CB56B07F8CCD&match=984
DTSTART;TZID=Europe/Brussels:20210915T180000
DTEND;TZID=Europe/Brussels:20210915T180000
END:VEVENT
BEGIN:VEVENT
UID:343A6D01-7373-405B-9427-CB56B07F8CCD-21-986_awayreminder@201.badmintonn
 ers.net
DTSTAMP:20260420T054023Z
SUMMARY:Uitmatch bevestigd? (Klein Boom 1H (47) - Smash 1H (57))
DESCRIPTION:Je hebt 72 uur na aanvang om een uitmatch op Badmintonvlaandere
 n in te vullen. Match info: Klein Boom 1H (47) - Smash 1H (57) - Link: htt
 ps://www.badmintonvlaanderen.be/sport/teammatch.aspx?id=343A6D01-7373-405B
 -9427-CB56B07F8CCD&match=986
DTSTART;TZID=Europe/Brussels:20211110T190000
DTEND;TZID=Europe/Brussels:20211110T190000
END:VEVENT
BEGIN:VEVENT
UID:343A6D01-7373-405B-9427-CB56B07F8CCD-21-989_awayreminder@201.badmintonn
 ers.net
DTSTAMP:20260420T054023Z
SUMMARY:Uitmatch bevestigd? (Olve 3H (47) - Smash 1H (57))
DESCRIPTION:Je hebt 72 uur na aanvang om een uitmatch op Badmintonvlaandere
 n in te vullen. Match info: Olve 3H (47) - Smash 1H (57) - Link: https://w
 ww.badmintonvlaanderen.be/sport/teammatch.aspx?id=343A6D01-7373-405B-9427-
 CB56B07F8CCD&match=989
DTSTART;TZID=Europe/Brussels:20211123T103000
DTEND;TZID=Europe/Brussels:20211123T103000
END:VEVENT
BEGIN:VEVENT
UID:343A6D01-7373-405B-9427-CB56B07F8CCD-21-988_awayreminder@201.badmintonn
 ers.net
DTSTAMP:20260420T054023Z
SUMMARY:Uitmatch bevestigd? (Brasschaat 3H (47) - Smash 1H (57))
DESCRIPTION:Je hebt 72 uur na aanvang om een uitmatch op Badmintonvlaandere
 n in te vullen. Match info: Brasschaat 3H (47) - Smash 1H (57) - Link: htt
 ps://www.badmintonvlaanderen.be/sport/teammatch.aspx?id=343A6D01-7373-405B
 -9427-CB56B07F8CCD&match=988
DTSTART;TZID=Europe/Brussels:20211208T190000
DTEND;TZID=Europe/Brussels:20211208T190000
END:VEVENT
BEGIN:VEVENT
UID:343A6D01-7373-405B-9427-CB56B07F8CCD-21-987_awayreminder@201.badmintonn
 ers.net
DTSTAMP:20260420T054023Z
SUMMARY:Uitmatch bevestigd? (De Klamp 2H (47) - Smash 1H (57))
DESCRIPTION:Je hebt 72 uur na aanvang om een uitmatch op Badmintonvlaandere
 n in te vullen. Match info: De Klamp 2H (47) - Smash 1H (57) - Link: https
 ://www.badmintonvlaanderen.be/sport/teammatch.aspx?id=343A6D01-7373-405B-9
 427-CB56B07F8CCD&match=987
DTSTART;TZID=Europe/Brussels:20220216T181500
DTEND;TZID=Europe/Brussels:20220216T181500
END:VEVENT
BEGIN:VEVENT
UID:343A6D01-7373-405B-9427-CB56B07F8CCD-21-983_awayreminder@201.badmintonn
 ers.net
DTSTAMP:20260420T054023Z
SUMMARY:Uitmatch bevestigd? (De Pluim 1H (54) - Smash 1H (57))
DESCRIPTION:Je hebt 72 uur na aanvang om een uitmatch op Badmintonvlaandere
 n in te vullen. Match info: De Pluim 1H (54) - Smash 1H (57) - Link: https
 ://www.badmintonvlaanderen.be/sport/teammatch.aspx?id=343A6D01-7373-405B-9
 427-CB56B07F8CCD&match=983
DTSTART;TZID=Europe/Brussels:20220316T180000
DTEND;TZID=Europe/Brussels:20220316T180000
END:VEVENT
BEGIN:VEVENT
UID:343A6D01-7373-405B-9427-CB56B07F8CCD-21-985_awayreminder@201.badmintonn
 ers.net
DTSTAMP:20260420T054023Z
SUMMARY:Uitmatch bevestigd? (Beerke 1H (47) - Smash 1H (57))
DESCRIPTION:Je hebt 72 uur na aanvang om een uitmatch op Badmintonvlaandere
 n in te vullen. Match info: Beerke 1H (47) - Smash 1H (57) - Link: https:/
 /www.badmintonvlaanderen.be/sport/teammatch.aspx?id=343A6D01-7373-405B-942
 7-CB56B07F8CCD&match=985
DTSTART;TZID=Europe/Brussels:20220330T100000
DTEND;TZID=Europe/Brussels:20220330T100000
END:VEVENT
END:VCALENDAR