BEGIN:VCALENDAR
VERSION:2.0
PRODID:spatie/icalendar-generator
NAME:brasschaat_3h_47_reminders
X-WR-CALNAME:brasschaat_3h_47_reminders
BEGIN:VTIMEZONE
TZID:Europe/Brussels
BEGIN:DAYLIGHT
DTSTART:20210328T010000
TZOFFSETFROM:+0100
TZOFFSETTO:+0200
END:DAYLIGHT
BEGIN:STANDARD
DTSTART:20211031T030000
TZOFFSETFROM:+0200
TZOFFSETTO:+0100
END:STANDARD
BEGIN:DAYLIGHT
DTSTART:20220327T010000
TZOFFSETFROM:+0100
TZOFFSETTO:+0200
END:DAYLIGHT
END:VTIMEZONE
BEGIN:VTIMEZONE
TZID:UTC
BEGIN:STANDARD
DTSTART:20250724T070507
TZOFFSETFROM:+0000
TZOFFSETTO:+0000
END:STANDARD
END:VTIMEZONE
BEGIN:VEVENT
UID:343A6D01-7373-405B-9427-CB56B07F8CCD-21-966_homereminder@35.badmintonne
 rs.net
DTSTAMP:20260420T070507Z
SUMMARY:Thuismatch ingevuld? (Brasschaat 3H (47) - Klein Boom 1H (47))
DESCRIPTION:Je hebt 36 uur na aanvang om een thuismatch op Badmintonvlaande
 ren in te vullen. Match info: Brasschaat 3H (47) - Klein Boom 1H (47) - Li
 nk: https://www.badmintonvlaanderen.be/sport/teammatch.aspx?id=343A6D01-73
 73-405B-9427-CB56B07F8CCD&match=966
DTSTART;TZID=Europe/Brussels:20210928T070000
DTEND;TZID=Europe/Brussels:20210928T070000
END:VEVENT
BEGIN:VEVENT
UID:343A6D01-7373-405B-9427-CB56B07F8CCD-21-952_homereminder@35.badmintonne
 rs.net
DTSTAMP:20260420T070507Z
SUMMARY:Thuismatch ingevuld? (Brasschaat 3H (47) - Royal Antwerp 4H (53))
DESCRIPTION:Je hebt 36 uur na aanvang om een thuismatch op Badmintonvlaande
 ren in te vullen. Match info: Brasschaat 3H (47) - Royal Antwerp 4H (53) -
  Link: https://www.badmintonvlaanderen.be/sport/teammatch.aspx?id=343A6D01
 -7373-405B-9427-CB56B07F8CCD&match=952
DTSTART;TZID=Europe/Brussels:20211130T070000
DTEND;TZID=Europe/Brussels:20211130T070000
END:VEVENT
BEGIN:VEVENT
UID:343A6D01-7373-405B-9427-CB56B07F8CCD-21-988_homereminder@35.badmintonne
 rs.net
DTSTAMP:20260420T070507Z
SUMMARY:Thuismatch ingevuld? (Brasschaat 3H (47) - Smash 1H (57))
DESCRIPTION:Je hebt 36 uur na aanvang om een thuismatch op Badmintonvlaande
 ren in te vullen. Match info: Brasschaat 3H (47) - Smash 1H (57) - Link: h
 ttps://www.badmintonvlaanderen.be/sport/teammatch.aspx?id=343A6D01-7373-40
 5B-9427-CB56B07F8CCD&match=988
DTSTART;TZID=Europe/Brussels:20211207T070000
DTEND;TZID=Europe/Brussels:20211207T070000
END:VEVENT
BEGIN:VEVENT
UID:343A6D01-7373-405B-9427-CB56B07F8CCD-21-959_homereminder@35.badmintonne
 rs.net
DTSTAMP:20260420T070507Z
SUMMARY:Thuismatch ingevuld? (Brasschaat 3H (47) - Beerke 1H (47))
DESCRIPTION:Je hebt 36 uur na aanvang om een thuismatch op Badmintonvlaande
 ren in te vullen. Match info: Brasschaat 3H (47) - Beerke 1H (47) - Link: 
 https://www.badmintonvlaanderen.be/sport/teammatch.aspx?id=343A6D01-7373-4
 05B-9427-CB56B07F8CCD&match=959
DTSTART;TZID=Europe/Brussels:20220201T070000
DTEND;TZID=Europe/Brussels:20220201T070000
END:VEVENT
BEGIN:VEVENT
UID:343A6D01-7373-405B-9427-CB56B07F8CCD-21-973_homereminder@35.badmintonne
 rs.net
DTSTAMP:20260420T070507Z
SUMMARY:Thuismatch ingevuld? (Brasschaat 3H (47) - De Klamp 2H (47))
DESCRIPTION:Je hebt 36 uur na aanvang om een thuismatch op Badmintonvlaande
 ren in te vullen. Match info: Brasschaat 3H (47) - De Klamp 2H (47) - Link
 : https://www.badmintonvlaanderen.be/sport/teammatch.aspx?id=343A6D01-7373
 -405B-9427-CB56B07F8CCD&match=973
DTSTART;TZID=Europe/Brussels:20220301T070000
DTEND;TZID=Europe/Brussels:20220301T070000
END:VEVENT
BEGIN:VEVENT
UID:343A6D01-7373-405B-9427-CB56B07F8CCD-21-945_homereminder@35.badmintonne
 rs.net
DTSTAMP:20260420T070507Z
SUMMARY:Thuismatch ingevuld? (Brasschaat 3H (47) - De Pluim 1H (54))
DESCRIPTION:Je hebt 36 uur na aanvang om een thuismatch op Badmintonvlaande
 ren in te vullen. Match info: Brasschaat 3H (47) - De Pluim 1H (54) - Link
 : https://www.badmintonvlaanderen.be/sport/teammatch.aspx?id=343A6D01-7373
 -405B-9427-CB56B07F8CCD&match=945
DTSTART;TZID=Europe/Brussels:20220412T070000
DTEND;TZID=Europe/Brussels:20220412T070000
END:VEVENT
BEGIN:VEVENT
UID:343A6D01-7373-405B-9427-CB56B07F8CCD-21-995_homereminder@35.badmintonne
 rs.net
DTSTAMP:20260420T070507Z
SUMMARY:Thuismatch ingevuld? (Brasschaat 3H (47) - Olve 3H (47))
DESCRIPTION:Je hebt 36 uur na aanvang om een thuismatch op Badmintonvlaande
 ren in te vullen. Match info: Brasschaat 3H (47) - Olve 3H (47) - Link: ht
 tps://www.badmintonvlaanderen.be/sport/teammatch.aspx?id=343A6D01-7373-405
 B-9427-CB56B07F8CCD&match=995
DTSTART;TZID=Europe/Brussels:20220426T070000
DTEND;TZID=Europe/Brussels:20220426T070000
END:VEVENT
BEGIN:VEVENT
UID:343A6D01-7373-405B-9427-CB56B07F8CCD-21-982_awayreminder@35.badmintonne
 rs.net
DTSTAMP:20260420T070507Z
SUMMARY:Uitmatch bevestigd? (Olve 3H (47) - Brasschaat 3H (47))
DESCRIPTION:Je hebt 72 uur na aanvang om een uitmatch op Badmintonvlaandere
 n in te vullen. Match info: Olve 3H (47) - Brasschaat 3H (47) - Link: http
 s://www.badmintonvlaanderen.be/sport/teammatch.aspx?id=343A6D01-7373-405B-
 9427-CB56B07F8CCD&match=982
DTSTART;TZID=Europe/Brussels:20211026T103000
DTEND;TZID=Europe/Brussels:20211026T103000
END:VEVENT
BEGIN:VEVENT
UID:343A6D01-7373-405B-9427-CB56B07F8CCD-21-980_awayreminder@35.badmintonne
 rs.net
DTSTAMP:20260420T070507Z
SUMMARY:Uitmatch bevestigd? (De Klamp 2H (47) - Brasschaat 3H (47))
DESCRIPTION:Je hebt 72 uur na aanvang om een uitmatch op Badmintonvlaandere
 n in te vullen. Match info: De Klamp 2H (47) - Brasschaat 3H (47) - Link: 
 https://www.badmintonvlaanderen.be/sport/teammatch.aspx?id=343A6D01-7373-4
 05B-9427-CB56B07F8CCD&match=980
DTSTART;TZID=Europe/Brussels:20211110T181500
DTEND;TZID=Europe/Brussels:20211110T181500
END:VEVENT
BEGIN:VEVENT
UID:343A6D01-7373-405B-9427-CB56B07F8CCD-21-976_awayreminder@35.badmintonne
 rs.net
DTSTAMP:20260420T070507Z
SUMMARY:Uitmatch bevestigd? (De Pluim 1H (54) - Brasschaat 3H (47))
DESCRIPTION:Je hebt 72 uur na aanvang om een uitmatch op Badmintonvlaandere
 n in te vullen. Match info: De Pluim 1H (54) - Brasschaat 3H (47) - Link: 
 https://www.badmintonvlaanderen.be/sport/teammatch.aspx?id=343A6D01-7373-4
 05B-9427-CB56B07F8CCD&match=976
DTSTART;TZID=Europe/Brussels:20211124T180000
DTEND;TZID=Europe/Brussels:20211124T180000
END:VEVENT
BEGIN:VEVENT
UID:343A6D01-7373-405B-9427-CB56B07F8CCD-21-978_awayreminder@35.badmintonne
 rs.net
DTSTAMP:20260420T070507Z
SUMMARY:Uitmatch bevestigd? (Beerke 1H (47) - Brasschaat 3H (47))
DESCRIPTION:Je hebt 72 uur na aanvang om een uitmatch op Badmintonvlaandere
 n in te vullen. Match info: Beerke 1H (47) - Brasschaat 3H (47) - Link: ht
 tps://www.badmintonvlaanderen.be/sport/teammatch.aspx?id=343A6D01-7373-405
 B-9427-CB56B07F8CCD&match=978
DTSTART;TZID=Europe/Brussels:20220116T200000
DTEND;TZID=Europe/Brussels:20220116T200000
END:VEVENT
BEGIN:VEVENT
UID:343A6D01-7373-405B-9427-CB56B07F8CCD-21-979_awayreminder@35.badmintonne
 rs.net
DTSTAMP:20260420T070507Z
SUMMARY:Uitmatch bevestigd? (Klein Boom 1H (47) - Brasschaat 3H (47))
DESCRIPTION:Je hebt 72 uur na aanvang om een uitmatch op Badmintonvlaandere
 n in te vullen. Match info: Klein Boom 1H (47) - Brasschaat 3H (47) - Link
 : https://www.badmintonvlaanderen.be/sport/teammatch.aspx?id=343A6D01-7373
 -405B-9427-CB56B07F8CCD&match=979
DTSTART;TZID=Europe/Brussels:20220119T190000
DTEND;TZID=Europe/Brussels:20220119T190000
END:VEVENT
BEGIN:VEVENT
UID:343A6D01-7373-405B-9427-CB56B07F8CCD-21-977_awayreminder@35.badmintonne
 rs.net
DTSTAMP:20260420T070507Z
SUMMARY:Uitmatch bevestigd? (Royal Antwerp 4H (53) - Brasschaat 3H (47))
DESCRIPTION:Je hebt 72 uur na aanvang om een uitmatch op Badmintonvlaandere
 n in te vullen. Match info: Royal Antwerp 4H (53) - Brasschaat 3H (47) - L
 ink: https://www.badmintonvlaanderen.be/sport/teammatch.aspx?id=343A6D01-7
 373-405B-9427-CB56B07F8CCD&match=977
DTSTART;TZID=Europe/Brussels:20220418T200000
DTEND;TZID=Europe/Brussels:20220418T200000
END:VEVENT
BEGIN:VEVENT
UID:343A6D01-7373-405B-9427-CB56B07F8CCD-21-981_awayreminder@35.badmintonne
 rs.net
DTSTAMP:20260420T070507Z
SUMMARY:Uitmatch bevestigd? (Smash 1H (57) - Brasschaat 3H (47))
DESCRIPTION:Je hebt 72 uur na aanvang om een uitmatch op Badmintonvlaandere
 n in te vullen. Match info: Smash 1H (57) - Brasschaat 3H (47) - Link: htt
 ps://www.badmintonvlaanderen.be/sport/teammatch.aspx?id=343A6D01-7373-405B
 -9427-CB56B07F8CCD&match=981
DTSTART;TZID=Europe/Brussels:20220427T100000
DTEND;TZID=Europe/Brussels:20220427T100000
END:VEVENT
END:VCALENDAR