BEGIN:VCALENDAR
VERSION:2.0
PRODID:spatie/icalendar-generator
NAME:olve_3h_47_reminders
X-WR-CALNAME:olve_3h_47_reminders
BEGIN:VTIMEZONE
TZID:Europe/Brussels
BEGIN:DAYLIGHT
DTSTART:20210328T010000
TZOFFSETFROM:+0100
TZOFFSETTO:+0200
END:DAYLIGHT
BEGIN:STANDARD
DTSTART:20211031T030000
TZOFFSETFROM:+0200
TZOFFSETTO:+0100
END:STANDARD
BEGIN:DAYLIGHT
DTSTART:20220327T010000
TZOFFSETFROM:+0100
TZOFFSETTO:+0200
END:DAYLIGHT
END:VTIMEZONE
BEGIN:VTIMEZONE
TZID:UTC
BEGIN:STANDARD
DTSTART:20250724T054023
TZOFFSETFROM:+0000
TZOFFSETTO:+0000
END:STANDARD
END:VTIMEZONE
BEGIN:VEVENT
UID:343A6D01-7373-405B-9427-CB56B07F8CCD-21-975_homereminder@45.badmintonne
 rs.net
DTSTAMP:20260420T054023Z
SUMMARY:Thuismatch ingevuld? (Olve 3H (47) - De Klamp 2H (47))
DESCRIPTION:Je hebt 36 uur na aanvang om een thuismatch op Badmintonvlaande
 ren in te vullen. Match info: Olve 3H (47) - De Klamp 2H (47) - Link: http
 s://www.badmintonvlaanderen.be/sport/teammatch.aspx?id=343A6D01-7373-405B-
 9427-CB56B07F8CCD&match=975
DTSTART;TZID=Europe/Brussels:20210926T223000
DTEND;TZID=Europe/Brussels:20210926T223000
END:VEVENT
BEGIN:VEVENT
UID:343A6D01-7373-405B-9427-CB56B07F8CCD-21-982_homereminder@45.badmintonne
 rs.net
DTSTAMP:20260420T054023Z
SUMMARY:Thuismatch ingevuld? (Olve 3H (47) - Brasschaat 3H (47))
DESCRIPTION:Je hebt 36 uur na aanvang om een thuismatch op Badmintonvlaande
 ren in te vullen. Match info: Olve 3H (47) - Brasschaat 3H (47) - Link: ht
 tps://www.badmintonvlaanderen.be/sport/teammatch.aspx?id=343A6D01-7373-405
 B-9427-CB56B07F8CCD&match=982
DTSTART;TZID=Europe/Brussels:20211024T223000
DTEND;TZID=Europe/Brussels:20211024T223000
END:VEVENT
BEGIN:VEVENT
UID:343A6D01-7373-405B-9427-CB56B07F8CCD-21-989_homereminder@45.badmintonne
 rs.net
DTSTAMP:20260420T054023Z
SUMMARY:Thuismatch ingevuld? (Olve 3H (47) - Smash 1H (57))
DESCRIPTION:Je hebt 36 uur na aanvang om een thuismatch op Badmintonvlaande
 ren in te vullen. Match info: Olve 3H (47) - Smash 1H (57) - Link: https:/
 /www.badmintonvlaanderen.be/sport/teammatch.aspx?id=343A6D01-7373-405B-942
 7-CB56B07F8CCD&match=989
DTSTART;TZID=Europe/Brussels:20211121T223000
DTEND;TZID=Europe/Brussels:20211121T223000
END:VEVENT
BEGIN:VEVENT
UID:343A6D01-7373-405B-9427-CB56B07F8CCD-21-947_homereminder@45.badmintonne
 rs.net
DTSTAMP:20260420T054023Z
SUMMARY:Thuismatch ingevuld? (Olve 3H (47) - De Pluim 1H (54))
DESCRIPTION:Je hebt 36 uur na aanvang om een thuismatch op Badmintonvlaande
 ren in te vullen. Match info: Olve 3H (47) - De Pluim 1H (54) - Link: http
 s://www.badmintonvlaanderen.be/sport/teammatch.aspx?id=343A6D01-7373-405B-
 9427-CB56B07F8CCD&match=947
DTSTART;TZID=Europe/Brussels:20220130T223000
DTEND;TZID=Europe/Brussels:20220130T223000
END:VEVENT
BEGIN:VEVENT
UID:343A6D01-7373-405B-9427-CB56B07F8CCD-21-954_homereminder@45.badmintonne
 rs.net
DTSTAMP:20260420T054023Z
SUMMARY:Thuismatch ingevuld? (Olve 3H (47) - Royal Antwerp 4H (53))
DESCRIPTION:Je hebt 36 uur na aanvang om een thuismatch op Badmintonvlaande
 ren in te vullen. Match info: Olve 3H (47) - Royal Antwerp 4H (53) - Link:
  https://www.badmintonvlaanderen.be/sport/teammatch.aspx?id=343A6D01-7373-
 405B-9427-CB56B07F8CCD&match=954
DTSTART;TZID=Europe/Brussels:20220227T223000
DTEND;TZID=Europe/Brussels:20220227T223000
END:VEVENT
BEGIN:VEVENT
UID:343A6D01-7373-405B-9427-CB56B07F8CCD-21-968_homereminder@45.badmintonne
 rs.net
DTSTAMP:20260420T054023Z
SUMMARY:Thuismatch ingevuld? (Olve 3H (47) - Klein Boom 1H (47))
DESCRIPTION:Je hebt 36 uur na aanvang om een thuismatch op Badmintonvlaande
 ren in te vullen. Match info: Olve 3H (47) - Klein Boom 1H (47) - Link: ht
 tps://www.badmintonvlaanderen.be/sport/teammatch.aspx?id=343A6D01-7373-405
 B-9427-CB56B07F8CCD&match=968
DTSTART;TZID=Europe/Brussels:20220313T223000
DTEND;TZID=Europe/Brussels:20220313T223000
END:VEVENT
BEGIN:VEVENT
UID:343A6D01-7373-405B-9427-CB56B07F8CCD-21-961_homereminder@45.badmintonne
 rs.net
DTSTAMP:20260420T054023Z
SUMMARY:Thuismatch ingevuld? (Olve 3H (47) - Beerke 1H (47))
DESCRIPTION:Je hebt 36 uur na aanvang om een thuismatch op Badmintonvlaande
 ren in te vullen. Match info: Olve 3H (47) - Beerke 1H (47) - Link: https:
 //www.badmintonvlaanderen.be/sport/teammatch.aspx?id=343A6D01-7373-405B-94
 27-CB56B07F8CCD&match=961
DTSTART;TZID=Europe/Brussels:20220327T233000
DTEND;TZID=Europe/Brussels:20220327T233000
END:VEVENT
BEGIN:VEVENT
UID:343A6D01-7373-405B-9427-CB56B07F8CCD-21-990_awayreminder@45.badmintonne
 rs.net
DTSTAMP:20260420T054023Z
SUMMARY:Uitmatch bevestigd? (De Pluim 1H (54) - Olve 3H (47))
DESCRIPTION:Je hebt 72 uur na aanvang om een uitmatch op Badmintonvlaandere
 n in te vullen. Match info: De Pluim 1H (54) - Olve 3H (47) - Link: https:
 //www.badmintonvlaanderen.be/sport/teammatch.aspx?id=343A6D01-7373-405B-94
 27-CB56B07F8CCD&match=990
DTSTART;TZID=Europe/Brussels:20210915T180000
DTEND;TZID=Europe/Brussels:20210915T180000
END:VEVENT
BEGIN:VEVENT
UID:343A6D01-7373-405B-9427-CB56B07F8CCD-21-991_awayreminder@45.badmintonne
 rs.net
DTSTAMP:20260420T054023Z
SUMMARY:Uitmatch bevestigd? (Royal Antwerp 4H (53) - Olve 3H (47))
DESCRIPTION:Je hebt 72 uur na aanvang om een uitmatch op Badmintonvlaandere
 n in te vullen. Match info: Royal Antwerp 4H (53) - Olve 3H (47) - Link: h
 ttps://www.badmintonvlaanderen.be/sport/teammatch.aspx?id=343A6D01-7373-40
 5B-9427-CB56B07F8CCD&match=991
DTSTART;TZID=Europe/Brussels:20211013T180000
DTEND;TZID=Europe/Brussels:20211013T180000
END:VEVENT
BEGIN:VEVENT
UID:343A6D01-7373-405B-9427-CB56B07F8CCD-21-992_awayreminder@45.badmintonne
 rs.net
DTSTAMP:20260420T054023Z
SUMMARY:Uitmatch bevestigd? (Beerke 1H (47) - Olve 3H (47))
DESCRIPTION:Je hebt 72 uur na aanvang om een uitmatch op Badmintonvlaandere
 n in te vullen. Match info: Beerke 1H (47) - Olve 3H (47) - Link: https://
 www.badmintonvlaanderen.be/sport/teammatch.aspx?id=343A6D01-7373-405B-9427
 -CB56B07F8CCD&match=992
DTSTART;TZID=Europe/Brussels:20211208T100000
DTEND;TZID=Europe/Brussels:20211208T100000
END:VEVENT
BEGIN:VEVENT
UID:343A6D01-7373-405B-9427-CB56B07F8CCD-21-993_awayreminder@45.badmintonne
 rs.net
DTSTAMP:20260420T054023Z
SUMMARY:Uitmatch bevestigd? (Klein Boom 1H (47) - Olve 3H (47))
DESCRIPTION:Je hebt 72 uur na aanvang om een uitmatch op Badmintonvlaandere
 n in te vullen. Match info: Klein Boom 1H (47) - Olve 3H (47) - Link: http
 s://www.badmintonvlaanderen.be/sport/teammatch.aspx?id=343A6D01-7373-405B-
 9427-CB56B07F8CCD&match=993
DTSTART;TZID=Europe/Brussels:20211222T190000
DTEND;TZID=Europe/Brussels:20211222T190000
END:VEVENT
BEGIN:VEVENT
UID:343A6D01-7373-405B-9427-CB56B07F8CCD-21-994_awayreminder@45.badmintonne
 rs.net
DTSTAMP:20260420T054023Z
SUMMARY:Uitmatch bevestigd? (De Klamp 2H (47) - Olve 3H (47))
DESCRIPTION:Je hebt 72 uur na aanvang om een uitmatch op Badmintonvlaandere
 n in te vullen. Match info: De Klamp 2H (47) - Olve 3H (47) - Link: https:
 //www.badmintonvlaanderen.be/sport/teammatch.aspx?id=343A6D01-7373-405B-94
 27-CB56B07F8CCD&match=994
DTSTART;TZID=Europe/Brussels:20220119T181500
DTEND;TZID=Europe/Brussels:20220119T181500
END:VEVENT
BEGIN:VEVENT
UID:343A6D01-7373-405B-9427-CB56B07F8CCD-21-996_awayreminder@45.badmintonne
 rs.net
DTSTAMP:20260420T054023Z
SUMMARY:Uitmatch bevestigd? (Smash 1H (57) - Olve 3H (47))
DESCRIPTION:Je hebt 72 uur na aanvang om een uitmatch op Badmintonvlaandere
 n in te vullen. Match info: Smash 1H (57) - Olve 3H (47) - Link: https://w
 ww.badmintonvlaanderen.be/sport/teammatch.aspx?id=343A6D01-7373-405B-9427-
 CB56B07F8CCD&match=996
DTSTART;TZID=Europe/Brussels:20220413T100000
DTEND;TZID=Europe/Brussels:20220413T100000
END:VEVENT
BEGIN:VEVENT
UID:343A6D01-7373-405B-9427-CB56B07F8CCD-21-995_awayreminder@45.badmintonne
 rs.net
DTSTAMP:20260420T054023Z
SUMMARY:Uitmatch bevestigd? (Brasschaat 3H (47) - Olve 3H (47))
DESCRIPTION:Je hebt 72 uur na aanvang om een uitmatch op Badmintonvlaandere
 n in te vullen. Match info: Brasschaat 3H (47) - Olve 3H (47) - Link: http
 s://www.badmintonvlaanderen.be/sport/teammatch.aspx?id=343A6D01-7373-405B-
 9427-CB56B07F8CCD&match=995
DTSTART;TZID=Europe/Brussels:20220427T190000
DTEND;TZID=Europe/Brussels:20220427T190000
END:VEVENT
END:VCALENDAR