BEGIN:VCALENDAR
VERSION:2.0
PRODID:spatie/icalendar-generator
NAME:de_klamp_2h_47_reminders
X-WR-CALNAME:de_klamp_2h_47_reminders
BEGIN:VTIMEZONE
TZID:Europe/Brussels
BEGIN:DAYLIGHT
DTSTART:20210328T010000
TZOFFSETFROM:+0100
TZOFFSETTO:+0200
END:DAYLIGHT
BEGIN:STANDARD
DTSTART:20211031T030000
TZOFFSETFROM:+0200
TZOFFSETTO:+0100
END:STANDARD
BEGIN:DAYLIGHT
DTSTART:20220327T010000
TZOFFSETFROM:+0100
TZOFFSETTO:+0200
END:DAYLIGHT
END:VTIMEZONE
BEGIN:VTIMEZONE
TZID:UTC
BEGIN:STANDARD
DTSTART:20250724T070458
TZOFFSETFROM:+0000
TZOFFSETTO:+0000
END:STANDARD
END:VTIMEZONE
BEGIN:VEVENT
UID:343A6D01-7373-405B-9427-CB56B07F8CCD-21-980_homereminder@56.badmintonne
 rs.net
DTSTAMP:20260420T070458Z
SUMMARY:Thuismatch ingevuld? (De Klamp 2H (47) - Brasschaat 3H (47))
DESCRIPTION:Je hebt 36 uur na aanvang om een thuismatch op Badmintonvlaande
 ren in te vullen. Match info: De Klamp 2H (47) - Brasschaat 3H (47) - Link
 : https://www.badmintonvlaanderen.be/sport/teammatch.aspx?id=343A6D01-7373
 -405B-9427-CB56B07F8CCD&match=980
DTSTART;TZID=Europe/Brussels:20211109T061500
DTEND;TZID=Europe/Brussels:20211109T061500
END:VEVENT
BEGIN:VEVENT
UID:343A6D01-7373-405B-9427-CB56B07F8CCD-21-944_homereminder@56.badmintonne
 rs.net
DTSTAMP:20260420T070458Z
SUMMARY:Thuismatch ingevuld? (De Klamp 2H (47) - De Pluim 1H (54))
DESCRIPTION:Je hebt 36 uur na aanvang om een thuismatch op Badmintonvlaande
 ren in te vullen. Match info: De Klamp 2H (47) - De Pluim 1H (54) - Link: 
 https://www.badmintonvlaanderen.be/sport/teammatch.aspx?id=343A6D01-7373-4
 05B-9427-CB56B07F8CCD&match=944
DTSTART;TZID=Europe/Brussels:20211207T061500
DTEND;TZID=Europe/Brussels:20211207T061500
END:VEVENT
BEGIN:VEVENT
UID:343A6D01-7373-405B-9427-CB56B07F8CCD-21-958_homereminder@56.badmintonne
 rs.net
DTSTAMP:20260420T070458Z
SUMMARY:Thuismatch ingevuld? (De Klamp 2H (47) - Beerke 1H (47))
DESCRIPTION:Je hebt 36 uur na aanvang om een thuismatch op Badmintonvlaande
 ren in te vullen. Match info: De Klamp 2H (47) - Beerke 1H (47) - Link: ht
 tps://www.badmintonvlaanderen.be/sport/teammatch.aspx?id=343A6D01-7373-405
 B-9427-CB56B07F8CCD&match=958
DTSTART;TZID=Europe/Brussels:20211221T061500
DTEND;TZID=Europe/Brussels:20211221T061500
END:VEVENT
BEGIN:VEVENT
UID:343A6D01-7373-405B-9427-CB56B07F8CCD-21-994_homereminder@56.badmintonne
 rs.net
DTSTAMP:20260420T070458Z
SUMMARY:Thuismatch ingevuld? (De Klamp 2H (47) - Olve 3H (47))
DESCRIPTION:Je hebt 36 uur na aanvang om een thuismatch op Badmintonvlaande
 ren in te vullen. Match info: De Klamp 2H (47) - Olve 3H (47) - Link: http
 s://www.badmintonvlaanderen.be/sport/teammatch.aspx?id=343A6D01-7373-405B-
 9427-CB56B07F8CCD&match=994
DTSTART;TZID=Europe/Brussels:20220118T061500
DTEND;TZID=Europe/Brussels:20220118T061500
END:VEVENT
BEGIN:VEVENT
UID:343A6D01-7373-405B-9427-CB56B07F8CCD-21-965_homereminder@56.badmintonne
 rs.net
DTSTAMP:20260420T070458Z
SUMMARY:Thuismatch ingevuld? (De Klamp 2H (47) - Klein Boom 1H (47))
DESCRIPTION:Je hebt 36 uur na aanvang om een thuismatch op Badmintonvlaande
 ren in te vullen. Match info: De Klamp 2H (47) - Klein Boom 1H (47) - Link
 : https://www.badmintonvlaanderen.be/sport/teammatch.aspx?id=343A6D01-7373
 -405B-9427-CB56B07F8CCD&match=965
DTSTART;TZID=Europe/Brussels:20220201T061500
DTEND;TZID=Europe/Brussels:20220201T061500
END:VEVENT
BEGIN:VEVENT
UID:343A6D01-7373-405B-9427-CB56B07F8CCD-21-987_homereminder@56.badmintonne
 rs.net
DTSTAMP:20260420T070458Z
SUMMARY:Thuismatch ingevuld? (De Klamp 2H (47) - Smash 1H (57))
DESCRIPTION:Je hebt 36 uur na aanvang om een thuismatch op Badmintonvlaande
 ren in te vullen. Match info: De Klamp 2H (47) - Smash 1H (57) - Link: htt
 ps://www.badmintonvlaanderen.be/sport/teammatch.aspx?id=343A6D01-7373-405B
 -9427-CB56B07F8CCD&match=987
DTSTART;TZID=Europe/Brussels:20220215T061500
DTEND;TZID=Europe/Brussels:20220215T061500
END:VEVENT
BEGIN:VEVENT
UID:343A6D01-7373-405B-9427-CB56B07F8CCD-21-951_homereminder@56.badmintonne
 rs.net
DTSTAMP:20260420T070458Z
SUMMARY:Thuismatch ingevuld? (De Klamp 2H (47) - Royal Antwerp 4H (53))
DESCRIPTION:Je hebt 36 uur na aanvang om een thuismatch op Badmintonvlaande
 ren in te vullen. Match info: De Klamp 2H (47) - Royal Antwerp 4H (53) - L
 ink: https://www.badmintonvlaanderen.be/sport/teammatch.aspx?id=343A6D01-7
 373-405B-9427-CB56B07F8CCD&match=951
DTSTART;TZID=Europe/Brussels:20220412T061500
DTEND;TZID=Europe/Brussels:20220412T061500
END:VEVENT
BEGIN:VEVENT
UID:343A6D01-7373-405B-9427-CB56B07F8CCD-21-972_awayreminder@56.badmintonne
 rs.net
DTSTAMP:20260420T070458Z
SUMMARY:Uitmatch bevestigd? (Klein Boom 1H (47) - De Klamp 2H (47))
DESCRIPTION:Je hebt 72 uur na aanvang om een uitmatch op Badmintonvlaandere
 n in te vullen. Match info: Klein Boom 1H (47) - De Klamp 2H (47) - Link: 
 https://www.badmintonvlaanderen.be/sport/teammatch.aspx?id=343A6D01-7373-4
 05B-9427-CB56B07F8CCD&match=972
DTSTART;TZID=Europe/Brussels:20210915T190000
DTEND;TZID=Europe/Brussels:20210915T190000
END:VEVENT
BEGIN:VEVENT
UID:343A6D01-7373-405B-9427-CB56B07F8CCD-21-975_awayreminder@56.badmintonne
 rs.net
DTSTAMP:20260420T070458Z
SUMMARY:Uitmatch bevestigd? (Olve 3H (47) - De Klamp 2H (47))
DESCRIPTION:Je hebt 72 uur na aanvang om een uitmatch op Badmintonvlaandere
 n in te vullen. Match info: Olve 3H (47) - De Klamp 2H (47) - Link: https:
 //www.badmintonvlaanderen.be/sport/teammatch.aspx?id=343A6D01-7373-405B-94
 27-CB56B07F8CCD&match=975
DTSTART;TZID=Europe/Brussels:20210928T103000
DTEND;TZID=Europe/Brussels:20210928T103000
END:VEVENT
BEGIN:VEVENT
UID:343A6D01-7373-405B-9427-CB56B07F8CCD-21-974_awayreminder@56.badmintonne
 rs.net
DTSTAMP:20260420T070458Z
SUMMARY:Uitmatch bevestigd? (Smash 1H (57) - De Klamp 2H (47))
DESCRIPTION:Je hebt 72 uur na aanvang om een uitmatch op Badmintonvlaandere
 n in te vullen. Match info: Smash 1H (57) - De Klamp 2H (47) - Link: https
 ://www.badmintonvlaanderen.be/sport/teammatch.aspx?id=343A6D01-7373-405B-9
 427-CB56B07F8CCD&match=974
DTSTART;TZID=Europe/Brussels:20211027T100000
DTEND;TZID=Europe/Brussels:20211027T100000
END:VEVENT
BEGIN:VEVENT
UID:343A6D01-7373-405B-9427-CB56B07F8CCD-21-970_awayreminder@56.badmintonne
 rs.net
DTSTAMP:20260420T070458Z
SUMMARY:Uitmatch bevestigd? (Royal Antwerp 4H (53) - De Klamp 2H (47))
DESCRIPTION:Je hebt 72 uur na aanvang om een uitmatch op Badmintonvlaandere
 n in te vullen. Match info: Royal Antwerp 4H (53) - De Klamp 2H (47) - Lin
 k: https://www.badmintonvlaanderen.be/sport/teammatch.aspx?id=343A6D01-737
 3-405B-9427-CB56B07F8CCD&match=970
DTSTART;TZID=Europe/Brussels:20211124T180000
DTEND;TZID=Europe/Brussels:20211124T180000
END:VEVENT
BEGIN:VEVENT
UID:343A6D01-7373-405B-9427-CB56B07F8CCD-21-973_awayreminder@56.badmintonne
 rs.net
DTSTAMP:20260420T070458Z
SUMMARY:Uitmatch bevestigd? (Brasschaat 3H (47) - De Klamp 2H (47))
DESCRIPTION:Je hebt 72 uur na aanvang om een uitmatch op Badmintonvlaandere
 n in te vullen. Match info: Brasschaat 3H (47) - De Klamp 2H (47) - Link: 
 https://www.badmintonvlaanderen.be/sport/teammatch.aspx?id=343A6D01-7373-4
 05B-9427-CB56B07F8CCD&match=973
DTSTART;TZID=Europe/Brussels:20220302T190000
DTEND;TZID=Europe/Brussels:20220302T190000
END:VEVENT
BEGIN:VEVENT
UID:343A6D01-7373-405B-9427-CB56B07F8CCD-21-971_awayreminder@56.badmintonne
 rs.net
DTSTAMP:20260420T070458Z
SUMMARY:Uitmatch bevestigd? (Beerke 1H (47) - De Klamp 2H (47))
DESCRIPTION:Je hebt 72 uur na aanvang om een uitmatch op Badmintonvlaandere
 n in te vullen. Match info: Beerke 1H (47) - De Klamp 2H (47) - Link: http
 s://www.badmintonvlaanderen.be/sport/teammatch.aspx?id=343A6D01-7373-405B-
 9427-CB56B07F8CCD&match=971
DTSTART;TZID=Europe/Brussels:20220316T100000
DTEND;TZID=Europe/Brussels:20220316T100000
END:VEVENT
BEGIN:VEVENT
UID:343A6D01-7373-405B-9427-CB56B07F8CCD-21-969_awayreminder@56.badmintonne
 rs.net
DTSTAMP:20260420T070458Z
SUMMARY:Uitmatch bevestigd? (De Pluim 1H (54) - De Klamp 2H (47))
DESCRIPTION:Je hebt 72 uur na aanvang om een uitmatch op Badmintonvlaandere
 n in te vullen. Match info: De Pluim 1H (54) - De Klamp 2H (47) - Link: ht
 tps://www.badmintonvlaanderen.be/sport/teammatch.aspx?id=343A6D01-7373-405
 B-9427-CB56B07F8CCD&match=969
DTSTART;TZID=Europe/Brussels:20220330T180000
DTEND;TZID=Europe/Brussels:20220330T180000
END:VEVENT
END:VCALENDAR