BEGIN:VCALENDAR
VERSION:2.0
PRODID:spatie/icalendar-generator
NAME:amateurs_1h_70_reminders
X-WR-CALNAME:amateurs_1h_70_reminders
BEGIN:VTIMEZONE
TZID:Europe/Brussels
BEGIN:DAYLIGHT
DTSTART:20210328T010000
TZOFFSETFROM:+0100
TZOFFSETTO:+0200
END:DAYLIGHT
BEGIN:STANDARD
DTSTART:20211031T030000
TZOFFSETFROM:+0200
TZOFFSETTO:+0100
END:STANDARD
BEGIN:DAYLIGHT
DTSTART:20220327T010000
TZOFFSETFROM:+0100
TZOFFSETTO:+0200
END:DAYLIGHT
END:VTIMEZONE
BEGIN:VTIMEZONE
TZID:UTC
BEGIN:STANDARD
DTSTART:20250724T055132
TZOFFSETFROM:+0000
TZOFFSETTO:+0000
END:STANDARD
END:VTIMEZONE
BEGIN:VEVENT
UID:343A6D01-7373-405B-9427-CB56B07F8CCD-26-1249_homereminder@107.badminton
 ners.net
DTSTAMP:20260420T055132Z
SUMMARY:Thuismatch ingevuld? (Amateurs 1H (70) - Klein Boom 2H (59))
DESCRIPTION:Je hebt 36 uur na aanvang om een thuismatch op Badmintonvlaande
 ren in te vullen. Match info: Amateurs 1H (70) - Klein Boom 2H (59) - Link
 : https://www.badmintonvlaanderen.be/sport/teammatch.aspx?id=343A6D01-7373
 -405B-9427-CB56B07F8CCD&match=1249
DTSTART;TZID=Europe/Brussels:20211006T080000
DTEND;TZID=Europe/Brussels:20211006T080000
END:VEVENT
BEGIN:VEVENT
UID:343A6D01-7373-405B-9427-CB56B07F8CCD-26-1218_homereminder@107.badminton
 ners.net
DTSTAMP:20260420T055132Z
SUMMARY:Thuismatch ingevuld? (Amateurs 1H (70) - Duffel 2H (64))
DESCRIPTION:Je hebt 36 uur na aanvang om een thuismatch op Badmintonvlaande
 ren in te vullen. Match info: Amateurs 1H (70) - Duffel 2H (64) - Link: ht
 tps://www.badmintonvlaanderen.be/sport/teammatch.aspx?id=343A6D01-7373-405
 B-9427-CB56B07F8CCD&match=1218
DTSTART;TZID=Europe/Brussels:20211117T080000
DTEND;TZID=Europe/Brussels:20211117T080000
END:VEVENT
BEGIN:VEVENT
UID:343A6D01-7373-405B-9427-CB56B07F8CCD-26-1230_homereminder@107.badminton
 ners.net
DTSTAMP:20260420T055132Z
SUMMARY:Thuismatch ingevuld? (Amateurs 1H (70) - Bacss 3H (56))
DESCRIPTION:Je hebt 36 uur na aanvang om een thuismatch op Badmintonvlaande
 ren in te vullen. Match info: Amateurs 1H (70) - Bacss 3H (56) - Link: htt
 ps://www.badmintonvlaanderen.be/sport/teammatch.aspx?id=343A6D01-7373-405B
 -9427-CB56B07F8CCD&match=1230
DTSTART;TZID=Europe/Brussels:20211215T080000
DTEND;TZID=Europe/Brussels:20211215T080000
END:VEVENT
BEGIN:VEVENT
UID:343A6D01-7373-405B-9427-CB56B07F8CCD-26-1224_homereminder@107.badminton
 ners.net
DTSTAMP:20260420T055132Z
SUMMARY:Thuismatch ingevuld? (Amateurs 1H (70) - Olve 4H (57))
DESCRIPTION:Je hebt 36 uur na aanvang om een thuismatch op Badmintonvlaande
 ren in te vullen. Match info: Amateurs 1H (70) - Olve 4H (57) - Link: http
 s://www.badmintonvlaanderen.be/sport/teammatch.aspx?id=343A6D01-7373-405B-
 9427-CB56B07F8CCD&match=1224
DTSTART;TZID=Europe/Brussels:20220112T080000
DTEND;TZID=Europe/Brussels:20220112T080000
END:VEVENT
BEGIN:VEVENT
UID:343A6D01-7373-405B-9427-CB56B07F8CCD-26-1236_homereminder@107.badminton
 ners.net
DTSTAMP:20260420T055132Z
SUMMARY:Thuismatch ingevuld? (Amateurs 1H (70) - Geelse 2H (60))
DESCRIPTION:Je hebt 36 uur na aanvang om een thuismatch op Badmintonvlaande
 ren in te vullen. Match info: Amateurs 1H (70) - Geelse 2H (60) - Link: ht
 tps://www.badmintonvlaanderen.be/sport/teammatch.aspx?id=343A6D01-7373-405
 B-9427-CB56B07F8CCD&match=1236
DTSTART;TZID=Europe/Brussels:20220209T080000
DTEND;TZID=Europe/Brussels:20220209T080000
END:VEVENT
BEGIN:VEVENT
UID:343A6D01-7373-405B-9427-CB56B07F8CCD-26-1255_homereminder@107.badminton
 ners.net
DTSTAMP:20260420T055132Z
SUMMARY:Thuismatch ingevuld? (Amateurs 1H (70) - Spinshuttle 2H (67))
DESCRIPTION:Je hebt 36 uur na aanvang om een thuismatch op Badmintonvlaande
 ren in te vullen. Match info: Amateurs 1H (70) - Spinshuttle 2H (67) - Lin
 k: https://www.badmintonvlaanderen.be/sport/teammatch.aspx?id=343A6D01-737
 3-405B-9427-CB56B07F8CCD&match=1255
DTSTART;TZID=Europe/Brussels:20220413T080000
DTEND;TZID=Europe/Brussels:20220413T080000
END:VEVENT
BEGIN:VEVENT
UID:343A6D01-7373-405B-9427-CB56B07F8CCD-26-1244_awayreminder@107.badminton
 ners.net
DTSTAMP:20260420T055132Z
SUMMARY:Uitmatch bevestigd? (Spinshuttle 2H (67) - Amateurs 1H (70))
DESCRIPTION:Je hebt 72 uur na aanvang om een uitmatch op Badmintonvlaandere
 n in te vullen. Match info: Spinshuttle 2H (67) - Amateurs 1H (70) - Link:
  https://www.badmintonvlaanderen.be/sport/teammatch.aspx?id=343A6D01-7373-
 405B-9427-CB56B07F8CCD&match=1244
DTSTART;TZID=Europe/Brussels:20211022T200000
DTEND;TZID=Europe/Brussels:20211022T200000
END:VEVENT
BEGIN:VEVENT
UID:343A6D01-7373-405B-9427-CB56B07F8CCD-26-1242_awayreminder@107.badminton
 ners.net
DTSTAMP:20260420T055132Z
SUMMARY:Uitmatch bevestigd? (Geelse 2H (60) - Amateurs 1H (70))
DESCRIPTION:Je hebt 72 uur na aanvang om een uitmatch op Badmintonvlaandere
 n in te vullen. Match info: Geelse 2H (60) - Amateurs 1H (70) - Link: http
 s://www.badmintonvlaanderen.be/sport/teammatch.aspx?id=343A6D01-7373-405B-
 9427-CB56B07F8CCD&match=1242
DTSTART;TZID=Europe/Brussels:20211201T090000
DTEND;TZID=Europe/Brussels:20211201T090000
END:VEVENT
BEGIN:VEVENT
UID:343A6D01-7373-405B-9427-CB56B07F8CCD-26-1240_awayreminder@107.badminton
 ners.net
DTSTAMP:20260420T055132Z
SUMMARY:Uitmatch bevestigd? (Olve 4H (57) - Amateurs 1H (70))
DESCRIPTION:Je hebt 72 uur na aanvang om een uitmatch op Badmintonvlaandere
 n in te vullen. Match info: Olve 4H (57) - Amateurs 1H (70) - Link: https:
 //www.badmintonvlaanderen.be/sport/teammatch.aspx?id=343A6D01-7373-405B-94
 27-CB56B07F8CCD&match=1240
DTSTART;TZID=Europe/Brussels:20211221T103000
DTEND;TZID=Europe/Brussels:20211221T103000
END:VEVENT
BEGIN:VEVENT
UID:343A6D01-7373-405B-9427-CB56B07F8CCD-26-1243_awayreminder@107.badminton
 ners.net
DTSTAMP:20260420T055132Z
SUMMARY:Uitmatch bevestigd? (Klein Boom 2H (59) - Amateurs 1H (70))
DESCRIPTION:Je hebt 72 uur na aanvang om een uitmatch op Badmintonvlaandere
 n in te vullen. Match info: Klein Boom 2H (59) - Amateurs 1H (70) - Link: 
 https://www.badmintonvlaanderen.be/sport/teammatch.aspx?id=343A6D01-7373-4
 05B-9427-CB56B07F8CCD&match=1243
DTSTART;TZID=Europe/Brussels:20220224T200000
DTEND;TZID=Europe/Brussels:20220224T200000
END:VEVENT
BEGIN:VEVENT
UID:343A6D01-7373-405B-9427-CB56B07F8CCD-26-1241_awayreminder@107.badminton
 ners.net
DTSTAMP:20260420T055132Z
SUMMARY:Uitmatch bevestigd? (Bacss 3H (56) - Amateurs 1H (70))
DESCRIPTION:Je hebt 72 uur na aanvang om een uitmatch op Badmintonvlaandere
 n in te vullen. Match info: Bacss 3H (56) - Amateurs 1H (70) - Link: https
 ://www.badmintonvlaanderen.be/sport/teammatch.aspx?id=343A6D01-7373-405B-9
 427-CB56B07F8CCD&match=1241
DTSTART;TZID=Europe/Brussels:20220314T201500
DTEND;TZID=Europe/Brussels:20220314T201500
END:VEVENT
BEGIN:VEVENT
UID:343A6D01-7373-405B-9427-CB56B07F8CCD-26-1239_awayreminder@107.badminton
 ners.net
DTSTAMP:20260420T055132Z
SUMMARY:Uitmatch bevestigd? (Duffel 2H (64) - Amateurs 1H (70))
DESCRIPTION:Je hebt 72 uur na aanvang om een uitmatch op Badmintonvlaandere
 n in te vullen. Match info: Duffel 2H (64) - Amateurs 1H (70) - Link: http
 s://www.badmintonvlaanderen.be/sport/teammatch.aspx?id=343A6D01-7373-405B-
 9427-CB56B07F8CCD&match=1239
DTSTART;TZID=Europe/Brussels:20220330T200000
DTEND;TZID=Europe/Brussels:20220330T200000
END:VEVENT
END:VCALENDAR