BEGIN:VCALENDAR
VERSION:2.0
PRODID:spatie/icalendar-generator
NAME:klein_boom_2h_59_reminders
X-WR-CALNAME:klein_boom_2h_59_reminders
BEGIN:VTIMEZONE
TZID:Europe/Brussels
BEGIN:DAYLIGHT
DTSTART:20210328T010000
TZOFFSETFROM:+0100
TZOFFSETTO:+0200
END:DAYLIGHT
BEGIN:STANDARD
DTSTART:20211031T030000
TZOFFSETFROM:+0200
TZOFFSETTO:+0100
END:STANDARD
BEGIN:DAYLIGHT
DTSTART:20220327T010000
TZOFFSETFROM:+0100
TZOFFSETTO:+0200
END:DAYLIGHT
END:VTIMEZONE
BEGIN:VTIMEZONE
TZID:UTC
BEGIN:STANDARD
DTSTART:20250728T090721
TZOFFSETFROM:+0000
TZOFFSETTO:+0000
END:STANDARD
END:VTIMEZONE
BEGIN:VEVENT
UID:343A6D01-7373-405B-9427-CB56B07F8CCD-26-1237_homereminder@139.badminton
 ners.net
DTSTAMP:20260424T090721Z
SUMMARY:Thuismatch ingevuld? (Klein Boom 2H (59) - Geelse 2H (60))
DESCRIPTION:Je hebt 36 uur na aanvang om een thuismatch op Badmintonvlaande
 ren in te vullen. Match info: Klein Boom 2H (59) - Geelse 2H (60) - Link: 
 https://www.badmintonvlaanderen.be/sport/teammatch.aspx?id=343A6D01-7373-4
 05B-9427-CB56B07F8CCD&match=1237
DTSTART;TZID=Europe/Brussels:20210922T080000
DTEND;TZID=Europe/Brussels:20210922T080000
END:VEVENT
BEGIN:VEVENT
UID:343A6D01-7373-405B-9427-CB56B07F8CCD-26-1256_homereminder@139.badminton
 ners.net
DTSTAMP:20260424T090721Z
SUMMARY:Thuismatch ingevuld? (Klein Boom 2H (59) - Spinshuttle 2H (67))
DESCRIPTION:Je hebt 36 uur na aanvang om een thuismatch op Badmintonvlaande
 ren in te vullen. Match info: Klein Boom 2H (59) - Spinshuttle 2H (67) - L
 ink: https://www.badmintonvlaanderen.be/sport/teammatch.aspx?id=343A6D01-7
 373-405B-9427-CB56B07F8CCD&match=1256
DTSTART;TZID=Europe/Brussels:20211117T080000
DTEND;TZID=Europe/Brussels:20211117T080000
END:VEVENT
BEGIN:VEVENT
UID:343A6D01-7373-405B-9427-CB56B07F8CCD-26-1225_homereminder@139.badminton
 ners.net
DTSTAMP:20260424T090721Z
SUMMARY:Thuismatch ingevuld? (Klein Boom 2H (59) - Olve 4H (57))
DESCRIPTION:Je hebt 36 uur na aanvang om een thuismatch op Badmintonvlaande
 ren in te vullen. Match info: Klein Boom 2H (59) - Olve 4H (57) - Link: ht
 tps://www.badmintonvlaanderen.be/sport/teammatch.aspx?id=343A6D01-7373-405
 B-9427-CB56B07F8CCD&match=1225
DTSTART;TZID=Europe/Brussels:20211215T080000
DTEND;TZID=Europe/Brussels:20211215T080000
END:VEVENT
BEGIN:VEVENT
UID:343A6D01-7373-405B-9427-CB56B07F8CCD-26-1219_homereminder@139.badminton
 ners.net
DTSTAMP:20260424T090721Z
SUMMARY:Thuismatch ingevuld? (Klein Boom 2H (59) - Duffel 2H (64))
DESCRIPTION:Je hebt 36 uur na aanvang om een thuismatch op Badmintonvlaande
 ren in te vullen. Match info: Klein Boom 2H (59) - Duffel 2H (64) - Link: 
 https://www.badmintonvlaanderen.be/sport/teammatch.aspx?id=343A6D01-7373-4
 05B-9427-CB56B07F8CCD&match=1219
DTSTART;TZID=Europe/Brussels:20220112T080000
DTEND;TZID=Europe/Brussels:20220112T080000
END:VEVENT
BEGIN:VEVENT
UID:343A6D01-7373-405B-9427-CB56B07F8CCD-26-1231_homereminder@139.badminton
 ners.net
DTSTAMP:20260424T090721Z
SUMMARY:Thuismatch ingevuld? (Klein Boom 2H (59) - Bacss 3H (56))
DESCRIPTION:Je hebt 36 uur na aanvang om een thuismatch op Badmintonvlaande
 ren in te vullen. Match info: Klein Boom 2H (59) - Bacss 3H (56) - Link: h
 ttps://www.badmintonvlaanderen.be/sport/teammatch.aspx?id=343A6D01-7373-40
 5B-9427-CB56B07F8CCD&match=1231
DTSTART;TZID=Europe/Brussels:20220209T080000
DTEND;TZID=Europe/Brussels:20220209T080000
END:VEVENT
BEGIN:VEVENT
UID:343A6D01-7373-405B-9427-CB56B07F8CCD-26-1243_homereminder@139.badminton
 ners.net
DTSTAMP:20260424T090721Z
SUMMARY:Thuismatch ingevuld? (Klein Boom 2H (59) - Amateurs 1H (70))
DESCRIPTION:Je hebt 36 uur na aanvang om een thuismatch op Badmintonvlaande
 ren in te vullen. Match info: Klein Boom 2H (59) - Amateurs 1H (70) - Link
 : https://www.badmintonvlaanderen.be/sport/teammatch.aspx?id=343A6D01-7373
 -405B-9427-CB56B07F8CCD&match=1243
DTSTART;TZID=Europe/Brussels:20220223T080000
DTEND;TZID=Europe/Brussels:20220223T080000
END:VEVENT
BEGIN:VEVENT
UID:343A6D01-7373-405B-9427-CB56B07F8CCD-26-1249_awayreminder@139.badminton
 ners.net
DTSTAMP:20260424T090721Z
SUMMARY:Uitmatch bevestigd? (Amateurs 1H (70) - Klein Boom 2H (59))
DESCRIPTION:Je hebt 72 uur na aanvang om een uitmatch op Badmintonvlaandere
 n in te vullen. Match info: Amateurs 1H (70) - Klein Boom 2H (59) - Link: 
 https://www.badmintonvlaanderen.be/sport/teammatch.aspx?id=343A6D01-7373-4
 05B-9427-CB56B07F8CCD&match=1249
DTSTART;TZID=Europe/Brussels:20211007T200000
DTEND;TZID=Europe/Brussels:20211007T200000
END:VEVENT
BEGIN:VEVENT
UID:343A6D01-7373-405B-9427-CB56B07F8CCD-26-1247_awayreminder@139.badminton
 ners.net
DTSTAMP:20260424T090721Z
SUMMARY:Uitmatch bevestigd? (Bacss 3H (56) - Klein Boom 2H (59))
DESCRIPTION:Je hebt 72 uur na aanvang om een uitmatch op Badmintonvlaandere
 n in te vullen. Match info: Bacss 3H (56) - Klein Boom 2H (59) - Link: htt
 ps://www.badmintonvlaanderen.be/sport/teammatch.aspx?id=343A6D01-7373-405B
 -9427-CB56B07F8CCD&match=1247
DTSTART;TZID=Europe/Brussels:20211108T200500
DTEND;TZID=Europe/Brussels:20211108T200500
END:VEVENT
BEGIN:VEVENT
UID:343A6D01-7373-405B-9427-CB56B07F8CCD-26-1245_awayreminder@139.badminton
 ners.net
DTSTAMP:20260424T090721Z
SUMMARY:Uitmatch bevestigd? (Duffel 2H (64) - Klein Boom 2H (59))
DESCRIPTION:Je hebt 72 uur na aanvang om een uitmatch op Badmintonvlaandere
 n in te vullen. Match info: Duffel 2H (64) - Klein Boom 2H (59) - Link: ht
 tps://www.badmintonvlaanderen.be/sport/teammatch.aspx?id=343A6D01-7373-405
 B-9427-CB56B07F8CCD&match=1245
DTSTART;TZID=Europe/Brussels:20211208T200000
DTEND;TZID=Europe/Brussels:20211208T200000
END:VEVENT
BEGIN:VEVENT
UID:343A6D01-7373-405B-9427-CB56B07F8CCD-26-1248_awayreminder@139.badminton
 ners.net
DTSTAMP:20260424T090721Z
SUMMARY:Uitmatch bevestigd? (Geelse 2H (60) - Klein Boom 2H (59))
DESCRIPTION:Je hebt 72 uur na aanvang om een uitmatch op Badmintonvlaandere
 n in te vullen. Match info: Geelse 2H (60) - Klein Boom 2H (59) - Link: ht
 tps://www.badmintonvlaanderen.be/sport/teammatch.aspx?id=343A6D01-7373-405
 B-9427-CB56B07F8CCD&match=1248
DTSTART;TZID=Europe/Brussels:20220216T090000
DTEND;TZID=Europe/Brussels:20220216T090000
END:VEVENT
BEGIN:VEVENT
UID:343A6D01-7373-405B-9427-CB56B07F8CCD-26-1246_awayreminder@139.badminton
 ners.net
DTSTAMP:20260424T090721Z
SUMMARY:Uitmatch bevestigd? (Olve 4H (57) - Klein Boom 2H (59))
DESCRIPTION:Je hebt 72 uur na aanvang om een uitmatch op Badmintonvlaandere
 n in te vullen. Match info: Olve 4H (57) - Klein Boom 2H (59) - Link: http
 s://www.badmintonvlaanderen.be/sport/teammatch.aspx?id=343A6D01-7373-405B-
 9427-CB56B07F8CCD&match=1246
DTSTART;TZID=Europe/Brussels:20220222T103000
DTEND;TZID=Europe/Brussels:20220222T103000
END:VEVENT
BEGIN:VEVENT
UID:343A6D01-7373-405B-9427-CB56B07F8CCD-26-1250_awayreminder@139.badminton
 ners.net
DTSTAMP:20260424T090721Z
SUMMARY:Uitmatch bevestigd? (Spinshuttle 2H (67) - Klein Boom 2H (59))
DESCRIPTION:Je hebt 72 uur na aanvang om een uitmatch op Badmintonvlaandere
 n in te vullen. Match info: Spinshuttle 2H (67) - Klein Boom 2H (59) - Lin
 k: https://www.badmintonvlaanderen.be/sport/teammatch.aspx?id=343A6D01-737
 3-405B-9427-CB56B07F8CCD&match=1250
DTSTART;TZID=Europe/Brussels:20220325T200000
DTEND;TZID=Europe/Brussels:20220325T200000
END:VEVENT
END:VCALENDAR