BEGIN:VCALENDAR
VERSION:2.0
PRODID:spatie/icalendar-generator
NAME:geelse_2h_60_reminders
X-WR-CALNAME:geelse_2h_60_reminders
BEGIN:VTIMEZONE
TZID:Europe/Brussels
BEGIN:DAYLIGHT
DTSTART:20210328T010000
TZOFFSETFROM:+0100
TZOFFSETTO:+0200
END:DAYLIGHT
BEGIN:STANDARD
DTSTART:20211031T030000
TZOFFSETFROM:+0200
TZOFFSETTO:+0100
END:STANDARD
BEGIN:DAYLIGHT
DTSTART:20220327T010000
TZOFFSETFROM:+0100
TZOFFSETTO:+0200
END:DAYLIGHT
END:VTIMEZONE
BEGIN:VTIMEZONE
TZID:UTC
BEGIN:STANDARD
DTSTART:20250724T055140
TZOFFSETFROM:+0000
TZOFFSETTO:+0000
END:STANDARD
END:VTIMEZONE
BEGIN:VEVENT
UID:343A6D01-7373-405B-9427-CB56B07F8CCD-26-1254_homereminder@206.badminton
 ners.net
DTSTAMP:20260420T055140Z
SUMMARY:Thuismatch ingevuld? (Geelse 2H (60) - Spinshuttle 2H (67))
DESCRIPTION:Je hebt 36 uur na aanvang om een thuismatch op Badmintonvlaande
 ren in te vullen. Match info: Geelse 2H (60) - Spinshuttle 2H (67) - Link:
  https://www.badmintonvlaanderen.be/sport/teammatch.aspx?id=343A6D01-7373-
 405B-9427-CB56B07F8CCD&match=1254
DTSTART;TZID=Europe/Brussels:20211011T210000
DTEND;TZID=Europe/Brussels:20211011T210000
END:VEVENT
BEGIN:VEVENT
UID:343A6D01-7373-405B-9427-CB56B07F8CCD-26-1223_homereminder@206.badminton
 ners.net
DTSTAMP:20260420T055140Z
SUMMARY:Thuismatch ingevuld? (Geelse 2H (60) - Olve 4H (57))
DESCRIPTION:Je hebt 36 uur na aanvang om een thuismatch op Badmintonvlaande
 ren in te vullen. Match info: Geelse 2H (60) - Olve 4H (57) - Link: https:
 //www.badmintonvlaanderen.be/sport/teammatch.aspx?id=343A6D01-7373-405B-94
 27-CB56B07F8CCD&match=1223
DTSTART;TZID=Europe/Brussels:20211122T210000
DTEND;TZID=Europe/Brussels:20211122T210000
END:VEVENT
BEGIN:VEVENT
UID:343A6D01-7373-405B-9427-CB56B07F8CCD-26-1242_homereminder@206.badminton
 ners.net
DTSTAMP:20260420T055140Z
SUMMARY:Thuismatch ingevuld? (Geelse 2H (60) - Amateurs 1H (70))
DESCRIPTION:Je hebt 36 uur na aanvang om een thuismatch op Badmintonvlaande
 ren in te vullen. Match info: Geelse 2H (60) - Amateurs 1H (70) - Link: ht
 tps://www.badmintonvlaanderen.be/sport/teammatch.aspx?id=343A6D01-7373-405
 B-9427-CB56B07F8CCD&match=1242
DTSTART;TZID=Europe/Brussels:20211129T210000
DTEND;TZID=Europe/Brussels:20211129T210000
END:VEVENT
BEGIN:VEVENT
UID:343A6D01-7373-405B-9427-CB56B07F8CCD-26-1229_homereminder@206.badminton
 ners.net
DTSTAMP:20260420T055140Z
SUMMARY:Thuismatch ingevuld? (Geelse 2H (60) - Bacss 3H (56))
DESCRIPTION:Je hebt 36 uur na aanvang om een thuismatch op Badmintonvlaande
 ren in te vullen. Match info: Geelse 2H (60) - Bacss 3H (56) - Link: https
 ://www.badmintonvlaanderen.be/sport/teammatch.aspx?id=343A6D01-7373-405B-9
 427-CB56B07F8CCD&match=1229
DTSTART;TZID=Europe/Brussels:20220117T210000
DTEND;TZID=Europe/Brussels:20220117T210000
END:VEVENT
BEGIN:VEVENT
UID:343A6D01-7373-405B-9427-CB56B07F8CCD-26-1248_homereminder@206.badminton
 ners.net
DTSTAMP:20260420T055140Z
SUMMARY:Thuismatch ingevuld? (Geelse 2H (60) - Klein Boom 2H (59))
DESCRIPTION:Je hebt 36 uur na aanvang om een thuismatch op Badmintonvlaande
 ren in te vullen. Match info: Geelse 2H (60) - Klein Boom 2H (59) - Link: 
 https://www.badmintonvlaanderen.be/sport/teammatch.aspx?id=343A6D01-7373-4
 05B-9427-CB56B07F8CCD&match=1248
DTSTART;TZID=Europe/Brussels:20220214T210000
DTEND;TZID=Europe/Brussels:20220214T210000
END:VEVENT
BEGIN:VEVENT
UID:343A6D01-7373-405B-9427-CB56B07F8CCD-26-1217_homereminder@206.badminton
 ners.net
DTSTAMP:20260420T055140Z
SUMMARY:Thuismatch ingevuld? (Geelse 2H (60) - Duffel 2H (64))
DESCRIPTION:Je hebt 36 uur na aanvang om een thuismatch op Badmintonvlaande
 ren in te vullen. Match info: Geelse 2H (60) - Duffel 2H (64) - Link: http
 s://www.badmintonvlaanderen.be/sport/teammatch.aspx?id=343A6D01-7373-405B-
 9427-CB56B07F8CCD&match=1217
DTSTART;TZID=Europe/Brussels:20220411T210000
DTEND;TZID=Europe/Brussels:20220411T210000
END:VEVENT
BEGIN:VEVENT
UID:343A6D01-7373-405B-9427-CB56B07F8CCD-26-1237_awayreminder@206.badminton
 ners.net
DTSTAMP:20260420T055140Z
SUMMARY:Uitmatch bevestigd? (Klein Boom 2H (59) - Geelse 2H (60))
DESCRIPTION:Je hebt 72 uur na aanvang om een uitmatch op Badmintonvlaandere
 n in te vullen. Match info: Klein Boom 2H (59) - Geelse 2H (60) - Link: ht
 tps://www.badmintonvlaanderen.be/sport/teammatch.aspx?id=343A6D01-7373-405
 B-9427-CB56B07F8CCD&match=1237
DTSTART;TZID=Europe/Brussels:20210923T200000
DTEND;TZID=Europe/Brussels:20210923T200000
END:VEVENT
BEGIN:VEVENT
UID:343A6D01-7373-405B-9427-CB56B07F8CCD-26-1233_awayreminder@206.badminton
 ners.net
DTSTAMP:20260420T055140Z
SUMMARY:Uitmatch bevestigd? (Duffel 2H (64) - Geelse 2H (60))
DESCRIPTION:Je hebt 72 uur na aanvang om een uitmatch op Badmintonvlaandere
 n in te vullen. Match info: Duffel 2H (64) - Geelse 2H (60) - Link: https:
 //www.badmintonvlaanderen.be/sport/teammatch.aspx?id=343A6D01-7373-405B-94
 27-CB56B07F8CCD&match=1233
DTSTART;TZID=Europe/Brussels:20211027T200000
DTEND;TZID=Europe/Brussels:20211027T200000
END:VEVENT
BEGIN:VEVENT
UID:343A6D01-7373-405B-9427-CB56B07F8CCD-26-1235_awayreminder@206.badminton
 ners.net
DTSTAMP:20260420T055140Z
SUMMARY:Uitmatch bevestigd? (Bacss 3H (56) - Geelse 2H (60))
DESCRIPTION:Je hebt 72 uur na aanvang om een uitmatch op Badmintonvlaandere
 n in te vullen. Match info: Bacss 3H (56) - Geelse 2H (60) - Link: https:/
 /www.badmintonvlaanderen.be/sport/teammatch.aspx?id=343A6D01-7373-405B-942
 7-CB56B07F8CCD&match=1235
DTSTART;TZID=Europe/Brussels:20211206T200500
DTEND;TZID=Europe/Brussels:20211206T200500
END:VEVENT
BEGIN:VEVENT
UID:343A6D01-7373-405B-9427-CB56B07F8CCD-26-1236_awayreminder@206.badminton
 ners.net
DTSTAMP:20260420T055140Z
SUMMARY:Uitmatch bevestigd? (Amateurs 1H (70) - Geelse 2H (60))
DESCRIPTION:Je hebt 72 uur na aanvang om een uitmatch op Badmintonvlaandere
 n in te vullen. Match info: Amateurs 1H (70) - Geelse 2H (60) - Link: http
 s://www.badmintonvlaanderen.be/sport/teammatch.aspx?id=343A6D01-7373-405B-
 9427-CB56B07F8CCD&match=1236
DTSTART;TZID=Europe/Brussels:20220210T200000
DTEND;TZID=Europe/Brussels:20220210T200000
END:VEVENT
BEGIN:VEVENT
UID:343A6D01-7373-405B-9427-CB56B07F8CCD-26-1234_awayreminder@206.badminton
 ners.net
DTSTAMP:20260420T055140Z
SUMMARY:Uitmatch bevestigd? (Olve 4H (57) - Geelse 2H (60))
DESCRIPTION:Je hebt 72 uur na aanvang om een uitmatch op Badmintonvlaandere
 n in te vullen. Match info: Olve 4H (57) - Geelse 2H (60) - Link: https://
 www.badmintonvlaanderen.be/sport/teammatch.aspx?id=343A6D01-7373-405B-9427
 -CB56B07F8CCD&match=1234
DTSTART;TZID=Europe/Brussels:20220329T113000
DTEND;TZID=Europe/Brussels:20220329T113000
END:VEVENT
BEGIN:VEVENT
UID:343A6D01-7373-405B-9427-CB56B07F8CCD-26-1238_awayreminder@206.badminton
 ners.net
DTSTAMP:20260420T055140Z
SUMMARY:Uitmatch bevestigd? (Spinshuttle 2H (67) - Geelse 2H (60))
DESCRIPTION:Je hebt 72 uur na aanvang om een uitmatch op Badmintonvlaandere
 n in te vullen. Match info: Spinshuttle 2H (67) - Geelse 2H (60) - Link: h
 ttps://www.badmintonvlaanderen.be/sport/teammatch.aspx?id=343A6D01-7373-40
 5B-9427-CB56B07F8CCD&match=1238
DTSTART;TZID=Europe/Brussels:20220422T200000
DTEND;TZID=Europe/Brussels:20220422T200000
END:VEVENT
END:VCALENDAR