BEGIN:VCALENDAR
VERSION:2.0
PRODID:spatie/icalendar-generator
NAME:spinshuttle_2h_67_reminders
X-WR-CALNAME:spinshuttle_2h_67_reminders
BEGIN:VTIMEZONE
TZID:Europe/Brussels
BEGIN:DAYLIGHT
DTSTART:20210328T010000
TZOFFSETFROM:+0100
TZOFFSETTO:+0200
END:DAYLIGHT
BEGIN:STANDARD
DTSTART:20211031T030000
TZOFFSETFROM:+0200
TZOFFSETTO:+0100
END:STANDARD
BEGIN:DAYLIGHT
DTSTART:20220327T010000
TZOFFSETFROM:+0100
TZOFFSETTO:+0200
END:DAYLIGHT
END:VTIMEZONE
BEGIN:VTIMEZONE
TZID:UTC
BEGIN:STANDARD
DTSTART:20250724T055144
TZOFFSETFROM:+0000
TZOFFSETTO:+0000
END:STANDARD
END:VTIMEZONE
BEGIN:VEVENT
UID:343A6D01-7373-405B-9427-CB56B07F8CCD-26-1232_homereminder@207.badminton
 ners.net
DTSTAMP:20260420T055144Z
SUMMARY:Thuismatch ingevuld? (Spinshuttle 2H (67) - Bacss 3H (56))
DESCRIPTION:Je hebt 36 uur na aanvang om een thuismatch op Badmintonvlaande
 ren in te vullen. Match info: Spinshuttle 2H (67) - Bacss 3H (56) - Link: 
 https://www.badmintonvlaanderen.be/sport/teammatch.aspx?id=343A6D01-7373-4
 05B-9427-CB56B07F8CCD&match=1232
DTSTART;TZID=Europe/Brussels:20211007T080000
DTEND;TZID=Europe/Brussels:20211007T080000
END:VEVENT
BEGIN:VEVENT
UID:343A6D01-7373-405B-9427-CB56B07F8CCD-26-1244_homereminder@207.badminton
 ners.net
DTSTAMP:20260420T055144Z
SUMMARY:Thuismatch ingevuld? (Spinshuttle 2H (67) - Amateurs 1H (70))
DESCRIPTION:Je hebt 36 uur na aanvang om een thuismatch op Badmintonvlaande
 ren in te vullen. Match info: Spinshuttle 2H (67) - Amateurs 1H (70) - Lin
 k: https://www.badmintonvlaanderen.be/sport/teammatch.aspx?id=343A6D01-737
 3-405B-9427-CB56B07F8CCD&match=1244
DTSTART;TZID=Europe/Brussels:20211021T080000
DTEND;TZID=Europe/Brussels:20211021T080000
END:VEVENT
BEGIN:VEVENT
UID:343A6D01-7373-405B-9427-CB56B07F8CCD-26-1220_homereminder@207.badminton
 ners.net
DTSTAMP:20260420T055144Z
SUMMARY:Thuismatch ingevuld? (Spinshuttle 2H (67) - Duffel 2H (64))
DESCRIPTION:Je hebt 36 uur na aanvang om een thuismatch op Badmintonvlaande
 ren in te vullen. Match info: Spinshuttle 2H (67) - Duffel 2H (64) - Link:
  https://www.badmintonvlaanderen.be/sport/teammatch.aspx?id=343A6D01-7373-
 405B-9427-CB56B07F8CCD&match=1220
DTSTART;TZID=Europe/Brussels:20211216T080000
DTEND;TZID=Europe/Brussels:20211216T080000
END:VEVENT
BEGIN:VEVENT
UID:343A6D01-7373-405B-9427-CB56B07F8CCD-26-1226_homereminder@207.badminton
 ners.net
DTSTAMP:20260420T055144Z
SUMMARY:Thuismatch ingevuld? (Spinshuttle 2H (67) - Olve 4H (57))
DESCRIPTION:Je hebt 36 uur na aanvang om een thuismatch op Badmintonvlaande
 ren in te vullen. Match info: Spinshuttle 2H (67) - Olve 4H (57) - Link: h
 ttps://www.badmintonvlaanderen.be/sport/teammatch.aspx?id=343A6D01-7373-40
 5B-9427-CB56B07F8CCD&match=1226
DTSTART;TZID=Europe/Brussels:20220210T080000
DTEND;TZID=Europe/Brussels:20220210T080000
END:VEVENT
BEGIN:VEVENT
UID:343A6D01-7373-405B-9427-CB56B07F8CCD-26-1250_homereminder@207.badminton
 ners.net
DTSTAMP:20260420T055144Z
SUMMARY:Thuismatch ingevuld? (Spinshuttle 2H (67) - Klein Boom 2H (59))
DESCRIPTION:Je hebt 36 uur na aanvang om een thuismatch op Badmintonvlaande
 ren in te vullen. Match info: Spinshuttle 2H (67) - Klein Boom 2H (59) - L
 ink: https://www.badmintonvlaanderen.be/sport/teammatch.aspx?id=343A6D01-7
 373-405B-9427-CB56B07F8CCD&match=1250
DTSTART;TZID=Europe/Brussels:20220324T080000
DTEND;TZID=Europe/Brussels:20220324T080000
END:VEVENT
BEGIN:VEVENT
UID:343A6D01-7373-405B-9427-CB56B07F8CCD-26-1238_homereminder@207.badminton
 ners.net
DTSTAMP:20260420T055144Z
SUMMARY:Thuismatch ingevuld? (Spinshuttle 2H (67) - Geelse 2H (60))
DESCRIPTION:Je hebt 36 uur na aanvang om een thuismatch op Badmintonvlaande
 ren in te vullen. Match info: Spinshuttle 2H (67) - Geelse 2H (60) - Link:
  https://www.badmintonvlaanderen.be/sport/teammatch.aspx?id=343A6D01-7373-
 405B-9427-CB56B07F8CCD&match=1238
DTSTART;TZID=Europe/Brussels:20220421T080000
DTEND;TZID=Europe/Brussels:20220421T080000
END:VEVENT
BEGIN:VEVENT
UID:343A6D01-7373-405B-9427-CB56B07F8CCD-26-1252_awayreminder@207.badminton
 ners.net
DTSTAMP:20260420T055144Z
SUMMARY:Uitmatch bevestigd? (Olve 4H (57) - Spinshuttle 2H (67))
DESCRIPTION:Je hebt 72 uur na aanvang om een uitmatch op Badmintonvlaandere
 n in te vullen. Match info: Olve 4H (57) - Spinshuttle 2H (67) - Link: htt
 ps://www.badmintonvlaanderen.be/sport/teammatch.aspx?id=343A6D01-7373-405B
 -9427-CB56B07F8CCD&match=1252
DTSTART;TZID=Europe/Brussels:20210914T103000
DTEND;TZID=Europe/Brussels:20210914T103000
END:VEVENT
BEGIN:VEVENT
UID:343A6D01-7373-405B-9427-CB56B07F8CCD-26-1254_awayreminder@207.badminton
 ners.net
DTSTAMP:20260420T055144Z
SUMMARY:Uitmatch bevestigd? (Geelse 2H (60) - Spinshuttle 2H (67))
DESCRIPTION:Je hebt 72 uur na aanvang om een uitmatch op Badmintonvlaandere
 n in te vullen. Match info: Geelse 2H (60) - Spinshuttle 2H (67) - Link: h
 ttps://www.badmintonvlaanderen.be/sport/teammatch.aspx?id=343A6D01-7373-40
 5B-9427-CB56B07F8CCD&match=1254
DTSTART;TZID=Europe/Brussels:20211013T090000
DTEND;TZID=Europe/Brussels:20211013T090000
END:VEVENT
BEGIN:VEVENT
UID:343A6D01-7373-405B-9427-CB56B07F8CCD-26-1256_awayreminder@207.badminton
 ners.net
DTSTAMP:20260420T055144Z
SUMMARY:Uitmatch bevestigd? (Klein Boom 2H (59) - Spinshuttle 2H (67))
DESCRIPTION:Je hebt 72 uur na aanvang om een uitmatch op Badmintonvlaandere
 n in te vullen. Match info: Klein Boom 2H (59) - Spinshuttle 2H (67) - Lin
 k: https://www.badmintonvlaanderen.be/sport/teammatch.aspx?id=343A6D01-737
 3-405B-9427-CB56B07F8CCD&match=1256
DTSTART;TZID=Europe/Brussels:20211118T200000
DTEND;TZID=Europe/Brussels:20211118T200000
END:VEVENT
BEGIN:VEVENT
UID:343A6D01-7373-405B-9427-CB56B07F8CCD-26-1253_awayreminder@207.badminton
 ners.net
DTSTAMP:20260420T055144Z
SUMMARY:Uitmatch bevestigd? (Bacss 3H (56) - Spinshuttle 2H (67))
DESCRIPTION:Je hebt 72 uur na aanvang om een uitmatch op Badmintonvlaandere
 n in te vullen. Match info: Bacss 3H (56) - Spinshuttle 2H (67) - Link: ht
 tps://www.badmintonvlaanderen.be/sport/teammatch.aspx?id=343A6D01-7373-405
 B-9427-CB56B07F8CCD&match=1253
DTSTART;TZID=Europe/Brussels:20220131T201500
DTEND;TZID=Europe/Brussels:20220131T201500
END:VEVENT
BEGIN:VEVENT
UID:343A6D01-7373-405B-9427-CB56B07F8CCD-26-1251_awayreminder@207.badminton
 ners.net
DTSTAMP:20260420T055144Z
SUMMARY:Uitmatch bevestigd? (Duffel 2H (64) - Spinshuttle 2H (67))
DESCRIPTION:Je hebt 72 uur na aanvang om een uitmatch op Badmintonvlaandere
 n in te vullen. Match info: Duffel 2H (64) - Spinshuttle 2H (67) - Link: h
 ttps://www.badmintonvlaanderen.be/sport/teammatch.aspx?id=343A6D01-7373-40
 5B-9427-CB56B07F8CCD&match=1251
DTSTART;TZID=Europe/Brussels:20220316T200000
DTEND;TZID=Europe/Brussels:20220316T200000
END:VEVENT
BEGIN:VEVENT
UID:343A6D01-7373-405B-9427-CB56B07F8CCD-26-1255_awayreminder@207.badminton
 ners.net
DTSTAMP:20260420T055144Z
SUMMARY:Uitmatch bevestigd? (Amateurs 1H (70) - Spinshuttle 2H (67))
DESCRIPTION:Je hebt 72 uur na aanvang om een uitmatch op Badmintonvlaandere
 n in te vullen. Match info: Amateurs 1H (70) - Spinshuttle 2H (67) - Link:
  https://www.badmintonvlaanderen.be/sport/teammatch.aspx?id=343A6D01-7373-
 405B-9427-CB56B07F8CCD&match=1255
DTSTART;TZID=Europe/Brussels:20220414T200000
DTEND;TZID=Europe/Brussels:20220414T200000
END:VEVENT
END:VCALENDAR