BEGIN:VCALENDAR
VERSION:2.0
PRODID:spatie/icalendar-generator
NAME:olve_4h_57_reminders
X-WR-CALNAME:olve_4h_57_reminders
BEGIN:VTIMEZONE
TZID:Europe/Brussels
BEGIN:DAYLIGHT
DTSTART:20210328T010000
TZOFFSETFROM:+0100
TZOFFSETTO:+0200
END:DAYLIGHT
BEGIN:STANDARD
DTSTART:20211031T030000
TZOFFSETFROM:+0200
TZOFFSETTO:+0100
END:STANDARD
BEGIN:DAYLIGHT
DTSTART:20220327T010000
TZOFFSETFROM:+0100
TZOFFSETTO:+0200
END:DAYLIGHT
END:VTIMEZONE
BEGIN:VTIMEZONE
TZID:UTC
BEGIN:STANDARD
DTSTART:20250724T055147
TZOFFSETFROM:+0000
TZOFFSETTO:+0000
END:STANDARD
END:VTIMEZONE
BEGIN:VEVENT
UID:343A6D01-7373-405B-9427-CB56B07F8CCD-26-1252_homereminder@44.badmintonn
 ers.net
DTSTAMP:20260420T055147Z
SUMMARY:Thuismatch ingevuld? (Olve 4H (57) - Spinshuttle 2H (67))
DESCRIPTION:Je hebt 36 uur na aanvang om een thuismatch op Badmintonvlaande
 ren in te vullen. Match info: Olve 4H (57) - Spinshuttle 2H (67) - Link: h
 ttps://www.badmintonvlaanderen.be/sport/teammatch.aspx?id=343A6D01-7373-40
 5B-9427-CB56B07F8CCD&match=1252
DTSTART;TZID=Europe/Brussels:20210912T223000
DTEND;TZID=Europe/Brussels:20210912T223000
END:VEVENT
BEGIN:VEVENT
UID:343A6D01-7373-405B-9427-CB56B07F8CCD-26-1228_homereminder@44.badmintonn
 ers.net
DTSTAMP:20260420T055147Z
SUMMARY:Thuismatch ingevuld? (Olve 4H (57) - Bacss 3H (56))
DESCRIPTION:Je hebt 36 uur na aanvang om een thuismatch op Badmintonvlaande
 ren in te vullen. Match info: Olve 4H (57) - Bacss 3H (56) - Link: https:/
 /www.badmintonvlaanderen.be/sport/teammatch.aspx?id=343A6D01-7373-405B-942
 7-CB56B07F8CCD&match=1228
DTSTART;TZID=Europe/Brussels:20211024T223000
DTEND;TZID=Europe/Brussels:20211024T223000
END:VEVENT
BEGIN:VEVENT
UID:343A6D01-7373-405B-9427-CB56B07F8CCD-26-1240_homereminder@44.badmintonn
 ers.net
DTSTAMP:20260420T055147Z
SUMMARY:Thuismatch ingevuld? (Olve 4H (57) - Amateurs 1H (70))
DESCRIPTION:Je hebt 36 uur na aanvang om een thuismatch op Badmintonvlaande
 ren in te vullen. Match info: Olve 4H (57) - Amateurs 1H (70) - Link: http
 s://www.badmintonvlaanderen.be/sport/teammatch.aspx?id=343A6D01-7373-405B-
 9427-CB56B07F8CCD&match=1240
DTSTART;TZID=Europe/Brussels:20211219T223000
DTEND;TZID=Europe/Brussels:20211219T223000
END:VEVENT
BEGIN:VEVENT
UID:343A6D01-7373-405B-9427-CB56B07F8CCD-26-1215_homereminder@44.badmintonn
 ers.net
DTSTAMP:20260420T055147Z
SUMMARY:Thuismatch ingevuld? (Olve 4H (57) - Duffel 2H (64))
DESCRIPTION:Je hebt 36 uur na aanvang om een thuismatch op Badmintonvlaande
 ren in te vullen. Match info: Olve 4H (57) - Duffel 2H (64) - Link: https:
 //www.badmintonvlaanderen.be/sport/teammatch.aspx?id=343A6D01-7373-405B-94
 27-CB56B07F8CCD&match=1215
DTSTART;TZID=Europe/Brussels:20220130T223000
DTEND;TZID=Europe/Brussels:20220130T223000
END:VEVENT
BEGIN:VEVENT
UID:343A6D01-7373-405B-9427-CB56B07F8CCD-26-1246_homereminder@44.badmintonn
 ers.net
DTSTAMP:20260420T055147Z
SUMMARY:Thuismatch ingevuld? (Olve 4H (57) - Klein Boom 2H (59))
DESCRIPTION:Je hebt 36 uur na aanvang om een thuismatch op Badmintonvlaande
 ren in te vullen. Match info: Olve 4H (57) - Klein Boom 2H (59) - Link: ht
 tps://www.badmintonvlaanderen.be/sport/teammatch.aspx?id=343A6D01-7373-405
 B-9427-CB56B07F8CCD&match=1246
DTSTART;TZID=Europe/Brussels:20220220T223000
DTEND;TZID=Europe/Brussels:20220220T223000
END:VEVENT
BEGIN:VEVENT
UID:343A6D01-7373-405B-9427-CB56B07F8CCD-26-1234_homereminder@44.badmintonn
 ers.net
DTSTAMP:20260420T055147Z
SUMMARY:Thuismatch ingevuld? (Olve 4H (57) - Geelse 2H (60))
DESCRIPTION:Je hebt 36 uur na aanvang om een thuismatch op Badmintonvlaande
 ren in te vullen. Match info: Olve 4H (57) - Geelse 2H (60) - Link: https:
 //www.badmintonvlaanderen.be/sport/teammatch.aspx?id=343A6D01-7373-405B-94
 27-CB56B07F8CCD&match=1234
DTSTART;TZID=Europe/Brussels:20220327T233000
DTEND;TZID=Europe/Brussels:20220327T233000
END:VEVENT
BEGIN:VEVENT
UID:343A6D01-7373-405B-9427-CB56B07F8CCD-26-1221_awayreminder@44.badmintonn
 ers.net
DTSTAMP:20260420T055147Z
SUMMARY:Uitmatch bevestigd? (Duffel 2H (64) - Olve 4H (57))
DESCRIPTION:Je hebt 72 uur na aanvang om een uitmatch op Badmintonvlaandere
 n in te vullen. Match info: Duffel 2H (64) - Olve 4H (57) - Link: https://
 www.badmintonvlaanderen.be/sport/teammatch.aspx?id=343A6D01-7373-405B-9427
 -CB56B07F8CCD&match=1221
DTSTART;TZID=Europe/Brussels:20210929T200000
DTEND;TZID=Europe/Brussels:20210929T200000
END:VEVENT
BEGIN:VEVENT
UID:343A6D01-7373-405B-9427-CB56B07F8CCD-26-1223_awayreminder@44.badmintonn
 ers.net
DTSTAMP:20260420T055147Z
SUMMARY:Uitmatch bevestigd? (Geelse 2H (60) - Olve 4H (57))
DESCRIPTION:Je hebt 72 uur na aanvang om een uitmatch op Badmintonvlaandere
 n in te vullen. Match info: Geelse 2H (60) - Olve 4H (57) - Link: https://
 www.badmintonvlaanderen.be/sport/teammatch.aspx?id=343A6D01-7373-405B-9427
 -CB56B07F8CCD&match=1223
DTSTART;TZID=Europe/Brussels:20211124T090000
DTEND;TZID=Europe/Brussels:20211124T090000
END:VEVENT
BEGIN:VEVENT
UID:343A6D01-7373-405B-9427-CB56B07F8CCD-26-1225_awayreminder@44.badmintonn
 ers.net
DTSTAMP:20260420T055147Z
SUMMARY:Uitmatch bevestigd? (Klein Boom 2H (59) - Olve 4H (57))
DESCRIPTION:Je hebt 72 uur na aanvang om een uitmatch op Badmintonvlaandere
 n in te vullen. Match info: Klein Boom 2H (59) - Olve 4H (57) - Link: http
 s://www.badmintonvlaanderen.be/sport/teammatch.aspx?id=343A6D01-7373-405B-
 9427-CB56B07F8CCD&match=1225
DTSTART;TZID=Europe/Brussels:20211216T200000
DTEND;TZID=Europe/Brussels:20211216T200000
END:VEVENT
BEGIN:VEVENT
UID:343A6D01-7373-405B-9427-CB56B07F8CCD-26-1224_awayreminder@44.badmintonn
 ers.net
DTSTAMP:20260420T055147Z
SUMMARY:Uitmatch bevestigd? (Amateurs 1H (70) - Olve 4H (57))
DESCRIPTION:Je hebt 72 uur na aanvang om een uitmatch op Badmintonvlaandere
 n in te vullen. Match info: Amateurs 1H (70) - Olve 4H (57) - Link: https:
 //www.badmintonvlaanderen.be/sport/teammatch.aspx?id=343A6D01-7373-405B-94
 27-CB56B07F8CCD&match=1224
DTSTART;TZID=Europe/Brussels:20220113T200000
DTEND;TZID=Europe/Brussels:20220113T200000
END:VEVENT
BEGIN:VEVENT
UID:343A6D01-7373-405B-9427-CB56B07F8CCD-26-1226_awayreminder@44.badmintonn
 ers.net
DTSTAMP:20260420T055147Z
SUMMARY:Uitmatch bevestigd? (Spinshuttle 2H (67) - Olve 4H (57))
DESCRIPTION:Je hebt 72 uur na aanvang om een uitmatch op Badmintonvlaandere
 n in te vullen. Match info: Spinshuttle 2H (67) - Olve 4H (57) - Link: htt
 ps://www.badmintonvlaanderen.be/sport/teammatch.aspx?id=343A6D01-7373-405B
 -9427-CB56B07F8CCD&match=1226
DTSTART;TZID=Europe/Brussels:20220211T200000
DTEND;TZID=Europe/Brussels:20220211T200000
END:VEVENT
BEGIN:VEVENT
UID:343A6D01-7373-405B-9427-CB56B07F8CCD-26-1222_awayreminder@44.badmintonn
 ers.net
DTSTAMP:20260420T055147Z
SUMMARY:Uitmatch bevestigd? (Bacss 3H (56) - Olve 4H (57))
DESCRIPTION:Je hebt 72 uur na aanvang om een uitmatch op Badmintonvlaandere
 n in te vullen. Match info: Bacss 3H (56) - Olve 4H (57) - Link: https://w
 ww.badmintonvlaanderen.be/sport/teammatch.aspx?id=343A6D01-7373-405B-9427-
 CB56B07F8CCD&match=1222
DTSTART;TZID=Europe/Brussels:20220411T201500
DTEND;TZID=Europe/Brussels:20220411T201500
END:VEVENT
END:VCALENDAR