BEGIN:VCALENDAR
VERSION:2.0
PRODID:spatie/icalendar-generator
NAME:bacss_3h_56_reminders
X-WR-CALNAME:bacss_3h_56_reminders
BEGIN:VTIMEZONE
TZID:Europe/Brussels
BEGIN:DAYLIGHT
DTSTART:20210328T010000
TZOFFSETFROM:+0100
TZOFFSETTO:+0200
END:DAYLIGHT
BEGIN:STANDARD
DTSTART:20211031T030000
TZOFFSETFROM:+0200
TZOFFSETTO:+0100
END:STANDARD
BEGIN:DAYLIGHT
DTSTART:20220327T010000
TZOFFSETFROM:+0100
TZOFFSETTO:+0200
END:DAYLIGHT
END:VTIMEZONE
BEGIN:VTIMEZONE
TZID:UTC
BEGIN:STANDARD
DTSTART:20250724T055148
TZOFFSETFROM:+0000
TZOFFSETTO:+0000
END:STANDARD
END:VTIMEZONE
BEGIN:VEVENT
UID:343A6D01-7373-405B-9427-CB56B07F8CCD-26-1216_homereminder@79.badmintonn
 ers.net
DTSTAMP:20260420T055148Z
SUMMARY:Thuismatch ingevuld? (Bacss 3H (56) - Duffel 2H (64))
DESCRIPTION:Je hebt 36 uur na aanvang om een thuismatch op Badmintonvlaande
 ren in te vullen. Match info: Bacss 3H (56) - Duffel 2H (64) - Link: https
 ://www.badmintonvlaanderen.be/sport/teammatch.aspx?id=343A6D01-7373-405B-9
 427-CB56B07F8CCD&match=1216
DTSTART;TZID=Europe/Brussels:20211010T080500
DTEND;TZID=Europe/Brussels:20211010T080500
END:VEVENT
BEGIN:VEVENT
UID:343A6D01-7373-405B-9427-CB56B07F8CCD-26-1247_homereminder@79.badmintonn
 ers.net
DTSTAMP:20260420T055148Z
SUMMARY:Thuismatch ingevuld? (Bacss 3H (56) - Klein Boom 2H (59))
DESCRIPTION:Je hebt 36 uur na aanvang om een thuismatch op Badmintonvlaande
 ren in te vullen. Match info: Bacss 3H (56) - Klein Boom 2H (59) - Link: h
 ttps://www.badmintonvlaanderen.be/sport/teammatch.aspx?id=343A6D01-7373-40
 5B-9427-CB56B07F8CCD&match=1247
DTSTART;TZID=Europe/Brussels:20211107T080500
DTEND;TZID=Europe/Brussels:20211107T080500
END:VEVENT
BEGIN:VEVENT
UID:343A6D01-7373-405B-9427-CB56B07F8CCD-26-1235_homereminder@79.badmintonn
 ers.net
DTSTAMP:20260420T055148Z
SUMMARY:Thuismatch ingevuld? (Bacss 3H (56) - Geelse 2H (60))
DESCRIPTION:Je hebt 36 uur na aanvang om een thuismatch op Badmintonvlaande
 ren in te vullen. Match info: Bacss 3H (56) - Geelse 2H (60) - Link: https
 ://www.badmintonvlaanderen.be/sport/teammatch.aspx?id=343A6D01-7373-405B-9
 427-CB56B07F8CCD&match=1235
DTSTART;TZID=Europe/Brussels:20211205T080500
DTEND;TZID=Europe/Brussels:20211205T080500
END:VEVENT
BEGIN:VEVENT
UID:343A6D01-7373-405B-9427-CB56B07F8CCD-26-1253_homereminder@79.badmintonn
 ers.net
DTSTAMP:20260420T055148Z
SUMMARY:Thuismatch ingevuld? (Bacss 3H (56) - Spinshuttle 2H (67))
DESCRIPTION:Je hebt 36 uur na aanvang om een thuismatch op Badmintonvlaande
 ren in te vullen. Match info: Bacss 3H (56) - Spinshuttle 2H (67) - Link: 
 https://www.badmintonvlaanderen.be/sport/teammatch.aspx?id=343A6D01-7373-4
 05B-9427-CB56B07F8CCD&match=1253
DTSTART;TZID=Europe/Brussels:20220130T081500
DTEND;TZID=Europe/Brussels:20220130T081500
END:VEVENT
BEGIN:VEVENT
UID:343A6D01-7373-405B-9427-CB56B07F8CCD-26-1241_homereminder@79.badmintonn
 ers.net
DTSTAMP:20260420T055148Z
SUMMARY:Thuismatch ingevuld? (Bacss 3H (56) - Amateurs 1H (70))
DESCRIPTION:Je hebt 36 uur na aanvang om een thuismatch op Badmintonvlaande
 ren in te vullen. Match info: Bacss 3H (56) - Amateurs 1H (70) - Link: htt
 ps://www.badmintonvlaanderen.be/sport/teammatch.aspx?id=343A6D01-7373-405B
 -9427-CB56B07F8CCD&match=1241
DTSTART;TZID=Europe/Brussels:20220313T081500
DTEND;TZID=Europe/Brussels:20220313T081500
END:VEVENT
BEGIN:VEVENT
UID:343A6D01-7373-405B-9427-CB56B07F8CCD-26-1222_homereminder@79.badmintonn
 ers.net
DTSTAMP:20260420T055148Z
SUMMARY:Thuismatch ingevuld? (Bacss 3H (56) - Olve 4H (57))
DESCRIPTION:Je hebt 36 uur na aanvang om een thuismatch op Badmintonvlaande
 ren in te vullen. Match info: Bacss 3H (56) - Olve 4H (57) - Link: https:/
 /www.badmintonvlaanderen.be/sport/teammatch.aspx?id=343A6D01-7373-405B-942
 7-CB56B07F8CCD&match=1222
DTSTART;TZID=Europe/Brussels:20220410T081500
DTEND;TZID=Europe/Brussels:20220410T081500
END:VEVENT
BEGIN:VEVENT
UID:343A6D01-7373-405B-9427-CB56B07F8CCD-26-1232_awayreminder@79.badmintonn
 ers.net
DTSTAMP:20260420T055148Z
SUMMARY:Uitmatch bevestigd? (Spinshuttle 2H (67) - Bacss 3H (56))
DESCRIPTION:Je hebt 72 uur na aanvang om een uitmatch op Badmintonvlaandere
 n in te vullen. Match info: Spinshuttle 2H (67) - Bacss 3H (56) - Link: ht
 tps://www.badmintonvlaanderen.be/sport/teammatch.aspx?id=343A6D01-7373-405
 B-9427-CB56B07F8CCD&match=1232
DTSTART;TZID=Europe/Brussels:20211008T200000
DTEND;TZID=Europe/Brussels:20211008T200000
END:VEVENT
BEGIN:VEVENT
UID:343A6D01-7373-405B-9427-CB56B07F8CCD-26-1228_awayreminder@79.badmintonn
 ers.net
DTSTAMP:20260420T055148Z
SUMMARY:Uitmatch bevestigd? (Olve 4H (57) - Bacss 3H (56))
DESCRIPTION:Je hebt 72 uur na aanvang om een uitmatch op Badmintonvlaandere
 n in te vullen. Match info: Olve 4H (57) - Bacss 3H (56) - Link: https://w
 ww.badmintonvlaanderen.be/sport/teammatch.aspx?id=343A6D01-7373-405B-9427-
 CB56B07F8CCD&match=1228
DTSTART;TZID=Europe/Brussels:20211026T103000
DTEND;TZID=Europe/Brussels:20211026T103000
END:VEVENT
BEGIN:VEVENT
UID:343A6D01-7373-405B-9427-CB56B07F8CCD-26-1230_awayreminder@79.badmintonn
 ers.net
DTSTAMP:20260420T055148Z
SUMMARY:Uitmatch bevestigd? (Amateurs 1H (70) - Bacss 3H (56))
DESCRIPTION:Je hebt 72 uur na aanvang om een uitmatch op Badmintonvlaandere
 n in te vullen. Match info: Amateurs 1H (70) - Bacss 3H (56) - Link: https
 ://www.badmintonvlaanderen.be/sport/teammatch.aspx?id=343A6D01-7373-405B-9
 427-CB56B07F8CCD&match=1230
DTSTART;TZID=Europe/Brussels:20211216T200000
DTEND;TZID=Europe/Brussels:20211216T200000
END:VEVENT
BEGIN:VEVENT
UID:343A6D01-7373-405B-9427-CB56B07F8CCD-26-1229_awayreminder@79.badmintonn
 ers.net
DTSTAMP:20260420T055148Z
SUMMARY:Uitmatch bevestigd? (Geelse 2H (60) - Bacss 3H (56))
DESCRIPTION:Je hebt 72 uur na aanvang om een uitmatch op Badmintonvlaandere
 n in te vullen. Match info: Geelse 2H (60) - Bacss 3H (56) - Link: https:/
 /www.badmintonvlaanderen.be/sport/teammatch.aspx?id=343A6D01-7373-405B-942
 7-CB56B07F8CCD&match=1229
DTSTART;TZID=Europe/Brussels:20220119T090000
DTEND;TZID=Europe/Brussels:20220119T090000
END:VEVENT
BEGIN:VEVENT
UID:343A6D01-7373-405B-9427-CB56B07F8CCD-26-1231_awayreminder@79.badmintonn
 ers.net
DTSTAMP:20260420T055148Z
SUMMARY:Uitmatch bevestigd? (Klein Boom 2H (59) - Bacss 3H (56))
DESCRIPTION:Je hebt 72 uur na aanvang om een uitmatch op Badmintonvlaandere
 n in te vullen. Match info: Klein Boom 2H (59) - Bacss 3H (56) - Link: htt
 ps://www.badmintonvlaanderen.be/sport/teammatch.aspx?id=343A6D01-7373-405B
 -9427-CB56B07F8CCD&match=1231
DTSTART;TZID=Europe/Brussels:20220210T200000
DTEND;TZID=Europe/Brussels:20220210T200000
END:VEVENT
BEGIN:VEVENT
UID:343A6D01-7373-405B-9427-CB56B07F8CCD-26-1227_awayreminder@79.badmintonn
 ers.net
DTSTAMP:20260420T055148Z
SUMMARY:Uitmatch bevestigd? (Duffel 2H (64) - Bacss 3H (56))
DESCRIPTION:Je hebt 72 uur na aanvang om een uitmatch op Badmintonvlaandere
 n in te vullen. Match info: Duffel 2H (64) - Bacss 3H (56) - Link: https:/
 /www.badmintonvlaanderen.be/sport/teammatch.aspx?id=343A6D01-7373-405B-942
 7-CB56B07F8CCD&match=1227
DTSTART;TZID=Europe/Brussels:20220302T200000
DTEND;TZID=Europe/Brussels:20220302T200000
END:VEVENT
END:VCALENDAR