BEGIN:VCALENDAR
VERSION:2.0
PRODID:spatie/icalendar-generator
NAME:klein_boom_3h_66_reminders
X-WR-CALNAME:klein_boom_3h_66_reminders
BEGIN:VTIMEZONE
TZID:Europe/Brussels
BEGIN:DAYLIGHT
DTSTART:20210328T010000
TZOFFSETFROM:+0100
TZOFFSETTO:+0200
END:DAYLIGHT
BEGIN:STANDARD
DTSTART:20211031T030000
TZOFFSETFROM:+0200
TZOFFSETTO:+0100
END:STANDARD
BEGIN:DAYLIGHT
DTSTART:20220327T010000
TZOFFSETFROM:+0100
TZOFFSETTO:+0200
END:DAYLIGHT
END:VTIMEZONE
BEGIN:VTIMEZONE
TZID:UTC
BEGIN:STANDARD
DTSTART:20250724T055135
TZOFFSETFROM:+0000
TZOFFSETTO:+0000
END:STANDARD
END:VTIMEZONE
BEGIN:VEVENT
UID:343A6D01-7373-405B-9427-CB56B07F8CCD-27-1286_homereminder@130.badminton
 ners.net
DTSTAMP:20260420T055135Z
SUMMARY:Thuismatch ingevuld? (Klein Boom 3H (66) - Olve 6H (68))
DESCRIPTION:Je hebt 36 uur na aanvang om een thuismatch op Badmintonvlaande
 ren in te vullen. Match info: Klein Boom 3H (66) - Olve 6H (68) - Link: ht
 tps://www.badmintonvlaanderen.be/sport/teammatch.aspx?id=343A6D01-7373-405
 B-9427-CB56B07F8CCD&match=1286
DTSTART;TZID=Europe/Brussels:20211026T070000
DTEND;TZID=Europe/Brussels:20211026T070000
END:VEVENT
BEGIN:VEVENT
UID:343A6D01-7373-405B-9427-CB56B07F8CCD-27-1270_homereminder@130.badminton
 ners.net
DTSTAMP:20260420T055135Z
SUMMARY:Thuismatch ingevuld? (Klein Boom 3H (66) - Smash 2H (58))
DESCRIPTION:Je hebt 36 uur na aanvang om een thuismatch op Badmintonvlaande
 ren in te vullen. Match info: Klein Boom 3H (66) - Smash 2H (58) - Link: h
 ttps://www.badmintonvlaanderen.be/sport/teammatch.aspx?id=343A6D01-7373-40
 5B-9427-CB56B07F8CCD&match=1270
DTSTART;TZID=Europe/Brussels:20211221T070000
DTEND;TZID=Europe/Brussels:20211221T070000
END:VEVENT
BEGIN:VEVENT
UID:343A6D01-7373-405B-9427-CB56B07F8CCD-27-1291_homereminder@130.badminton
 ners.net
DTSTAMP:20260420T055135Z
SUMMARY:Thuismatch ingevuld? (Klein Boom 3H (66) - Zandhoven 1H (70))
DESCRIPTION:Je hebt 36 uur na aanvang om een thuismatch op Badmintonvlaande
 ren in te vullen. Match info: Klein Boom 3H (66) - Zandhoven 1H (70) - Lin
 k: https://www.badmintonvlaanderen.be/sport/teammatch.aspx?id=343A6D01-737
 3-405B-9427-CB56B07F8CCD&match=1291
DTSTART;TZID=Europe/Brussels:20220111T070000
DTEND;TZID=Europe/Brussels:20220111T070000
END:VEVENT
BEGIN:VEVENT
UID:343A6D01-7373-405B-9427-CB56B07F8CCD-27-1265_homereminder@130.badminton
 ners.net
DTSTAMP:20260420T055135Z
SUMMARY:Thuismatch ingevuld? (Klein Boom 3H (66) - De Nekker 3H (56))
DESCRIPTION:Je hebt 36 uur na aanvang om een thuismatch op Badmintonvlaande
 ren in te vullen. Match info: Klein Boom 3H (66) - De Nekker 3H (56) - Lin
 k: https://www.badmintonvlaanderen.be/sport/teammatch.aspx?id=343A6D01-737
 3-405B-9427-CB56B07F8CCD&match=1265
DTSTART;TZID=Europe/Brussels:20220201T070000
DTEND;TZID=Europe/Brussels:20220201T070000
END:VEVENT
BEGIN:VEVENT
UID:343A6D01-7373-405B-9427-CB56B07F8CCD-27-1275_homereminder@130.badminton
 ners.net
DTSTAMP:20260420T055135Z
SUMMARY:Thuismatch ingevuld? (Klein Boom 3H (66) - Merksplas 2H (63))
DESCRIPTION:Je hebt 36 uur na aanvang om een thuismatch op Badmintonvlaande
 ren in te vullen. Match info: Klein Boom 3H (66) - Merksplas 2H (63) - Lin
 k: https://www.badmintonvlaanderen.be/sport/teammatch.aspx?id=343A6D01-737
 3-405B-9427-CB56B07F8CCD&match=1275
DTSTART;TZID=Europe/Brussels:20220301T070000
DTEND;TZID=Europe/Brussels:20220301T070000
END:VEVENT
BEGIN:VEVENT
UID:343A6D01-7373-405B-9427-CB56B07F8CCD-27-1280_awayreminder@130.badminton
 ners.net
DTSTAMP:20260420T055135Z
SUMMARY:Uitmatch bevestigd? (Merksplas 2H (63) - Klein Boom 3H (66))
DESCRIPTION:Je hebt 72 uur na aanvang om een uitmatch op Badmintonvlaandere
 n in te vullen. Match info: Merksplas 2H (63) - Klein Boom 3H (66) - Link:
  https://www.badmintonvlaanderen.be/sport/teammatch.aspx?id=343A6D01-7373-
 405B-9427-CB56B07F8CCD&match=1280
DTSTART;TZID=Europe/Brussels:20210929T100000
DTEND;TZID=Europe/Brussels:20210929T100000
END:VEVENT
BEGIN:VEVENT
UID:343A6D01-7373-405B-9427-CB56B07F8CCD-27-1282_awayreminder@130.badminton
 ners.net
DTSTAMP:20260420T055135Z
SUMMARY:Uitmatch bevestigd? (Zandhoven 1H (70) - Klein Boom 3H (66))
DESCRIPTION:Je hebt 72 uur na aanvang om een uitmatch op Badmintonvlaandere
 n in te vullen. Match info: Zandhoven 1H (70) - Klein Boom 3H (66) - Link:
  https://www.badmintonvlaanderen.be/sport/teammatch.aspx?id=343A6D01-7373-
 405B-9427-CB56B07F8CCD&match=1282
DTSTART;TZID=Europe/Brussels:20211007T200000
DTEND;TZID=Europe/Brussels:20211007T200000
END:VEVENT
BEGIN:VEVENT
UID:343A6D01-7373-405B-9427-CB56B07F8CCD-27-1278_awayreminder@130.badminton
 ners.net
DTSTAMP:20260420T055135Z
SUMMARY:Uitmatch bevestigd? (De Nekker 3H (56) - Klein Boom 3H (66))
DESCRIPTION:Je hebt 72 uur na aanvang om een uitmatch op Badmintonvlaandere
 n in te vullen. Match info: De Nekker 3H (56) - Klein Boom 3H (66) - Link:
  https://www.badmintonvlaanderen.be/sport/teammatch.aspx?id=343A6D01-7373-
 405B-9427-CB56B07F8CCD&match=1278
DTSTART;TZID=Europe/Brussels:20211119T203000
DTEND;TZID=Europe/Brussels:20211119T203000
END:VEVENT
BEGIN:VEVENT
UID:343A6D01-7373-405B-9427-CB56B07F8CCD-27-1279_awayreminder@130.badminton
 ners.net
DTSTAMP:20260420T055135Z
SUMMARY:Uitmatch bevestigd? (Smash 2H (58) - Klein Boom 3H (66))
DESCRIPTION:Je hebt 72 uur na aanvang om een uitmatch op Badmintonvlaandere
 n in te vullen. Match info: Smash 2H (58) - Klein Boom 3H (66) - Link: htt
 ps://www.badmintonvlaanderen.be/sport/teammatch.aspx?id=343A6D01-7373-405B
 -9427-CB56B07F8CCD&match=1279
DTSTART;TZID=Europe/Brussels:20220119T100000
DTEND;TZID=Europe/Brussels:20220119T100000
END:VEVENT
BEGIN:VEVENT
UID:343A6D01-7373-405B-9427-CB56B07F8CCD-27-1281_awayreminder@130.badminton
 ners.net
DTSTAMP:20260420T055135Z
SUMMARY:Uitmatch bevestigd? (Olve 6H (68) - Klein Boom 3H (66))
DESCRIPTION:Je hebt 72 uur na aanvang om een uitmatch op Badmintonvlaandere
 n in te vullen. Match info: Olve 6H (68) - Klein Boom 3H (66) - Link: http
 s://www.badmintonvlaanderen.be/sport/teammatch.aspx?id=343A6D01-7373-405B-
 9427-CB56B07F8CCD&match=1281
DTSTART;TZID=Europe/Brussels:20220329T113000
DTEND;TZID=Europe/Brussels:20220329T113000
END:VEVENT
END:VCALENDAR