BEGIN:VCALENDAR
VERSION:2.0
PRODID:spatie/icalendar-generator
NAME:smash_2h_58_reminders
X-WR-CALNAME:smash_2h_58_reminders
BEGIN:VTIMEZONE
TZID:Europe/Brussels
BEGIN:DAYLIGHT
DTSTART:20210328T010000
TZOFFSETFROM:+0100
TZOFFSETTO:+0200
END:DAYLIGHT
BEGIN:STANDARD
DTSTART:20211031T030000
TZOFFSETFROM:+0200
TZOFFSETTO:+0100
END:STANDARD
BEGIN:DAYLIGHT
DTSTART:20220327T010000
TZOFFSETFROM:+0100
TZOFFSETTO:+0200
END:DAYLIGHT
END:VTIMEZONE
BEGIN:VTIMEZONE
TZID:UTC
BEGIN:STANDARD
DTSTART:20250724T055147
TZOFFSETFROM:+0000
TZOFFSETTO:+0000
END:STANDARD
END:VTIMEZONE
BEGIN:VEVENT
UID:343A6D01-7373-405B-9427-CB56B07F8CCD-27-1284_homereminder@202.badminton
 ners.net
DTSTAMP:20260420T055147Z
SUMMARY:Thuismatch ingevuld? (Smash 2H (58) - Olve 6H (68))
DESCRIPTION:Je hebt 36 uur na aanvang om een thuismatch op Badmintonvlaande
 ren in te vullen. Match info: Smash 2H (58) - Olve 6H (68) - Link: https:/
 /www.badmintonvlaanderen.be/sport/teammatch.aspx?id=343A6D01-7373-405B-942
 7-CB56B07F8CCD&match=1284
DTSTART;TZID=Europe/Brussels:20210927T220000
DTEND;TZID=Europe/Brussels:20210927T220000
END:VEVENT
BEGIN:VEVENT
UID:343A6D01-7373-405B-9427-CB56B07F8CCD-27-1274_homereminder@202.badminton
 ners.net
DTSTAMP:20260420T055147Z
SUMMARY:Thuismatch ingevuld? (Smash 2H (58) - Merksplas 2H (63))
DESCRIPTION:Je hebt 36 uur na aanvang om een thuismatch op Badmintonvlaande
 ren in te vullen. Match info: Smash 2H (58) - Merksplas 2H (63) - Link: ht
 tps://www.badmintonvlaanderen.be/sport/teammatch.aspx?id=343A6D01-7373-405
 B-9427-CB56B07F8CCD&match=1274
DTSTART;TZID=Europe/Brussels:20211206T220000
DTEND;TZID=Europe/Brussels:20211206T220000
END:VEVENT
BEGIN:VEVENT
UID:343A6D01-7373-405B-9427-CB56B07F8CCD-27-1289_homereminder@202.badminton
 ners.net
DTSTAMP:20260420T055147Z
SUMMARY:Thuismatch ingevuld? (Smash 2H (58) - Zandhoven 1H (70))
DESCRIPTION:Je hebt 36 uur na aanvang om een thuismatch op Badmintonvlaande
 ren in te vullen. Match info: Smash 2H (58) - Zandhoven 1H (70) - Link: ht
 tps://www.badmintonvlaanderen.be/sport/teammatch.aspx?id=343A6D01-7373-405
 B-9427-CB56B07F8CCD&match=1289
DTSTART;TZID=Europe/Brussels:20211213T220000
DTEND;TZID=Europe/Brussels:20211213T220000
END:VEVENT
BEGIN:VEVENT
UID:343A6D01-7373-405B-9427-CB56B07F8CCD-27-1279_homereminder@202.badminton
 ners.net
DTSTAMP:20260420T055147Z
SUMMARY:Thuismatch ingevuld? (Smash 2H (58) - Klein Boom 3H (66))
DESCRIPTION:Je hebt 36 uur na aanvang om een thuismatch op Badmintonvlaande
 ren in te vullen. Match info: Smash 2H (58) - Klein Boom 3H (66) - Link: h
 ttps://www.badmintonvlaanderen.be/sport/teammatch.aspx?id=343A6D01-7373-40
 5B-9427-CB56B07F8CCD&match=1279
DTSTART;TZID=Europe/Brussels:20220117T220000
DTEND;TZID=Europe/Brussels:20220117T220000
END:VEVENT
BEGIN:VEVENT
UID:343A6D01-7373-405B-9427-CB56B07F8CCD-27-1263_homereminder@202.badminton
 ners.net
DTSTAMP:20260420T055147Z
SUMMARY:Thuismatch ingevuld? (Smash 2H (58) - De Nekker 3H (56))
DESCRIPTION:Je hebt 36 uur na aanvang om een thuismatch op Badmintonvlaande
 ren in te vullen. Match info: Smash 2H (58) - De Nekker 3H (56) - Link: ht
 tps://www.badmintonvlaanderen.be/sport/teammatch.aspx?id=343A6D01-7373-405
 B-9427-CB56B07F8CCD&match=1263
DTSTART;TZID=Europe/Brussels:20220214T220000
DTEND;TZID=Europe/Brussels:20220214T220000
END:VEVENT
BEGIN:VEVENT
UID:343A6D01-7373-405B-9427-CB56B07F8CCD-27-1268_awayreminder@202.badminton
 ners.net
DTSTAMP:20260420T055147Z
SUMMARY:Uitmatch bevestigd? (De Nekker 3H (56) - Smash 2H (58))
DESCRIPTION:Je hebt 72 uur na aanvang om een uitmatch op Badmintonvlaandere
 n in te vullen. Match info: De Nekker 3H (56) - Smash 2H (58) - Link: http
 s://www.badmintonvlaanderen.be/sport/teammatch.aspx?id=343A6D01-7373-405B-
 9427-CB56B07F8CCD&match=1268
DTSTART;TZID=Europe/Brussels:20211008T203000
DTEND;TZID=Europe/Brussels:20211008T203000
END:VEVENT
BEGIN:VEVENT
UID:343A6D01-7373-405B-9427-CB56B07F8CCD-27-1270_awayreminder@202.badminton
 ners.net
DTSTAMP:20260420T055147Z
SUMMARY:Uitmatch bevestigd? (Klein Boom 3H (66) - Smash 2H (58))
DESCRIPTION:Je hebt 72 uur na aanvang om een uitmatch op Badmintonvlaandere
 n in te vullen. Match info: Klein Boom 3H (66) - Smash 2H (58) - Link: htt
 ps://www.badmintonvlaanderen.be/sport/teammatch.aspx?id=343A6D01-7373-405B
 -9427-CB56B07F8CCD&match=1270
DTSTART;TZID=Europe/Brussels:20211222T190000
DTEND;TZID=Europe/Brussels:20211222T190000
END:VEVENT
BEGIN:VEVENT
UID:343A6D01-7373-405B-9427-CB56B07F8CCD-27-1271_awayreminder@202.badminton
 ners.net
DTSTAMP:20260420T055147Z
SUMMARY:Uitmatch bevestigd? (Olve 6H (68) - Smash 2H (58))
DESCRIPTION:Je hebt 72 uur na aanvang om een uitmatch op Badmintonvlaandere
 n in te vullen. Match info: Olve 6H (68) - Smash 2H (58) - Link: https://w
 ww.badmintonvlaanderen.be/sport/teammatch.aspx?id=343A6D01-7373-405B-9427-
 CB56B07F8CCD&match=1271
DTSTART;TZID=Europe/Brussels:20220301T103000
DTEND;TZID=Europe/Brussels:20220301T103000
END:VEVENT
BEGIN:VEVENT
UID:343A6D01-7373-405B-9427-CB56B07F8CCD-27-1272_awayreminder@202.badminton
 ners.net
DTSTAMP:20260420T055147Z
SUMMARY:Uitmatch bevestigd? (Zandhoven 1H (70) - Smash 2H (58))
DESCRIPTION:Je hebt 72 uur na aanvang om een uitmatch op Badmintonvlaandere
 n in te vullen. Match info: Zandhoven 1H (70) - Smash 2H (58) - Link: http
 s://www.badmintonvlaanderen.be/sport/teammatch.aspx?id=343A6D01-7373-405B-
 9427-CB56B07F8CCD&match=1272
DTSTART;TZID=Europe/Brussels:20220324T200000
DTEND;TZID=Europe/Brussels:20220324T200000
END:VEVENT
BEGIN:VEVENT
UID:343A6D01-7373-405B-9427-CB56B07F8CCD-27-1269_awayreminder@202.badminton
 ners.net
DTSTAMP:20260420T055147Z
SUMMARY:Uitmatch bevestigd? (Merksplas 2H (63) - Smash 2H (58))
DESCRIPTION:Je hebt 72 uur na aanvang om een uitmatch op Badmintonvlaandere
 n in te vullen. Match info: Merksplas 2H (63) - Smash 2H (58) - Link: http
 s://www.badmintonvlaanderen.be/sport/teammatch.aspx?id=343A6D01-7373-405B-
 9427-CB56B07F8CCD&match=1269
DTSTART;TZID=Europe/Brussels:20220427T100000
DTEND;TZID=Europe/Brussels:20220427T100000
END:VEVENT
END:VCALENDAR