BEGIN:VCALENDAR
VERSION:2.0
PRODID:spatie/icalendar-generator
NAME:olve_6h_68_reminders
X-WR-CALNAME:olve_6h_68_reminders
BEGIN:VTIMEZONE
TZID:Europe/Brussels
BEGIN:DAYLIGHT
DTSTART:20210328T010000
TZOFFSETFROM:+0100
TZOFFSETTO:+0200
END:DAYLIGHT
BEGIN:STANDARD
DTSTART:20211031T030000
TZOFFSETFROM:+0200
TZOFFSETTO:+0100
END:STANDARD
BEGIN:DAYLIGHT
DTSTART:20220327T010000
TZOFFSETFROM:+0100
TZOFFSETTO:+0200
END:DAYLIGHT
END:VTIMEZONE
BEGIN:VTIMEZONE
TZID:UTC
BEGIN:STANDARD
DTSTART:20250724T055147
TZOFFSETFROM:+0000
TZOFFSETTO:+0000
END:STANDARD
END:VTIMEZONE
BEGIN:VEVENT
UID:343A6D01-7373-405B-9427-CB56B07F8CCD-27-1276_homereminder@43.badmintonn
 ers.net
DTSTAMP:20260420T055147Z
SUMMARY:Thuismatch ingevuld? (Olve 6H (68) - Merksplas 2H (63))
DESCRIPTION:Je hebt 36 uur na aanvang om een thuismatch op Badmintonvlaande
 ren in te vullen. Match info: Olve 6H (68) - Merksplas 2H (63) - Link: htt
 ps://www.badmintonvlaanderen.be/sport/teammatch.aspx?id=343A6D01-7373-405B
 -9427-CB56B07F8CCD&match=1276
DTSTART;TZID=Europe/Brussels:20211010T223000
DTEND;TZID=Europe/Brussels:20211010T223000
END:VEVENT
BEGIN:VEVENT
UID:343A6D01-7373-405B-9427-CB56B07F8CCD-27-1266_homereminder@43.badmintonn
 ers.net
DTSTAMP:20260420T055147Z
SUMMARY:Thuismatch ingevuld? (Olve 6H (68) - De Nekker 3H (56))
DESCRIPTION:Je hebt 36 uur na aanvang om een thuismatch op Badmintonvlaande
 ren in te vullen. Match info: Olve 6H (68) - De Nekker 3H (56) - Link: htt
 ps://www.badmintonvlaanderen.be/sport/teammatch.aspx?id=343A6D01-7373-405B
 -9427-CB56B07F8CCD&match=1266
DTSTART;TZID=Europe/Brussels:20211205T223000
DTEND;TZID=Europe/Brussels:20211205T223000
END:VEVENT
BEGIN:VEVENT
UID:343A6D01-7373-405B-9427-CB56B07F8CCD-27-1271_homereminder@43.badmintonn
 ers.net
DTSTAMP:20260420T055147Z
SUMMARY:Thuismatch ingevuld? (Olve 6H (68) - Smash 2H (58))
DESCRIPTION:Je hebt 36 uur na aanvang om een thuismatch op Badmintonvlaande
 ren in te vullen. Match info: Olve 6H (68) - Smash 2H (58) - Link: https:/
 /www.badmintonvlaanderen.be/sport/teammatch.aspx?id=343A6D01-7373-405B-942
 7-CB56B07F8CCD&match=1271
DTSTART;TZID=Europe/Brussels:20220227T223000
DTEND;TZID=Europe/Brussels:20220227T223000
END:VEVENT
BEGIN:VEVENT
UID:343A6D01-7373-405B-9427-CB56B07F8CCD-27-1281_homereminder@43.badmintonn
 ers.net
DTSTAMP:20260420T055147Z
SUMMARY:Thuismatch ingevuld? (Olve 6H (68) - Klein Boom 3H (66))
DESCRIPTION:Je hebt 36 uur na aanvang om een thuismatch op Badmintonvlaande
 ren in te vullen. Match info: Olve 6H (68) - Klein Boom 3H (66) - Link: ht
 tps://www.badmintonvlaanderen.be/sport/teammatch.aspx?id=343A6D01-7373-405
 B-9427-CB56B07F8CCD&match=1281
DTSTART;TZID=Europe/Brussels:20220327T233000
DTEND;TZID=Europe/Brussels:20220327T233000
END:VEVENT
BEGIN:VEVENT
UID:343A6D01-7373-405B-9427-CB56B07F8CCD-27-1292_homereminder@43.badmintonn
 ers.net
DTSTAMP:20260420T055147Z
SUMMARY:Thuismatch ingevuld? (Olve 6H (68) - Zandhoven 1H (70))
DESCRIPTION:Je hebt 36 uur na aanvang om een thuismatch op Badmintonvlaande
 ren in te vullen. Match info: Olve 6H (68) - Zandhoven 1H (70) - Link: htt
 ps://www.badmintonvlaanderen.be/sport/teammatch.aspx?id=343A6D01-7373-405B
 -9427-CB56B07F8CCD&match=1292
DTSTART;TZID=Europe/Brussels:20220424T223000
DTEND;TZID=Europe/Brussels:20220424T223000
END:VEVENT
BEGIN:VEVENT
UID:343A6D01-7373-405B-9427-CB56B07F8CCD-27-1284_awayreminder@43.badmintonn
 ers.net
DTSTAMP:20260420T055147Z
SUMMARY:Uitmatch bevestigd? (Smash 2H (58) - Olve 6H (68))
DESCRIPTION:Je hebt 72 uur na aanvang om een uitmatch op Badmintonvlaandere
 n in te vullen. Match info: Smash 2H (58) - Olve 6H (68) - Link: https://w
 ww.badmintonvlaanderen.be/sport/teammatch.aspx?id=343A6D01-7373-405B-9427-
 CB56B07F8CCD&match=1284
DTSTART;TZID=Europe/Brussels:20210929T100000
DTEND;TZID=Europe/Brussels:20210929T100000
END:VEVENT
BEGIN:VEVENT
UID:343A6D01-7373-405B-9427-CB56B07F8CCD-27-1286_awayreminder@43.badmintonn
 ers.net
DTSTAMP:20260420T055147Z
SUMMARY:Uitmatch bevestigd? (Klein Boom 3H (66) - Olve 6H (68))
DESCRIPTION:Je hebt 72 uur na aanvang om een uitmatch op Badmintonvlaandere
 n in te vullen. Match info: Klein Boom 3H (66) - Olve 6H (68) - Link: http
 s://www.badmintonvlaanderen.be/sport/teammatch.aspx?id=343A6D01-7373-405B-
 9427-CB56B07F8CCD&match=1286
DTSTART;TZID=Europe/Brussels:20211027T190000
DTEND;TZID=Europe/Brussels:20211027T190000
END:VEVENT
BEGIN:VEVENT
UID:343A6D01-7373-405B-9427-CB56B07F8CCD-27-1287_awayreminder@43.badmintonn
 ers.net
DTSTAMP:20260420T055147Z
SUMMARY:Uitmatch bevestigd? (Zandhoven 1H (70) - Olve 6H (68))
DESCRIPTION:Je hebt 72 uur na aanvang om een uitmatch op Badmintonvlaandere
 n in te vullen. Match info: Zandhoven 1H (70) - Olve 6H (68) - Link: https
 ://www.badmintonvlaanderen.be/sport/teammatch.aspx?id=343A6D01-7373-405B-9
 427-CB56B07F8CCD&match=1287
DTSTART;TZID=Europe/Brussels:20211118T200000
DTEND;TZID=Europe/Brussels:20211118T200000
END:VEVENT
BEGIN:VEVENT
UID:343A6D01-7373-405B-9427-CB56B07F8CCD-27-1283_awayreminder@43.badmintonn
 ers.net
DTSTAMP:20260420T055147Z
SUMMARY:Uitmatch bevestigd? (De Nekker 3H (56) - Olve 6H (68))
DESCRIPTION:Je hebt 72 uur na aanvang om een uitmatch op Badmintonvlaandere
 n in te vullen. Match info: De Nekker 3H (56) - Olve 6H (68) - Link: https
 ://www.badmintonvlaanderen.be/sport/teammatch.aspx?id=343A6D01-7373-405B-9
 427-CB56B07F8CCD&match=1283
DTSTART;TZID=Europe/Brussels:20220114T203000
DTEND;TZID=Europe/Brussels:20220114T203000
END:VEVENT
BEGIN:VEVENT
UID:343A6D01-7373-405B-9427-CB56B07F8CCD-27-1285_awayreminder@43.badmintonn
 ers.net
DTSTAMP:20260420T055147Z
SUMMARY:Uitmatch bevestigd? (Merksplas 2H (63) - Olve 6H (68))
DESCRIPTION:Je hebt 72 uur na aanvang om een uitmatch op Badmintonvlaandere
 n in te vullen. Match info: Merksplas 2H (63) - Olve 6H (68) - Link: https
 ://www.badmintonvlaanderen.be/sport/teammatch.aspx?id=343A6D01-7373-405B-9
 427-CB56B07F8CCD&match=1285
DTSTART;TZID=Europe/Brussels:20220216T100000
DTEND;TZID=Europe/Brussels:20220216T100000
END:VEVENT
END:VCALENDAR