BEGIN:VCALENDAR
VERSION:2.0
PRODID:spatie/icalendar-generator
NAME:zandhoven_1h_70_reminders
X-WR-CALNAME:zandhoven_1h_70_reminders
BEGIN:VTIMEZONE
TZID:Europe/Brussels
BEGIN:DAYLIGHT
DTSTART:20210328T010000
TZOFFSETFROM:+0100
TZOFFSETTO:+0200
END:DAYLIGHT
BEGIN:STANDARD
DTSTART:20211031T030000
TZOFFSETFROM:+0200
TZOFFSETTO:+0100
END:STANDARD
BEGIN:DAYLIGHT
DTSTART:20220327T010000
TZOFFSETFROM:+0100
TZOFFSETTO:+0200
END:DAYLIGHT
END:VTIMEZONE
BEGIN:VTIMEZONE
TZID:UTC
BEGIN:STANDARD
DTSTART:20250724T055149
TZOFFSETFROM:+0000
TZOFFSETTO:+0000
END:STANDARD
END:VTIMEZONE
BEGIN:VEVENT
UID:343A6D01-7373-405B-9427-CB56B07F8CCD-27-1282_homereminder@52.badmintonn
 ers.net
DTSTAMP:20260420T055149Z
SUMMARY:Thuismatch ingevuld? (Zandhoven 1H (70) - Klein Boom 3H (66))
DESCRIPTION:Je hebt 36 uur na aanvang om een thuismatch op Badmintonvlaande
 ren in te vullen. Match info: Zandhoven 1H (70) - Klein Boom 3H (66) - Lin
 k: https://www.badmintonvlaanderen.be/sport/teammatch.aspx?id=343A6D01-737
 3-405B-9427-CB56B07F8CCD&match=1282
DTSTART;TZID=Europe/Brussels:20211006T080000
DTEND;TZID=Europe/Brussels:20211006T080000
END:VEVENT
BEGIN:VEVENT
UID:343A6D01-7373-405B-9427-CB56B07F8CCD-27-1287_homereminder@52.badmintonn
 ers.net
DTSTAMP:20260420T055149Z
SUMMARY:Thuismatch ingevuld? (Zandhoven 1H (70) - Olve 6H (68))
DESCRIPTION:Je hebt 36 uur na aanvang om een thuismatch op Badmintonvlaande
 ren in te vullen. Match info: Zandhoven 1H (70) - Olve 6H (68) - Link: htt
 ps://www.badmintonvlaanderen.be/sport/teammatch.aspx?id=343A6D01-7373-405B
 -9427-CB56B07F8CCD&match=1287
DTSTART;TZID=Europe/Brussels:20211117T080000
DTEND;TZID=Europe/Brussels:20211117T080000
END:VEVENT
BEGIN:VEVENT
UID:343A6D01-7373-405B-9427-CB56B07F8CCD-27-1267_homereminder@52.badmintonn
 ers.net
DTSTAMP:20260420T055149Z
SUMMARY:Thuismatch ingevuld? (Zandhoven 1H (70) - De Nekker 3H (56))
DESCRIPTION:Je hebt 36 uur na aanvang om een thuismatch op Badmintonvlaande
 ren in te vullen. Match info: Zandhoven 1H (70) - De Nekker 3H (56) - Link
 : https://www.badmintonvlaanderen.be/sport/teammatch.aspx?id=343A6D01-7373
 -405B-9427-CB56B07F8CCD&match=1267
DTSTART;TZID=Europe/Brussels:20220223T080000
DTEND;TZID=Europe/Brussels:20220223T080000
END:VEVENT
BEGIN:VEVENT
UID:343A6D01-7373-405B-9427-CB56B07F8CCD-27-1277_homereminder@52.badmintonn
 ers.net
DTSTAMP:20260420T055149Z
SUMMARY:Thuismatch ingevuld? (Zandhoven 1H (70) - Merksplas 2H (63))
DESCRIPTION:Je hebt 36 uur na aanvang om een thuismatch op Badmintonvlaande
 ren in te vullen. Match info: Zandhoven 1H (70) - Merksplas 2H (63) - Link
 : https://www.badmintonvlaanderen.be/sport/teammatch.aspx?id=343A6D01-7373
 -405B-9427-CB56B07F8CCD&match=1277
DTSTART;TZID=Europe/Brussels:20220316T080000
DTEND;TZID=Europe/Brussels:20220316T080000
END:VEVENT
BEGIN:VEVENT
UID:343A6D01-7373-405B-9427-CB56B07F8CCD-27-1272_homereminder@52.badmintonn
 ers.net
DTSTAMP:20260420T055149Z
SUMMARY:Thuismatch ingevuld? (Zandhoven 1H (70) - Smash 2H (58))
DESCRIPTION:Je hebt 36 uur na aanvang om een thuismatch op Badmintonvlaande
 ren in te vullen. Match info: Zandhoven 1H (70) - Smash 2H (58) - Link: ht
 tps://www.badmintonvlaanderen.be/sport/teammatch.aspx?id=343A6D01-7373-405
 B-9427-CB56B07F8CCD&match=1272
DTSTART;TZID=Europe/Brussels:20220323T080000
DTEND;TZID=Europe/Brussels:20220323T080000
END:VEVENT
BEGIN:VEVENT
UID:343A6D01-7373-405B-9427-CB56B07F8CCD-27-1288_awayreminder@52.badmintonn
 ers.net
DTSTAMP:20260420T055149Z
SUMMARY:Uitmatch bevestigd? (De Nekker 3H (56) - Zandhoven 1H (70))
DESCRIPTION:Je hebt 72 uur na aanvang om een uitmatch op Badmintonvlaandere
 n in te vullen. Match info: De Nekker 3H (56) - Zandhoven 1H (70) - Link: 
 https://www.badmintonvlaanderen.be/sport/teammatch.aspx?id=343A6D01-7373-4
 05B-9427-CB56B07F8CCD&match=1288
DTSTART;TZID=Europe/Brussels:20211015T203000
DTEND;TZID=Europe/Brussels:20211015T203000
END:VEVENT
BEGIN:VEVENT
UID:343A6D01-7373-405B-9427-CB56B07F8CCD-27-1289_awayreminder@52.badmintonn
 ers.net
DTSTAMP:20260420T055149Z
SUMMARY:Uitmatch bevestigd? (Smash 2H (58) - Zandhoven 1H (70))
DESCRIPTION:Je hebt 72 uur na aanvang om een uitmatch op Badmintonvlaandere
 n in te vullen. Match info: Smash 2H (58) - Zandhoven 1H (70) - Link: http
 s://www.badmintonvlaanderen.be/sport/teammatch.aspx?id=343A6D01-7373-405B-
 9427-CB56B07F8CCD&match=1289
DTSTART;TZID=Europe/Brussels:20211215T100000
DTEND;TZID=Europe/Brussels:20211215T100000
END:VEVENT
BEGIN:VEVENT
UID:343A6D01-7373-405B-9427-CB56B07F8CCD-27-1290_awayreminder@52.badmintonn
 ers.net
DTSTAMP:20260420T055149Z
SUMMARY:Uitmatch bevestigd? (Merksplas 2H (63) - Zandhoven 1H (70))
DESCRIPTION:Je hebt 72 uur na aanvang om een uitmatch op Badmintonvlaandere
 n in te vullen. Match info: Merksplas 2H (63) - Zandhoven 1H (70) - Link: 
 https://www.badmintonvlaanderen.be/sport/teammatch.aspx?id=343A6D01-7373-4
 05B-9427-CB56B07F8CCD&match=1290
DTSTART;TZID=Europe/Brussels:20211222T100000
DTEND;TZID=Europe/Brussels:20211222T100000
END:VEVENT
BEGIN:VEVENT
UID:343A6D01-7373-405B-9427-CB56B07F8CCD-27-1291_awayreminder@52.badmintonn
 ers.net
DTSTAMP:20260420T055149Z
SUMMARY:Uitmatch bevestigd? (Klein Boom 3H (66) - Zandhoven 1H (70))
DESCRIPTION:Je hebt 72 uur na aanvang om een uitmatch op Badmintonvlaandere
 n in te vullen. Match info: Klein Boom 3H (66) - Zandhoven 1H (70) - Link:
  https://www.badmintonvlaanderen.be/sport/teammatch.aspx?id=343A6D01-7373-
 405B-9427-CB56B07F8CCD&match=1291
DTSTART;TZID=Europe/Brussels:20220112T190000
DTEND;TZID=Europe/Brussels:20220112T190000
END:VEVENT
BEGIN:VEVENT
UID:343A6D01-7373-405B-9427-CB56B07F8CCD-27-1292_awayreminder@52.badmintonn
 ers.net
DTSTAMP:20260420T055149Z
SUMMARY:Uitmatch bevestigd? (Olve 6H (68) - Zandhoven 1H (70))
DESCRIPTION:Je hebt 72 uur na aanvang om een uitmatch op Badmintonvlaandere
 n in te vullen. Match info: Olve 6H (68) - Zandhoven 1H (70) - Link: https
 ://www.badmintonvlaanderen.be/sport/teammatch.aspx?id=343A6D01-7373-405B-9
 427-CB56B07F8CCD&match=1292
DTSTART;TZID=Europe/Brussels:20220426T103000
DTEND;TZID=Europe/Brussels:20220426T103000
END:VEVENT
END:VCALENDAR