BEGIN:VCALENDAR
VERSION:2.0
PRODID:spatie/icalendar-generator
NAME:de_nekker_3h_56_reminders
X-WR-CALNAME:de_nekker_3h_56_reminders
BEGIN:VTIMEZONE
TZID:Europe/Brussels
BEGIN:DAYLIGHT
DTSTART:20210328T010000
TZOFFSETFROM:+0100
TZOFFSETTO:+0200
END:DAYLIGHT
BEGIN:STANDARD
DTSTART:20211031T030000
TZOFFSETFROM:+0200
TZOFFSETTO:+0100
END:STANDARD
BEGIN:DAYLIGHT
DTSTART:20220327T010000
TZOFFSETFROM:+0100
TZOFFSETTO:+0200
END:DAYLIGHT
END:VTIMEZONE
BEGIN:VTIMEZONE
TZID:UTC
BEGIN:STANDARD
DTSTART:20250724T055150
TZOFFSETFROM:+0000
TZOFFSETTO:+0000
END:STANDARD
END:VTIMEZONE
BEGIN:VEVENT
UID:343A6D01-7373-405B-9427-CB56B07F8CCD-27-1268_homereminder@89.badmintonn
 ers.net
DTSTAMP:20260420T055150Z
SUMMARY:Thuismatch ingevuld? (De Nekker 3H (56) - Smash 2H (58))
DESCRIPTION:Je hebt 36 uur na aanvang om een thuismatch op Badmintonvlaande
 ren in te vullen. Match info: De Nekker 3H (56) - Smash 2H (58) - Link: ht
 tps://www.badmintonvlaanderen.be/sport/teammatch.aspx?id=343A6D01-7373-405
 B-9427-CB56B07F8CCD&match=1268
DTSTART;TZID=Europe/Brussels:20211007T083000
DTEND;TZID=Europe/Brussels:20211007T083000
END:VEVENT
BEGIN:VEVENT
UID:343A6D01-7373-405B-9427-CB56B07F8CCD-27-1288_homereminder@89.badmintonn
 ers.net
DTSTAMP:20260420T055150Z
SUMMARY:Thuismatch ingevuld? (De Nekker 3H (56) - Zandhoven 1H (70))
DESCRIPTION:Je hebt 36 uur na aanvang om een thuismatch op Badmintonvlaande
 ren in te vullen. Match info: De Nekker 3H (56) - Zandhoven 1H (70) - Link
 : https://www.badmintonvlaanderen.be/sport/teammatch.aspx?id=343A6D01-7373
 -405B-9427-CB56B07F8CCD&match=1288
DTSTART;TZID=Europe/Brussels:20211014T083000
DTEND;TZID=Europe/Brussels:20211014T083000
END:VEVENT
BEGIN:VEVENT
UID:343A6D01-7373-405B-9427-CB56B07F8CCD-27-1278_homereminder@89.badmintonn
 ers.net
DTSTAMP:20260420T055150Z
SUMMARY:Thuismatch ingevuld? (De Nekker 3H (56) - Klein Boom 3H (66))
DESCRIPTION:Je hebt 36 uur na aanvang om een thuismatch op Badmintonvlaande
 ren in te vullen. Match info: De Nekker 3H (56) - Klein Boom 3H (66) - Lin
 k: https://www.badmintonvlaanderen.be/sport/teammatch.aspx?id=343A6D01-737
 3-405B-9427-CB56B07F8CCD&match=1278
DTSTART;TZID=Europe/Brussels:20211118T083000
DTEND;TZID=Europe/Brussels:20211118T083000
END:VEVENT
BEGIN:VEVENT
UID:343A6D01-7373-405B-9427-CB56B07F8CCD-27-1283_homereminder@89.badmintonn
 ers.net
DTSTAMP:20260420T055150Z
SUMMARY:Thuismatch ingevuld? (De Nekker 3H (56) - Olve 6H (68))
DESCRIPTION:Je hebt 36 uur na aanvang om een thuismatch op Badmintonvlaande
 ren in te vullen. Match info: De Nekker 3H (56) - Olve 6H (68) - Link: htt
 ps://www.badmintonvlaanderen.be/sport/teammatch.aspx?id=343A6D01-7373-405B
 -9427-CB56B07F8CCD&match=1283
DTSTART;TZID=Europe/Brussels:20220113T083000
DTEND;TZID=Europe/Brussels:20220113T083000
END:VEVENT
BEGIN:VEVENT
UID:343A6D01-7373-405B-9427-CB56B07F8CCD-27-1273_homereminder@89.badmintonn
 ers.net
DTSTAMP:20260420T055150Z
SUMMARY:Thuismatch ingevuld? (De Nekker 3H (56) - Merksplas 2H (63))
DESCRIPTION:Je hebt 36 uur na aanvang om een thuismatch op Badmintonvlaande
 ren in te vullen. Match info: De Nekker 3H (56) - Merksplas 2H (63) - Link
 : https://www.badmintonvlaanderen.be/sport/teammatch.aspx?id=343A6D01-7373
 -405B-9427-CB56B07F8CCD&match=1273
DTSTART;TZID=Europe/Brussels:20220324T083000
DTEND;TZID=Europe/Brussels:20220324T083000
END:VEVENT
BEGIN:VEVENT
UID:343A6D01-7373-405B-9427-CB56B07F8CCD-27-1264_awayreminder@89.badmintonn
 ers.net
DTSTAMP:20260420T055150Z
SUMMARY:Uitmatch bevestigd? (Merksplas 2H (63) - De Nekker 3H (56))
DESCRIPTION:Je hebt 72 uur na aanvang om een uitmatch op Badmintonvlaandere
 n in te vullen. Match info: Merksplas 2H (63) - De Nekker 3H (56) - Link: 
 https://www.badmintonvlaanderen.be/sport/teammatch.aspx?id=343A6D01-7373-4
 05B-9427-CB56B07F8CCD&match=1264
DTSTART;TZID=Europe/Brussels:20211027T100000
DTEND;TZID=Europe/Brussels:20211027T100000
END:VEVENT
BEGIN:VEVENT
UID:343A6D01-7373-405B-9427-CB56B07F8CCD-27-1266_awayreminder@89.badmintonn
 ers.net
DTSTAMP:20260420T055150Z
SUMMARY:Uitmatch bevestigd? (Olve 6H (68) - De Nekker 3H (56))
DESCRIPTION:Je hebt 72 uur na aanvang om een uitmatch op Badmintonvlaandere
 n in te vullen. Match info: Olve 6H (68) - De Nekker 3H (56) - Link: https
 ://www.badmintonvlaanderen.be/sport/teammatch.aspx?id=343A6D01-7373-405B-9
 427-CB56B07F8CCD&match=1266
DTSTART;TZID=Europe/Brussels:20211207T103000
DTEND;TZID=Europe/Brussels:20211207T103000
END:VEVENT
BEGIN:VEVENT
UID:343A6D01-7373-405B-9427-CB56B07F8CCD-27-1265_awayreminder@89.badmintonn
 ers.net
DTSTAMP:20260420T055150Z
SUMMARY:Uitmatch bevestigd? (Klein Boom 3H (66) - De Nekker 3H (56))
DESCRIPTION:Je hebt 72 uur na aanvang om een uitmatch op Badmintonvlaandere
 n in te vullen. Match info: Klein Boom 3H (66) - De Nekker 3H (56) - Link:
  https://www.badmintonvlaanderen.be/sport/teammatch.aspx?id=343A6D01-7373-
 405B-9427-CB56B07F8CCD&match=1265
DTSTART;TZID=Europe/Brussels:20220202T190000
DTEND;TZID=Europe/Brussels:20220202T190000
END:VEVENT
BEGIN:VEVENT
UID:343A6D01-7373-405B-9427-CB56B07F8CCD-27-1263_awayreminder@89.badmintonn
 ers.net
DTSTAMP:20260420T055150Z
SUMMARY:Uitmatch bevestigd? (Smash 2H (58) - De Nekker 3H (56))
DESCRIPTION:Je hebt 72 uur na aanvang om een uitmatch op Badmintonvlaandere
 n in te vullen. Match info: Smash 2H (58) - De Nekker 3H (56) - Link: http
 s://www.badmintonvlaanderen.be/sport/teammatch.aspx?id=343A6D01-7373-405B-
 9427-CB56B07F8CCD&match=1263
DTSTART;TZID=Europe/Brussels:20220216T100000
DTEND;TZID=Europe/Brussels:20220216T100000
END:VEVENT
BEGIN:VEVENT
UID:343A6D01-7373-405B-9427-CB56B07F8CCD-27-1267_awayreminder@89.badmintonn
 ers.net
DTSTAMP:20260420T055150Z
SUMMARY:Uitmatch bevestigd? (Zandhoven 1H (70) - De Nekker 3H (56))
DESCRIPTION:Je hebt 72 uur na aanvang om een uitmatch op Badmintonvlaandere
 n in te vullen. Match info: Zandhoven 1H (70) - De Nekker 3H (56) - Link: 
 https://www.badmintonvlaanderen.be/sport/teammatch.aspx?id=343A6D01-7373-4
 05B-9427-CB56B07F8CCD&match=1267
DTSTART;TZID=Europe/Brussels:20220224T200000
DTEND;TZID=Europe/Brussels:20220224T200000
END:VEVENT
END:VCALENDAR