BEGIN:VCALENDAR
VERSION:2.0
PRODID:spatie/icalendar-generator
NAME:merksplas_2h_63_reminders
X-WR-CALNAME:merksplas_2h_63_reminders
BEGIN:VTIMEZONE
TZID:Europe/Brussels
BEGIN:DAYLIGHT
DTSTART:20210328T010000
TZOFFSETFROM:+0100
TZOFFSETTO:+0200
END:DAYLIGHT
BEGIN:STANDARD
DTSTART:20211031T030000
TZOFFSETFROM:+0200
TZOFFSETTO:+0100
END:STANDARD
BEGIN:DAYLIGHT
DTSTART:20220327T010000
TZOFFSETFROM:+0100
TZOFFSETTO:+0200
END:DAYLIGHT
END:VTIMEZONE
BEGIN:VTIMEZONE
TZID:UTC
BEGIN:STANDARD
DTSTART:20250724T073346
TZOFFSETFROM:+0000
TZOFFSETTO:+0000
END:STANDARD
END:VTIMEZONE
BEGIN:VEVENT
UID:343A6D01-7373-405B-9427-CB56B07F8CCD-27-1280_homereminder@97.badmintonn
 ers.net
DTSTAMP:20260420T073346Z
SUMMARY:Thuismatch ingevuld? (Merksplas 2H (63) - Klein Boom 3H (66))
DESCRIPTION:Je hebt 36 uur na aanvang om een thuismatch op Badmintonvlaande
 ren in te vullen. Match info: Merksplas 2H (63) - Klein Boom 3H (66) - Lin
 k: https://www.badmintonvlaanderen.be/sport/teammatch.aspx?id=343A6D01-737
 3-405B-9427-CB56B07F8CCD&match=1280
DTSTART;TZID=Europe/Brussels:20210927T220000
DTEND;TZID=Europe/Brussels:20210927T220000
END:VEVENT
BEGIN:VEVENT
UID:343A6D01-7373-405B-9427-CB56B07F8CCD-27-1264_homereminder@97.badmintonn
 ers.net
DTSTAMP:20260420T073346Z
SUMMARY:Thuismatch ingevuld? (Merksplas 2H (63) - De Nekker 3H (56))
DESCRIPTION:Je hebt 36 uur na aanvang om een thuismatch op Badmintonvlaande
 ren in te vullen. Match info: Merksplas 2H (63) - De Nekker 3H (56) - Link
 : https://www.badmintonvlaanderen.be/sport/teammatch.aspx?id=343A6D01-7373
 -405B-9427-CB56B07F8CCD&match=1264
DTSTART;TZID=Europe/Brussels:20211025T220000
DTEND;TZID=Europe/Brussels:20211025T220000
END:VEVENT
BEGIN:VEVENT
UID:343A6D01-7373-405B-9427-CB56B07F8CCD-27-1290_homereminder@97.badmintonn
 ers.net
DTSTAMP:20260420T073346Z
SUMMARY:Thuismatch ingevuld? (Merksplas 2H (63) - Zandhoven 1H (70))
DESCRIPTION:Je hebt 36 uur na aanvang om een thuismatch op Badmintonvlaande
 ren in te vullen. Match info: Merksplas 2H (63) - Zandhoven 1H (70) - Link
 : https://www.badmintonvlaanderen.be/sport/teammatch.aspx?id=343A6D01-7373
 -405B-9427-CB56B07F8CCD&match=1290
DTSTART;TZID=Europe/Brussels:20211220T220000
DTEND;TZID=Europe/Brussels:20211220T220000
END:VEVENT
BEGIN:VEVENT
UID:343A6D01-7373-405B-9427-CB56B07F8CCD-27-1285_homereminder@97.badmintonn
 ers.net
DTSTAMP:20260420T073346Z
SUMMARY:Thuismatch ingevuld? (Merksplas 2H (63) - Olve 6H (68))
DESCRIPTION:Je hebt 36 uur na aanvang om een thuismatch op Badmintonvlaande
 ren in te vullen. Match info: Merksplas 2H (63) - Olve 6H (68) - Link: htt
 ps://www.badmintonvlaanderen.be/sport/teammatch.aspx?id=343A6D01-7373-405B
 -9427-CB56B07F8CCD&match=1285
DTSTART;TZID=Europe/Brussels:20220214T220000
DTEND;TZID=Europe/Brussels:20220214T220000
END:VEVENT
BEGIN:VEVENT
UID:343A6D01-7373-405B-9427-CB56B07F8CCD-27-1269_homereminder@97.badmintonn
 ers.net
DTSTAMP:20260420T073346Z
SUMMARY:Thuismatch ingevuld? (Merksplas 2H (63) - Smash 2H (58))
DESCRIPTION:Je hebt 36 uur na aanvang om een thuismatch op Badmintonvlaande
 ren in te vullen. Match info: Merksplas 2H (63) - Smash 2H (58) - Link: ht
 tps://www.badmintonvlaanderen.be/sport/teammatch.aspx?id=343A6D01-7373-405
 B-9427-CB56B07F8CCD&match=1269
DTSTART;TZID=Europe/Brussels:20220425T220000
DTEND;TZID=Europe/Brussels:20220425T220000
END:VEVENT
BEGIN:VEVENT
UID:343A6D01-7373-405B-9427-CB56B07F8CCD-27-1276_awayreminder@97.badmintonn
 ers.net
DTSTAMP:20260420T073346Z
SUMMARY:Uitmatch bevestigd? (Olve 6H (68) - Merksplas 2H (63))
DESCRIPTION:Je hebt 72 uur na aanvang om een uitmatch op Badmintonvlaandere
 n in te vullen. Match info: Olve 6H (68) - Merksplas 2H (63) - Link: https
 ://www.badmintonvlaanderen.be/sport/teammatch.aspx?id=343A6D01-7373-405B-9
 427-CB56B07F8CCD&match=1276
DTSTART;TZID=Europe/Brussels:20211012T103000
DTEND;TZID=Europe/Brussels:20211012T103000
END:VEVENT
BEGIN:VEVENT
UID:343A6D01-7373-405B-9427-CB56B07F8CCD-27-1274_awayreminder@97.badmintonn
 ers.net
DTSTAMP:20260420T073346Z
SUMMARY:Uitmatch bevestigd? (Smash 2H (58) - Merksplas 2H (63))
DESCRIPTION:Je hebt 72 uur na aanvang om een uitmatch op Badmintonvlaandere
 n in te vullen. Match info: Smash 2H (58) - Merksplas 2H (63) - Link: http
 s://www.badmintonvlaanderen.be/sport/teammatch.aspx?id=343A6D01-7373-405B-
 9427-CB56B07F8CCD&match=1274
DTSTART;TZID=Europe/Brussels:20211208T100000
DTEND;TZID=Europe/Brussels:20211208T100000
END:VEVENT
BEGIN:VEVENT
UID:343A6D01-7373-405B-9427-CB56B07F8CCD-27-1275_awayreminder@97.badmintonn
 ers.net
DTSTAMP:20260420T073346Z
SUMMARY:Uitmatch bevestigd? (Klein Boom 3H (66) - Merksplas 2H (63))
DESCRIPTION:Je hebt 72 uur na aanvang om een uitmatch op Badmintonvlaandere
 n in te vullen. Match info: Klein Boom 3H (66) - Merksplas 2H (63) - Link:
  https://www.badmintonvlaanderen.be/sport/teammatch.aspx?id=343A6D01-7373-
 405B-9427-CB56B07F8CCD&match=1275
DTSTART;TZID=Europe/Brussels:20220302T190000
DTEND;TZID=Europe/Brussels:20220302T190000
END:VEVENT
BEGIN:VEVENT
UID:343A6D01-7373-405B-9427-CB56B07F8CCD-27-1277_awayreminder@97.badmintonn
 ers.net
DTSTAMP:20260420T073346Z
SUMMARY:Uitmatch bevestigd? (Zandhoven 1H (70) - Merksplas 2H (63))
DESCRIPTION:Je hebt 72 uur na aanvang om een uitmatch op Badmintonvlaandere
 n in te vullen. Match info: Zandhoven 1H (70) - Merksplas 2H (63) - Link: 
 https://www.badmintonvlaanderen.be/sport/teammatch.aspx?id=343A6D01-7373-4
 05B-9427-CB56B07F8CCD&match=1277
DTSTART;TZID=Europe/Brussels:20220317T200000
DTEND;TZID=Europe/Brussels:20220317T200000
END:VEVENT
BEGIN:VEVENT
UID:343A6D01-7373-405B-9427-CB56B07F8CCD-27-1273_awayreminder@97.badmintonn
 ers.net
DTSTAMP:20260420T073346Z
SUMMARY:Uitmatch bevestigd? (De Nekker 3H (56) - Merksplas 2H (63))
DESCRIPTION:Je hebt 72 uur na aanvang om een uitmatch op Badmintonvlaandere
 n in te vullen. Match info: De Nekker 3H (56) - Merksplas 2H (63) - Link: 
 https://www.badmintonvlaanderen.be/sport/teammatch.aspx?id=343A6D01-7373-4
 05B-9427-CB56B07F8CCD&match=1273
DTSTART;TZID=Europe/Brussels:20220325T203000
DTEND;TZID=Europe/Brussels:20220325T203000
END:VEVENT
END:VCALENDAR