BEGIN:VCALENDAR
VERSION:2.0
PRODID:spatie/icalendar-generator
NAME:beerke_3h_70_reminders
X-WR-CALNAME:beerke_3h_70_reminders
BEGIN:VTIMEZONE
TZID:Europe/Brussels
BEGIN:DAYLIGHT
DTSTART:20210328T010000
TZOFFSETFROM:+0100
TZOFFSETTO:+0200
END:DAYLIGHT
BEGIN:STANDARD
DTSTART:20211031T030000
TZOFFSETFROM:+0200
TZOFFSETTO:+0100
END:STANDARD
BEGIN:DAYLIGHT
DTSTART:20220327T010000
TZOFFSETFROM:+0100
TZOFFSETTO:+0200
END:DAYLIGHT
END:VTIMEZONE
BEGIN:VTIMEZONE
TZID:UTC
BEGIN:STANDARD
DTSTART:20250724T055146
TZOFFSETFROM:+0000
TZOFFSETTO:+0000
END:STANDARD
END:VTIMEZONE
BEGIN:VEVENT
UID:343A6D01-7373-405B-9427-CB56B07F8CCD-28-1302_homereminder@143.badminton
 ners.net
DTSTAMP:20260420T055146Z
SUMMARY:Thuismatch ingevuld? (Beerke 3H (70) - Rijkerack 3H (77))
DESCRIPTION:Je hebt 36 uur na aanvang om een thuismatch op Badmintonvlaande
 ren in te vullen. Match info: Beerke 3H (70) - Rijkerack 3H (77) - Link: h
 ttps://www.badmintonvlaanderen.be/sport/teammatch.aspx?id=343A6D01-7373-40
 5B-9427-CB56B07F8CCD&match=1302
DTSTART;TZID=Europe/Brussels:20211025T220000
DTEND;TZID=Europe/Brussels:20211025T220000
END:VEVENT
BEGIN:VEVENT
UID:343A6D01-7373-405B-9427-CB56B07F8CCD-28-1324_homereminder@143.badminton
 ners.net
DTSTAMP:20260420T055146Z
SUMMARY:Thuismatch ingevuld? (Beerke 3H (70) - Torpedo 1H (74))
DESCRIPTION:Je hebt 36 uur na aanvang om een thuismatch op Badmintonvlaande
 ren in te vullen. Match info: Beerke 3H (70) - Torpedo 1H (74) - Link: htt
 ps://www.badmintonvlaanderen.be/sport/teammatch.aspx?id=343A6D01-7373-405B
 -9427-CB56B07F8CCD&match=1324
DTSTART;TZID=Europe/Brussels:20211206T220000
DTEND;TZID=Europe/Brussels:20211206T220000
END:VEVENT
BEGIN:VEVENT
UID:343A6D01-7373-405B-9427-CB56B07F8CCD-28-1338_homereminder@143.badminton
 ners.net
DTSTAMP:20260420T055146Z
SUMMARY:Thuismatch ingevuld? (Beerke 3H (70) - Turnhout 2H (72))
DESCRIPTION:Je hebt 36 uur na aanvang om een thuismatch op Badmintonvlaande
 ren in te vullen. Match info: Beerke 3H (70) - Turnhout 2H (72) - Link: ht
 tps://www.badmintonvlaanderen.be/sport/teammatch.aspx?id=343A6D01-7373-405
 B-9427-CB56B07F8CCD&match=1338
DTSTART;TZID=Europe/Brussels:20211220T220000
DTEND;TZID=Europe/Brussels:20211220T220000
END:VEVENT
BEGIN:VEVENT
UID:343A6D01-7373-405B-9427-CB56B07F8CCD-28-1309_homereminder@143.badminton
 ners.net
DTSTAMP:20260420T055146Z
SUMMARY:Thuismatch ingevuld? (Beerke 3H (70) - Klein Boom 4H (75))
DESCRIPTION:Je hebt 36 uur na aanvang om een thuismatch op Badmintonvlaande
 ren in te vullen. Match info: Beerke 3H (70) - Klein Boom 4H (75) - Link: 
 https://www.badmintonvlaanderen.be/sport/teammatch.aspx?id=343A6D01-7373-4
 05B-9427-CB56B07F8CCD&match=1309
DTSTART;TZID=Europe/Brussels:20220131T220000
DTEND;TZID=Europe/Brussels:20220131T220000
END:VEVENT
BEGIN:VEVENT
UID:343A6D01-7373-405B-9427-CB56B07F8CCD-28-1331_homereminder@143.badminton
 ners.net
DTSTAMP:20260420T055146Z
SUMMARY:Thuismatch ingevuld? (Beerke 3H (70) - Spinshuttle 3H (73))
DESCRIPTION:Je hebt 36 uur na aanvang om een thuismatch op Badmintonvlaande
 ren in te vullen. Match info: Beerke 3H (70) - Spinshuttle 3H (73) - Link:
  https://www.badmintonvlaanderen.be/sport/teammatch.aspx?id=343A6D01-7373-
 405B-9427-CB56B07F8CCD&match=1331
DTSTART;TZID=Europe/Brussels:20220228T220000
DTEND;TZID=Europe/Brussels:20220228T220000
END:VEVENT
BEGIN:VEVENT
UID:343A6D01-7373-405B-9427-CB56B07F8CCD-28-1345_homereminder@143.badminton
 ners.net
DTSTAMP:20260420T055146Z
SUMMARY:Thuismatch ingevuld? (Beerke 3H (70) - De Pluim 4H (70))
DESCRIPTION:Je hebt 36 uur na aanvang om een thuismatch op Badmintonvlaande
 ren in te vullen. Match info: Beerke 3H (70) - De Pluim 4H (70) - Link: ht
 tps://www.badmintonvlaanderen.be/sport/teammatch.aspx?id=343A6D01-7373-405
 B-9427-CB56B07F8CCD&match=1345
DTSTART;TZID=Europe/Brussels:20220411T220000
DTEND;TZID=Europe/Brussels:20220411T220000
END:VEVENT
BEGIN:VEVENT
UID:343A6D01-7373-405B-9427-CB56B07F8CCD-28-1318_awayreminder@143.badminton
 ners.net
DTSTAMP:20260420T055146Z
SUMMARY:Uitmatch bevestigd? (Spinshuttle 3H (73) - Beerke 3H (70))
DESCRIPTION:Je hebt 72 uur na aanvang om een uitmatch op Badmintonvlaandere
 n in te vullen. Match info: Spinshuttle 3H (73) - Beerke 3H (70) - Link: h
 ttps://www.badmintonvlaanderen.be/sport/teammatch.aspx?id=343A6D01-7373-40
 5B-9427-CB56B07F8CCD&match=1318
DTSTART;TZID=Europe/Brussels:20210924T200000
DTEND;TZID=Europe/Brussels:20210924T200000
END:VEVENT
BEGIN:VEVENT
UID:343A6D01-7373-405B-9427-CB56B07F8CCD-28-1320_awayreminder@143.badminton
 ners.net
DTSTAMP:20260420T055146Z
SUMMARY:Uitmatch bevestigd? (De Pluim 4H (70) - Beerke 3H (70))
DESCRIPTION:Je hebt 72 uur na aanvang om een uitmatch op Badmintonvlaandere
 n in te vullen. Match info: De Pluim 4H (70) - Beerke 3H (70) - Link: http
 s://www.badmintonvlaanderen.be/sport/teammatch.aspx?id=343A6D01-7373-405B-
 9427-CB56B07F8CCD&match=1320
DTSTART;TZID=Europe/Brussels:20211013T180000
DTEND;TZID=Europe/Brussels:20211013T180000
END:VEVENT
BEGIN:VEVENT
UID:343A6D01-7373-405B-9427-CB56B07F8CCD-28-1316_awayreminder@143.badminton
 ners.net
DTSTAMP:20260420T055146Z
SUMMARY:Uitmatch bevestigd? (Klein Boom 4H (75) - Beerke 3H (70))
DESCRIPTION:Je hebt 72 uur na aanvang om een uitmatch op Badmintonvlaandere
 n in te vullen. Match info: Klein Boom 4H (75) - Beerke 3H (70) - Link: ht
 tps://www.badmintonvlaanderen.be/sport/teammatch.aspx?id=343A6D01-7373-405
 B-9427-CB56B07F8CCD&match=1316
DTSTART;TZID=Europe/Brussels:20220112T190000
DTEND;TZID=Europe/Brussels:20220112T190000
END:VEVENT
BEGIN:VEVENT
UID:343A6D01-7373-405B-9427-CB56B07F8CCD-28-1319_awayreminder@143.badminton
 ners.net
DTSTAMP:20260420T055146Z
SUMMARY:Uitmatch bevestigd? (Turnhout 2H (72) - Beerke 3H (70))
DESCRIPTION:Je hebt 72 uur na aanvang om een uitmatch op Badmintonvlaandere
 n in te vullen. Match info: Turnhout 2H (72) - Beerke 3H (70) - Link: http
 s://www.badmintonvlaanderen.be/sport/teammatch.aspx?id=343A6D01-7373-405B-
 9427-CB56B07F8CCD&match=1319
DTSTART;TZID=Europe/Brussels:20220208T140000
DTEND;TZID=Europe/Brussels:20220208T140000
END:VEVENT
BEGIN:VEVENT
UID:343A6D01-7373-405B-9427-CB56B07F8CCD-28-1315_awayreminder@143.badminton
 ners.net
DTSTAMP:20260420T055146Z
SUMMARY:Uitmatch bevestigd? (Rijkerack 3H (77) - Beerke 3H (70))
DESCRIPTION:Je hebt 72 uur na aanvang om een uitmatch op Badmintonvlaandere
 n in te vullen. Match info: Rijkerack 3H (77) - Beerke 3H (70) - Link: htt
 ps://www.badmintonvlaanderen.be/sport/teammatch.aspx?id=343A6D01-7373-405B
 -9427-CB56B07F8CCD&match=1315
DTSTART;TZID=Europe/Brussels:20220216T190000
DTEND;TZID=Europe/Brussels:20220216T190000
END:VEVENT
BEGIN:VEVENT
UID:343A6D01-7373-405B-9427-CB56B07F8CCD-28-1317_awayreminder@143.badminton
 ners.net
DTSTAMP:20260420T055146Z
SUMMARY:Uitmatch bevestigd? (Torpedo 1H (74) - Beerke 3H (70))
DESCRIPTION:Je hebt 72 uur na aanvang om een uitmatch op Badmintonvlaandere
 n in te vullen. Match info: Torpedo 1H (74) - Beerke 3H (70) - Link: https
 ://www.badmintonvlaanderen.be/sport/teammatch.aspx?id=343A6D01-7373-405B-9
 427-CB56B07F8CCD&match=1317
DTSTART;TZID=Europe/Brussels:20220313T201500
DTEND;TZID=Europe/Brussels:20220313T201500
END:VEVENT
END:VCALENDAR