BEGIN:VCALENDAR
VERSION:2.0
PRODID:spatie/icalendar-generator
NAME:de_pluim_4h_70_reminders
X-WR-CALNAME:de_pluim_4h_70_reminders
BEGIN:VTIMEZONE
TZID:Europe/Brussels
BEGIN:DAYLIGHT
DTSTART:20210328T010000
TZOFFSETFROM:+0100
TZOFFSETTO:+0200
END:DAYLIGHT
BEGIN:STANDARD
DTSTART:20211031T030000
TZOFFSETFROM:+0200
TZOFFSETTO:+0100
END:STANDARD
BEGIN:DAYLIGHT
DTSTART:20220327T010000
TZOFFSETFROM:+0100
TZOFFSETTO:+0200
END:DAYLIGHT
END:VTIMEZONE
BEGIN:VTIMEZONE
TZID:UTC
BEGIN:STANDARD
DTSTART:20250724T055149
TZOFFSETFROM:+0000
TZOFFSETTO:+0000
END:STANDARD
END:VTIMEZONE
BEGIN:VEVENT
UID:343A6D01-7373-405B-9427-CB56B07F8CCD-28-1320_homereminder@17.badmintonn
 ers.net
DTSTAMP:20260420T055149Z
SUMMARY:Thuismatch ingevuld? (De Pluim 4H (70) - Beerke 3H (70))
DESCRIPTION:Je hebt 36 uur na aanvang om een thuismatch op Badmintonvlaande
 ren in te vullen. Match info: De Pluim 4H (70) - Beerke 3H (70) - Link: ht
 tps://www.badmintonvlaanderen.be/sport/teammatch.aspx?id=343A6D01-7373-405
 B-9427-CB56B07F8CCD&match=1320
DTSTART;TZID=Europe/Brussels:20211012T060000
DTEND;TZID=Europe/Brussels:20211012T060000
END:VEVENT
BEGIN:VEVENT
UID:343A6D01-7373-405B-9427-CB56B07F8CCD-28-1334_homereminder@17.badmintonn
 ers.net
DTSTAMP:20260420T055149Z
SUMMARY:Thuismatch ingevuld? (De Pluim 4H (70) - Spinshuttle 3H (73))
DESCRIPTION:Je hebt 36 uur na aanvang om een thuismatch op Badmintonvlaande
 ren in te vullen. Match info: De Pluim 4H (70) - Spinshuttle 3H (73) - Lin
 k: https://www.badmintonvlaanderen.be/sport/teammatch.aspx?id=343A6D01-737
 3-405B-9427-CB56B07F8CCD&match=1334
DTSTART;TZID=Europe/Brussels:20211123T060000
DTEND;TZID=Europe/Brussels:20211123T060000
END:VEVENT
BEGIN:VEVENT
UID:343A6D01-7373-405B-9427-CB56B07F8CCD-28-1306_homereminder@17.badmintonn
 ers.net
DTSTAMP:20260420T055149Z
SUMMARY:Thuismatch ingevuld? (De Pluim 4H (70) - Rijkerack 3H (77))
DESCRIPTION:Je hebt 36 uur na aanvang om een thuismatch op Badmintonvlaande
 ren in te vullen. Match info: De Pluim 4H (70) - Rijkerack 3H (77) - Link:
  https://www.badmintonvlaanderen.be/sport/teammatch.aspx?id=343A6D01-7373-
 405B-9427-CB56B07F8CCD&match=1306
DTSTART;TZID=Europe/Brussels:20211221T060000
DTEND;TZID=Europe/Brussels:20211221T060000
END:VEVENT
BEGIN:VEVENT
UID:343A6D01-7373-405B-9427-CB56B07F8CCD-28-1327_homereminder@17.badmintonn
 ers.net
DTSTAMP:20260420T055149Z
SUMMARY:Thuismatch ingevuld? (De Pluim 4H (70) - Torpedo 1H (74))
DESCRIPTION:Je hebt 36 uur na aanvang om een thuismatch op Badmintonvlaande
 ren in te vullen. Match info: De Pluim 4H (70) - Torpedo 1H (74) - Link: h
 ttps://www.badmintonvlaanderen.be/sport/teammatch.aspx?id=343A6D01-7373-40
 5B-9427-CB56B07F8CCD&match=1327
DTSTART;TZID=Europe/Brussels:20220215T060000
DTEND;TZID=Europe/Brussels:20220215T060000
END:VEVENT
BEGIN:VEVENT
UID:343A6D01-7373-405B-9427-CB56B07F8CCD-28-1341_homereminder@17.badmintonn
 ers.net
DTSTAMP:20260420T055149Z
SUMMARY:Thuismatch ingevuld? (De Pluim 4H (70) - Turnhout 2H (72))
DESCRIPTION:Je hebt 36 uur na aanvang om een thuismatch op Badmintonvlaande
 ren in te vullen. Match info: De Pluim 4H (70) - Turnhout 2H (72) - Link: 
 https://www.badmintonvlaanderen.be/sport/teammatch.aspx?id=343A6D01-7373-4
 05B-9427-CB56B07F8CCD&match=1341
DTSTART;TZID=Europe/Brussels:20220322T060000
DTEND;TZID=Europe/Brussels:20220322T060000
END:VEVENT
BEGIN:VEVENT
UID:343A6D01-7373-405B-9427-CB56B07F8CCD-28-1313_homereminder@17.badmintonn
 ers.net
DTSTAMP:20260420T055149Z
SUMMARY:Thuismatch ingevuld? (De Pluim 4H (70) - Klein Boom 4H (75))
DESCRIPTION:Je hebt 36 uur na aanvang om een thuismatch op Badmintonvlaande
 ren in te vullen. Match info: De Pluim 4H (70) - Klein Boom 4H (75) - Link
 : https://www.badmintonvlaanderen.be/sport/teammatch.aspx?id=343A6D01-7373
 -405B-9427-CB56B07F8CCD&match=1313
DTSTART;TZID=Europe/Brussels:20220329T060000
DTEND;TZID=Europe/Brussels:20220329T060000
END:VEVENT
BEGIN:VEVENT
UID:343A6D01-7373-405B-9427-CB56B07F8CCD-28-1344_awayreminder@17.badmintonn
 ers.net
DTSTAMP:20260420T055149Z
SUMMARY:Uitmatch bevestigd? (Klein Boom 4H (75) - De Pluim 4H (70))
DESCRIPTION:Je hebt 72 uur na aanvang om een uitmatch op Badmintonvlaandere
 n in te vullen. Match info: Klein Boom 4H (75) - De Pluim 4H (70) - Link: 
 https://www.badmintonvlaanderen.be/sport/teammatch.aspx?id=343A6D01-7373-4
 05B-9427-CB56B07F8CCD&match=1344
DTSTART;TZID=Europe/Brussels:20210929T190000
DTEND;TZID=Europe/Brussels:20210929T190000
END:VEVENT
BEGIN:VEVENT
UID:343A6D01-7373-405B-9427-CB56B07F8CCD-28-1346_awayreminder@17.badmintonn
 ers.net
DTSTAMP:20260420T055149Z
SUMMARY:Uitmatch bevestigd? (Torpedo 1H (74) - De Pluim 4H (70))
DESCRIPTION:Je hebt 72 uur na aanvang om een uitmatch op Badmintonvlaandere
 n in te vullen. Match info: Torpedo 1H (74) - De Pluim 4H (70) - Link: htt
 ps://www.badmintonvlaanderen.be/sport/teammatch.aspx?id=343A6D01-7373-405B
 -9427-CB56B07F8CCD&match=1346
DTSTART;TZID=Europe/Brussels:20211024T201500
DTEND;TZID=Europe/Brussels:20211024T201500
END:VEVENT
BEGIN:VEVENT
UID:343A6D01-7373-405B-9427-CB56B07F8CCD-28-1348_awayreminder@17.badmintonn
 ers.net
DTSTAMP:20260420T055149Z
SUMMARY:Uitmatch bevestigd? (Turnhout 2H (72) - De Pluim 4H (70))
DESCRIPTION:Je hebt 72 uur na aanvang om een uitmatch op Badmintonvlaandere
 n in te vullen. Match info: Turnhout 2H (72) - De Pluim 4H (70) - Link: ht
 tps://www.badmintonvlaanderen.be/sport/teammatch.aspx?id=343A6D01-7373-405
 B-9427-CB56B07F8CCD&match=1348
DTSTART;TZID=Europe/Brussels:20211109T140000
DTEND;TZID=Europe/Brussels:20211109T140000
END:VEVENT
BEGIN:VEVENT
UID:343A6D01-7373-405B-9427-CB56B07F8CCD-28-1347_awayreminder@17.badmintonn
 ers.net
DTSTAMP:20260420T055149Z
SUMMARY:Uitmatch bevestigd? (Spinshuttle 3H (73) - De Pluim 4H (70))
DESCRIPTION:Je hebt 72 uur na aanvang om een uitmatch op Badmintonvlaandere
 n in te vullen. Match info: Spinshuttle 3H (73) - De Pluim 4H (70) - Link:
  https://www.badmintonvlaanderen.be/sport/teammatch.aspx?id=343A6D01-7373-
 405B-9427-CB56B07F8CCD&match=1347
DTSTART;TZID=Europe/Brussels:20220128T200000
DTEND;TZID=Europe/Brussels:20220128T200000
END:VEVENT
BEGIN:VEVENT
UID:343A6D01-7373-405B-9427-CB56B07F8CCD-28-1343_awayreminder@17.badmintonn
 ers.net
DTSTAMP:20260420T055149Z
SUMMARY:Uitmatch bevestigd? (Rijkerack 3H (77) - De Pluim 4H (70))
DESCRIPTION:Je hebt 72 uur na aanvang om een uitmatch op Badmintonvlaandere
 n in te vullen. Match info: Rijkerack 3H (77) - De Pluim 4H (70) - Link: h
 ttps://www.badmintonvlaanderen.be/sport/teammatch.aspx?id=343A6D01-7373-40
 5B-9427-CB56B07F8CCD&match=1343
DTSTART;TZID=Europe/Brussels:20220302T190000
DTEND;TZID=Europe/Brussels:20220302T190000
END:VEVENT
BEGIN:VEVENT
UID:343A6D01-7373-405B-9427-CB56B07F8CCD-28-1345_awayreminder@17.badmintonn
 ers.net
DTSTAMP:20260420T055149Z
SUMMARY:Uitmatch bevestigd? (Beerke 3H (70) - De Pluim 4H (70))
DESCRIPTION:Je hebt 72 uur na aanvang om een uitmatch op Badmintonvlaandere
 n in te vullen. Match info: Beerke 3H (70) - De Pluim 4H (70) - Link: http
 s://www.badmintonvlaanderen.be/sport/teammatch.aspx?id=343A6D01-7373-405B-
 9427-CB56B07F8CCD&match=1345
DTSTART;TZID=Europe/Brussels:20220413T100000
DTEND;TZID=Europe/Brussels:20220413T100000
END:VEVENT
END:VCALENDAR