BEGIN:VCALENDAR
VERSION:2.0
PRODID:spatie/icalendar-generator
NAME:turnhout_2h_72_reminders
X-WR-CALNAME:turnhout_2h_72_reminders
BEGIN:VTIMEZONE
TZID:Europe/Brussels
BEGIN:DAYLIGHT
DTSTART:20210328T010000
TZOFFSETFROM:+0100
TZOFFSETTO:+0200
END:DAYLIGHT
BEGIN:STANDARD
DTSTART:20211031T030000
TZOFFSETFROM:+0200
TZOFFSETTO:+0100
END:STANDARD
BEGIN:DAYLIGHT
DTSTART:20220327T010000
TZOFFSETFROM:+0100
TZOFFSETTO:+0200
END:DAYLIGHT
END:VTIMEZONE
BEGIN:VTIMEZONE
TZID:UTC
BEGIN:STANDARD
DTSTART:20250724T055136
TZOFFSETFROM:+0000
TZOFFSETTO:+0000
END:STANDARD
END:VTIMEZONE
BEGIN:VEVENT
UID:343A6D01-7373-405B-9427-CB56B07F8CCD-28-1326_homereminder@198.badminton
 ners.net
DTSTAMP:20260420T055136Z
SUMMARY:Thuismatch ingevuld? (Turnhout 2H (72) - Torpedo 1H (74))
DESCRIPTION:Je hebt 36 uur na aanvang om een thuismatch op Badmintonvlaande
 ren in te vullen. Match info: Turnhout 2H (72) - Torpedo 1H (74) - Link: h
 ttps://www.badmintonvlaanderen.be/sport/teammatch.aspx?id=343A6D01-7373-40
 5B-9427-CB56B07F8CCD&match=1326
DTSTART;TZID=Europe/Brussels:20211011T020000
DTEND;TZID=Europe/Brussels:20211011T020000
END:VEVENT
BEGIN:VEVENT
UID:343A6D01-7373-405B-9427-CB56B07F8CCD-28-1348_homereminder@198.badminton
 ners.net
DTSTAMP:20260420T055136Z
SUMMARY:Thuismatch ingevuld? (Turnhout 2H (72) - De Pluim 4H (70))
DESCRIPTION:Je hebt 36 uur na aanvang om een thuismatch op Badmintonvlaande
 ren in te vullen. Match info: Turnhout 2H (72) - De Pluim 4H (70) - Link: 
 https://www.badmintonvlaanderen.be/sport/teammatch.aspx?id=343A6D01-7373-4
 05B-9427-CB56B07F8CCD&match=1348
DTSTART;TZID=Europe/Brussels:20211108T020000
DTEND;TZID=Europe/Brussels:20211108T020000
END:VEVENT
BEGIN:VEVENT
UID:343A6D01-7373-405B-9427-CB56B07F8CCD-28-1312_homereminder@198.badminton
 ners.net
DTSTAMP:20260420T055136Z
SUMMARY:Thuismatch ingevuld? (Turnhout 2H (72) - Klein Boom 4H (75))
DESCRIPTION:Je hebt 36 uur na aanvang om een thuismatch op Badmintonvlaande
 ren in te vullen. Match info: Turnhout 2H (72) - Klein Boom 4H (75) - Link
 : https://www.badmintonvlaanderen.be/sport/teammatch.aspx?id=343A6D01-7373
 -405B-9427-CB56B07F8CCD&match=1312
DTSTART;TZID=Europe/Brussels:20211206T020000
DTEND;TZID=Europe/Brussels:20211206T020000
END:VEVENT
BEGIN:VEVENT
UID:343A6D01-7373-405B-9427-CB56B07F8CCD-28-1319_homereminder@198.badminton
 ners.net
DTSTAMP:20260420T055136Z
SUMMARY:Thuismatch ingevuld? (Turnhout 2H (72) - Beerke 3H (70))
DESCRIPTION:Je hebt 36 uur na aanvang om een thuismatch op Badmintonvlaande
 ren in te vullen. Match info: Turnhout 2H (72) - Beerke 3H (70) - Link: ht
 tps://www.badmintonvlaanderen.be/sport/teammatch.aspx?id=343A6D01-7373-405
 B-9427-CB56B07F8CCD&match=1319
DTSTART;TZID=Europe/Brussels:20220207T020000
DTEND;TZID=Europe/Brussels:20220207T020000
END:VEVENT
BEGIN:VEVENT
UID:343A6D01-7373-405B-9427-CB56B07F8CCD-28-1333_homereminder@198.badminton
 ners.net
DTSTAMP:20260420T055136Z
SUMMARY:Thuismatch ingevuld? (Turnhout 2H (72) - Spinshuttle 3H (73))
DESCRIPTION:Je hebt 36 uur na aanvang om een thuismatch op Badmintonvlaande
 ren in te vullen. Match info: Turnhout 2H (72) - Spinshuttle 3H (73) - Lin
 k: https://www.badmintonvlaanderen.be/sport/teammatch.aspx?id=343A6D01-737
 3-405B-9427-CB56B07F8CCD&match=1333
DTSTART;TZID=Europe/Brussels:20220221T020000
DTEND;TZID=Europe/Brussels:20220221T020000
END:VEVENT
BEGIN:VEVENT
UID:343A6D01-7373-405B-9427-CB56B07F8CCD-28-1305_homereminder@198.badminton
 ners.net
DTSTAMP:20260420T055136Z
SUMMARY:Thuismatch ingevuld? (Turnhout 2H (72) - Rijkerack 3H (77))
DESCRIPTION:Je hebt 36 uur na aanvang om een thuismatch op Badmintonvlaande
 ren in te vullen. Match info: Turnhout 2H (72) - Rijkerack 3H (77) - Link:
  https://www.badmintonvlaanderen.be/sport/teammatch.aspx?id=343A6D01-7373-
 405B-9427-CB56B07F8CCD&match=1305
DTSTART;TZID=Europe/Brussels:20220321T020000
DTEND;TZID=Europe/Brussels:20220321T020000
END:VEVENT
BEGIN:VEVENT
UID:343A6D01-7373-405B-9427-CB56B07F8CCD-28-1340_awayreminder@198.badminton
 ners.net
DTSTAMP:20260420T055136Z
SUMMARY:Uitmatch bevestigd? (Spinshuttle 3H (73) - Turnhout 2H (72))
DESCRIPTION:Je hebt 72 uur na aanvang om een uitmatch op Badmintonvlaandere
 n in te vullen. Match info: Spinshuttle 3H (73) - Turnhout 2H (72) - Link:
  https://www.badmintonvlaanderen.be/sport/teammatch.aspx?id=343A6D01-7373-
 405B-9427-CB56B07F8CCD&match=1340
DTSTART;TZID=Europe/Brussels:20211022T200000
DTEND;TZID=Europe/Brussels:20211022T200000
END:VEVENT
BEGIN:VEVENT
UID:343A6D01-7373-405B-9427-CB56B07F8CCD-28-1336_awayreminder@198.badminton
 ners.net
DTSTAMP:20260420T055136Z
SUMMARY:Uitmatch bevestigd? (Rijkerack 3H (77) - Turnhout 2H (72))
DESCRIPTION:Je hebt 72 uur na aanvang om een uitmatch op Badmintonvlaandere
 n in te vullen. Match info: Rijkerack 3H (77) - Turnhout 2H (72) - Link: h
 ttps://www.badmintonvlaanderen.be/sport/teammatch.aspx?id=343A6D01-7373-40
 5B-9427-CB56B07F8CCD&match=1336
DTSTART;TZID=Europe/Brussels:20211117T190000
DTEND;TZID=Europe/Brussels:20211117T190000
END:VEVENT
BEGIN:VEVENT
UID:343A6D01-7373-405B-9427-CB56B07F8CCD-28-1338_awayreminder@198.badminton
 ners.net
DTSTAMP:20260420T055136Z
SUMMARY:Uitmatch bevestigd? (Beerke 3H (70) - Turnhout 2H (72))
DESCRIPTION:Je hebt 72 uur na aanvang om een uitmatch op Badmintonvlaandere
 n in te vullen. Match info: Beerke 3H (70) - Turnhout 2H (72) - Link: http
 s://www.badmintonvlaanderen.be/sport/teammatch.aspx?id=343A6D01-7373-405B-
 9427-CB56B07F8CCD&match=1338
DTSTART;TZID=Europe/Brussels:20211222T100000
DTEND;TZID=Europe/Brussels:20211222T100000
END:VEVENT
BEGIN:VEVENT
UID:343A6D01-7373-405B-9427-CB56B07F8CCD-28-1337_awayreminder@198.badminton
 ners.net
DTSTAMP:20260420T055136Z
SUMMARY:Uitmatch bevestigd? (Klein Boom 4H (75) - Turnhout 2H (72))
DESCRIPTION:Je hebt 72 uur na aanvang om een uitmatch op Badmintonvlaandere
 n in te vullen. Match info: Klein Boom 4H (75) - Turnhout 2H (72) - Link: 
 https://www.badmintonvlaanderen.be/sport/teammatch.aspx?id=343A6D01-7373-4
 05B-9427-CB56B07F8CCD&match=1337
DTSTART;TZID=Europe/Brussels:20220302T190000
DTEND;TZID=Europe/Brussels:20220302T190000
END:VEVENT
BEGIN:VEVENT
UID:343A6D01-7373-405B-9427-CB56B07F8CCD-28-1341_awayreminder@198.badminton
 ners.net
DTSTAMP:20260420T055136Z
SUMMARY:Uitmatch bevestigd? (De Pluim 4H (70) - Turnhout 2H (72))
DESCRIPTION:Je hebt 72 uur na aanvang om een uitmatch op Badmintonvlaandere
 n in te vullen. Match info: De Pluim 4H (70) - Turnhout 2H (72) - Link: ht
 tps://www.badmintonvlaanderen.be/sport/teammatch.aspx?id=343A6D01-7373-405
 B-9427-CB56B07F8CCD&match=1341
DTSTART;TZID=Europe/Brussels:20220323T180000
DTEND;TZID=Europe/Brussels:20220323T180000
END:VEVENT
BEGIN:VEVENT
UID:343A6D01-7373-405B-9427-CB56B07F8CCD-28-1339_awayreminder@198.badminton
 ners.net
DTSTAMP:20260420T055136Z
SUMMARY:Uitmatch bevestigd? (Torpedo 1H (74) - Turnhout 2H (72))
DESCRIPTION:Je hebt 72 uur na aanvang om een uitmatch op Badmintonvlaandere
 n in te vullen. Match info: Torpedo 1H (74) - Turnhout 2H (72) - Link: htt
 ps://www.badmintonvlaanderen.be/sport/teammatch.aspx?id=343A6D01-7373-405B
 -9427-CB56B07F8CCD&match=1339
DTSTART;TZID=Europe/Brussels:20220410T201500
DTEND;TZID=Europe/Brussels:20220410T201500
END:VEVENT
END:VCALENDAR