BEGIN:VCALENDAR
VERSION:2.0
PRODID:spatie/icalendar-generator
NAME:spinshuttle_3h_73_reminders
X-WR-CALNAME:spinshuttle_3h_73_reminders
BEGIN:VTIMEZONE
TZID:Europe/Brussels
BEGIN:DAYLIGHT
DTSTART:20210328T010000
TZOFFSETFROM:+0100
TZOFFSETTO:+0200
END:DAYLIGHT
BEGIN:STANDARD
DTSTART:20211031T030000
TZOFFSETFROM:+0200
TZOFFSETTO:+0100
END:STANDARD
BEGIN:DAYLIGHT
DTSTART:20220327T010000
TZOFFSETFROM:+0100
TZOFFSETTO:+0200
END:DAYLIGHT
END:VTIMEZONE
BEGIN:VTIMEZONE
TZID:UTC
BEGIN:STANDARD
DTSTART:20250724T055138
TZOFFSETFROM:+0000
TZOFFSETTO:+0000
END:STANDARD
END:VTIMEZONE
BEGIN:VEVENT
UID:343A6D01-7373-405B-9427-CB56B07F8CCD-28-1318_homereminder@212.badminton
 ners.net
DTSTAMP:20260420T055138Z
SUMMARY:Thuismatch ingevuld? (Spinshuttle 3H (73) - Beerke 3H (70))
DESCRIPTION:Je hebt 36 uur na aanvang om een thuismatch op Badmintonvlaande
 ren in te vullen. Match info: Spinshuttle 3H (73) - Beerke 3H (70) - Link:
  https://www.badmintonvlaanderen.be/sport/teammatch.aspx?id=343A6D01-7373-
 405B-9427-CB56B07F8CCD&match=1318
DTSTART;TZID=Europe/Brussels:20210923T080000
DTEND;TZID=Europe/Brussels:20210923T080000
END:VEVENT
BEGIN:VEVENT
UID:343A6D01-7373-405B-9427-CB56B07F8CCD-28-1340_homereminder@212.badminton
 ners.net
DTSTAMP:20260420T055138Z
SUMMARY:Thuismatch ingevuld? (Spinshuttle 3H (73) - Turnhout 2H (72))
DESCRIPTION:Je hebt 36 uur na aanvang om een thuismatch op Badmintonvlaande
 ren in te vullen. Match info: Spinshuttle 3H (73) - Turnhout 2H (72) - Lin
 k: https://www.badmintonvlaanderen.be/sport/teammatch.aspx?id=343A6D01-737
 3-405B-9427-CB56B07F8CCD&match=1340
DTSTART;TZID=Europe/Brussels:20211021T080000
DTEND;TZID=Europe/Brussels:20211021T080000
END:VEVENT
BEGIN:VEVENT
UID:343A6D01-7373-405B-9427-CB56B07F8CCD-28-1304_homereminder@212.badminton
 ners.net
DTSTAMP:20260420T055138Z
SUMMARY:Thuismatch ingevuld? (Spinshuttle 3H (73) - Rijkerack 3H (77))
DESCRIPTION:Je hebt 36 uur na aanvang om een thuismatch op Badmintonvlaande
 ren in te vullen. Match info: Spinshuttle 3H (73) - Rijkerack 3H (77) - Li
 nk: https://www.badmintonvlaanderen.be/sport/teammatch.aspx?id=343A6D01-73
 73-405B-9427-CB56B07F8CCD&match=1304
DTSTART;TZID=Europe/Brussels:20211202T080000
DTEND;TZID=Europe/Brussels:20211202T080000
END:VEVENT
BEGIN:VEVENT
UID:343A6D01-7373-405B-9427-CB56B07F8CCD-28-1347_homereminder@212.badminton
 ners.net
DTSTAMP:20260420T055138Z
SUMMARY:Thuismatch ingevuld? (Spinshuttle 3H (73) - De Pluim 4H (70))
DESCRIPTION:Je hebt 36 uur na aanvang om een thuismatch op Badmintonvlaande
 ren in te vullen. Match info: Spinshuttle 3H (73) - De Pluim 4H (70) - Lin
 k: https://www.badmintonvlaanderen.be/sport/teammatch.aspx?id=343A6D01-737
 3-405B-9427-CB56B07F8CCD&match=1347
DTSTART;TZID=Europe/Brussels:20220127T080000
DTEND;TZID=Europe/Brussels:20220127T080000
END:VEVENT
BEGIN:VEVENT
UID:343A6D01-7373-405B-9427-CB56B07F8CCD-28-1311_homereminder@212.badminton
 ners.net
DTSTAMP:20260420T055138Z
SUMMARY:Thuismatch ingevuld? (Spinshuttle 3H (73) - Klein Boom 4H (75))
DESCRIPTION:Je hebt 36 uur na aanvang om een thuismatch op Badmintonvlaande
 ren in te vullen. Match info: Spinshuttle 3H (73) - Klein Boom 4H (75) - L
 ink: https://www.badmintonvlaanderen.be/sport/teammatch.aspx?id=343A6D01-7
 373-405B-9427-CB56B07F8CCD&match=1311
DTSTART;TZID=Europe/Brussels:20220310T080000
DTEND;TZID=Europe/Brussels:20220310T080000
END:VEVENT
BEGIN:VEVENT
UID:343A6D01-7373-405B-9427-CB56B07F8CCD-28-1325_homereminder@212.badminton
 ners.net
DTSTAMP:20260420T055138Z
SUMMARY:Thuismatch ingevuld? (Spinshuttle 3H (73) - Torpedo 1H (74))
DESCRIPTION:Je hebt 36 uur na aanvang om een thuismatch op Badmintonvlaande
 ren in te vullen. Match info: Spinshuttle 3H (73) - Torpedo 1H (74) - Link
 : https://www.badmintonvlaanderen.be/sport/teammatch.aspx?id=343A6D01-7373
 -405B-9427-CB56B07F8CCD&match=1325
DTSTART;TZID=Europe/Brussels:20220324T080000
DTEND;TZID=Europe/Brussels:20220324T080000
END:VEVENT
BEGIN:VEVENT
UID:343A6D01-7373-405B-9427-CB56B07F8CCD-28-1332_awayreminder@212.badminton
 ners.net
DTSTAMP:20260420T055138Z
SUMMARY:Uitmatch bevestigd? (Torpedo 1H (74) - Spinshuttle 3H (73))
DESCRIPTION:Je hebt 72 uur na aanvang om een uitmatch op Badmintonvlaandere
 n in te vullen. Match info: Torpedo 1H (74) - Spinshuttle 3H (73) - Link: 
 https://www.badmintonvlaanderen.be/sport/teammatch.aspx?id=343A6D01-7373-4
 05B-9427-CB56B07F8CCD&match=1332
DTSTART;TZID=Europe/Brussels:20211107T201500
DTEND;TZID=Europe/Brussels:20211107T201500
END:VEVENT
BEGIN:VEVENT
UID:343A6D01-7373-405B-9427-CB56B07F8CCD-28-1334_awayreminder@212.badminton
 ners.net
DTSTAMP:20260420T055138Z
SUMMARY:Uitmatch bevestigd? (De Pluim 4H (70) - Spinshuttle 3H (73))
DESCRIPTION:Je hebt 72 uur na aanvang om een uitmatch op Badmintonvlaandere
 n in te vullen. Match info: De Pluim 4H (70) - Spinshuttle 3H (73) - Link:
  https://www.badmintonvlaanderen.be/sport/teammatch.aspx?id=343A6D01-7373-
 405B-9427-CB56B07F8CCD&match=1334
DTSTART;TZID=Europe/Brussels:20211124T180000
DTEND;TZID=Europe/Brussels:20211124T180000
END:VEVENT
BEGIN:VEVENT
UID:343A6D01-7373-405B-9427-CB56B07F8CCD-28-1330_awayreminder@212.badminton
 ners.net
DTSTAMP:20260420T055138Z
SUMMARY:Uitmatch bevestigd? (Klein Boom 4H (75) - Spinshuttle 3H (73))
DESCRIPTION:Je hebt 72 uur na aanvang om een uitmatch op Badmintonvlaandere
 n in te vullen. Match info: Klein Boom 4H (75) - Spinshuttle 3H (73) - Lin
 k: https://www.badmintonvlaanderen.be/sport/teammatch.aspx?id=343A6D01-737
 3-405B-9427-CB56B07F8CCD&match=1330
DTSTART;TZID=Europe/Brussels:20211222T190000
DTEND;TZID=Europe/Brussels:20211222T190000
END:VEVENT
BEGIN:VEVENT
UID:343A6D01-7373-405B-9427-CB56B07F8CCD-28-1329_awayreminder@212.badminton
 ners.net
DTSTAMP:20260420T055138Z
SUMMARY:Uitmatch bevestigd? (Rijkerack 3H (77) - Spinshuttle 3H (73))
DESCRIPTION:Je hebt 72 uur na aanvang om een uitmatch op Badmintonvlaandere
 n in te vullen. Match info: Rijkerack 3H (77) - Spinshuttle 3H (73) - Link
 : https://www.badmintonvlaanderen.be/sport/teammatch.aspx?id=343A6D01-7373
 -405B-9427-CB56B07F8CCD&match=1329
DTSTART;TZID=Europe/Brussels:20220119T190000
DTEND;TZID=Europe/Brussels:20220119T190000
END:VEVENT
BEGIN:VEVENT
UID:343A6D01-7373-405B-9427-CB56B07F8CCD-28-1333_awayreminder@212.badminton
 ners.net
DTSTAMP:20260420T055138Z
SUMMARY:Uitmatch bevestigd? (Turnhout 2H (72) - Spinshuttle 3H (73))
DESCRIPTION:Je hebt 72 uur na aanvang om een uitmatch op Badmintonvlaandere
 n in te vullen. Match info: Turnhout 2H (72) - Spinshuttle 3H (73) - Link:
  https://www.badmintonvlaanderen.be/sport/teammatch.aspx?id=343A6D01-7373-
 405B-9427-CB56B07F8CCD&match=1333
DTSTART;TZID=Europe/Brussels:20220222T140000
DTEND;TZID=Europe/Brussels:20220222T140000
END:VEVENT
BEGIN:VEVENT
UID:343A6D01-7373-405B-9427-CB56B07F8CCD-28-1331_awayreminder@212.badminton
 ners.net
DTSTAMP:20260420T055138Z
SUMMARY:Uitmatch bevestigd? (Beerke 3H (70) - Spinshuttle 3H (73))
DESCRIPTION:Je hebt 72 uur na aanvang om een uitmatch op Badmintonvlaandere
 n in te vullen. Match info: Beerke 3H (70) - Spinshuttle 3H (73) - Link: h
 ttps://www.badmintonvlaanderen.be/sport/teammatch.aspx?id=343A6D01-7373-40
 5B-9427-CB56B07F8CCD&match=1331
DTSTART;TZID=Europe/Brussels:20220302T100000
DTEND;TZID=Europe/Brussels:20220302T100000
END:VEVENT
END:VCALENDAR