BEGIN:VCALENDAR
VERSION:2.0
PRODID:spatie/icalendar-generator
NAME:torpedo_1h_74_reminders
X-WR-CALNAME:torpedo_1h_74_reminders
BEGIN:VTIMEZONE
TZID:Europe/Brussels
BEGIN:DAYLIGHT
DTSTART:20210328T010000
TZOFFSETFROM:+0100
TZOFFSETTO:+0200
END:DAYLIGHT
BEGIN:STANDARD
DTSTART:20211031T030000
TZOFFSETFROM:+0200
TZOFFSETTO:+0100
END:STANDARD
BEGIN:DAYLIGHT
DTSTART:20220327T010000
TZOFFSETFROM:+0100
TZOFFSETTO:+0200
END:DAYLIGHT
END:VTIMEZONE
BEGIN:VTIMEZONE
TZID:UTC
BEGIN:STANDARD
DTSTART:20250724T055147
TZOFFSETFROM:+0000
TZOFFSETTO:+0000
END:STANDARD
END:VTIMEZONE
BEGIN:VEVENT
UID:343A6D01-7373-405B-9427-CB56B07F8CCD-28-1310_homereminder@229.badminton
 ners.net
DTSTAMP:20260420T055147Z
SUMMARY:Thuismatch ingevuld? (Torpedo 1H (74) - Klein Boom 4H (75))
DESCRIPTION:Je hebt 36 uur na aanvang om een thuismatch op Badmintonvlaande
 ren in te vullen. Match info: Torpedo 1H (74) - Klein Boom 4H (75) - Link:
  https://www.badmintonvlaanderen.be/sport/teammatch.aspx?id=343A6D01-7373-
 405B-9427-CB56B07F8CCD&match=1310
DTSTART;TZID=Europe/Brussels:20210911T081500
DTEND;TZID=Europe/Brussels:20210911T081500
END:VEVENT
BEGIN:VEVENT
UID:343A6D01-7373-405B-9427-CB56B07F8CCD-28-1346_homereminder@229.badminton
 ners.net
DTSTAMP:20260420T055147Z
SUMMARY:Thuismatch ingevuld? (Torpedo 1H (74) - De Pluim 4H (70))
DESCRIPTION:Je hebt 36 uur na aanvang om een thuismatch op Badmintonvlaande
 ren in te vullen. Match info: Torpedo 1H (74) - De Pluim 4H (70) - Link: h
 ttps://www.badmintonvlaanderen.be/sport/teammatch.aspx?id=343A6D01-7373-40
 5B-9427-CB56B07F8CCD&match=1346
DTSTART;TZID=Europe/Brussels:20211023T081500
DTEND;TZID=Europe/Brussels:20211023T081500
END:VEVENT
BEGIN:VEVENT
UID:343A6D01-7373-405B-9427-CB56B07F8CCD-28-1332_homereminder@229.badminton
 ners.net
DTSTAMP:20260420T055147Z
SUMMARY:Thuismatch ingevuld? (Torpedo 1H (74) - Spinshuttle 3H (73))
DESCRIPTION:Je hebt 36 uur na aanvang om een thuismatch op Badmintonvlaande
 ren in te vullen. Match info: Torpedo 1H (74) - Spinshuttle 3H (73) - Link
 : https://www.badmintonvlaanderen.be/sport/teammatch.aspx?id=343A6D01-7373
 -405B-9427-CB56B07F8CCD&match=1332
DTSTART;TZID=Europe/Brussels:20211106T081500
DTEND;TZID=Europe/Brussels:20211106T081500
END:VEVENT
BEGIN:VEVENT
UID:343A6D01-7373-405B-9427-CB56B07F8CCD-28-1303_homereminder@229.badminton
 ners.net
DTSTAMP:20260420T055147Z
SUMMARY:Thuismatch ingevuld? (Torpedo 1H (74) - Rijkerack 3H (77))
DESCRIPTION:Je hebt 36 uur na aanvang om een thuismatch op Badmintonvlaande
 ren in te vullen. Match info: Torpedo 1H (74) - Rijkerack 3H (77) - Link: 
 https://www.badmintonvlaanderen.be/sport/teammatch.aspx?id=343A6D01-7373-4
 05B-9427-CB56B07F8CCD&match=1303
DTSTART;TZID=Europe/Brussels:20220129T081500
DTEND;TZID=Europe/Brussels:20220129T081500
END:VEVENT
BEGIN:VEVENT
UID:343A6D01-7373-405B-9427-CB56B07F8CCD-28-1317_homereminder@229.badminton
 ners.net
DTSTAMP:20260420T055147Z
SUMMARY:Thuismatch ingevuld? (Torpedo 1H (74) - Beerke 3H (70))
DESCRIPTION:Je hebt 36 uur na aanvang om een thuismatch op Badmintonvlaande
 ren in te vullen. Match info: Torpedo 1H (74) - Beerke 3H (70) - Link: htt
 ps://www.badmintonvlaanderen.be/sport/teammatch.aspx?id=343A6D01-7373-405B
 -9427-CB56B07F8CCD&match=1317
DTSTART;TZID=Europe/Brussels:20220312T081500
DTEND;TZID=Europe/Brussels:20220312T081500
END:VEVENT
BEGIN:VEVENT
UID:343A6D01-7373-405B-9427-CB56B07F8CCD-28-1339_homereminder@229.badminton
 ners.net
DTSTAMP:20260420T055147Z
SUMMARY:Thuismatch ingevuld? (Torpedo 1H (74) - Turnhout 2H (72))
DESCRIPTION:Je hebt 36 uur na aanvang om een thuismatch op Badmintonvlaande
 ren in te vullen. Match info: Torpedo 1H (74) - Turnhout 2H (72) - Link: h
 ttps://www.badmintonvlaanderen.be/sport/teammatch.aspx?id=343A6D01-7373-40
 5B-9427-CB56B07F8CCD&match=1339
DTSTART;TZID=Europe/Brussels:20220409T081500
DTEND;TZID=Europe/Brussels:20220409T081500
END:VEVENT
BEGIN:VEVENT
UID:343A6D01-7373-405B-9427-CB56B07F8CCD-28-1326_awayreminder@229.badminton
 ners.net
DTSTAMP:20260420T055147Z
SUMMARY:Uitmatch bevestigd? (Turnhout 2H (72) - Torpedo 1H (74))
DESCRIPTION:Je hebt 72 uur na aanvang om een uitmatch op Badmintonvlaandere
 n in te vullen. Match info: Turnhout 2H (72) - Torpedo 1H (74) - Link: htt
 ps://www.badmintonvlaanderen.be/sport/teammatch.aspx?id=343A6D01-7373-405B
 -9427-CB56B07F8CCD&match=1326
DTSTART;TZID=Europe/Brussels:20211012T140000
DTEND;TZID=Europe/Brussels:20211012T140000
END:VEVENT
BEGIN:VEVENT
UID:343A6D01-7373-405B-9427-CB56B07F8CCD-28-1322_awayreminder@229.badminton
 ners.net
DTSTAMP:20260420T055147Z
SUMMARY:Uitmatch bevestigd? (Rijkerack 3H (77) - Torpedo 1H (74))
DESCRIPTION:Je hebt 72 uur na aanvang om een uitmatch op Badmintonvlaandere
 n in te vullen. Match info: Rijkerack 3H (77) - Torpedo 1H (74) - Link: ht
 tps://www.badmintonvlaanderen.be/sport/teammatch.aspx?id=343A6D01-7373-405
 B-9427-CB56B07F8CCD&match=1322
DTSTART;TZID=Europe/Brussels:20211124T190000
DTEND;TZID=Europe/Brussels:20211124T190000
END:VEVENT
BEGIN:VEVENT
UID:343A6D01-7373-405B-9427-CB56B07F8CCD-28-1324_awayreminder@229.badminton
 ners.net
DTSTAMP:20260420T055147Z
SUMMARY:Uitmatch bevestigd? (Beerke 3H (70) - Torpedo 1H (74))
DESCRIPTION:Je hebt 72 uur na aanvang om een uitmatch op Badmintonvlaandere
 n in te vullen. Match info: Beerke 3H (70) - Torpedo 1H (74) - Link: https
 ://www.badmintonvlaanderen.be/sport/teammatch.aspx?id=343A6D01-7373-405B-9
 427-CB56B07F8CCD&match=1324
DTSTART;TZID=Europe/Brussels:20211208T100000
DTEND;TZID=Europe/Brussels:20211208T100000
END:VEVENT
BEGIN:VEVENT
UID:343A6D01-7373-405B-9427-CB56B07F8CCD-28-1323_awayreminder@229.badminton
 ners.net
DTSTAMP:20260420T055147Z
SUMMARY:Uitmatch bevestigd? (Klein Boom 4H (75) - Torpedo 1H (74))
DESCRIPTION:Je hebt 72 uur na aanvang om een uitmatch op Badmintonvlaandere
 n in te vullen. Match info: Klein Boom 4H (75) - Torpedo 1H (74) - Link: h
 ttps://www.badmintonvlaanderen.be/sport/teammatch.aspx?id=343A6D01-7373-40
 5B-9427-CB56B07F8CCD&match=1323
DTSTART;TZID=Europe/Brussels:20220119T190000
DTEND;TZID=Europe/Brussels:20220119T190000
END:VEVENT
BEGIN:VEVENT
UID:343A6D01-7373-405B-9427-CB56B07F8CCD-28-1327_awayreminder@229.badminton
 ners.net
DTSTAMP:20260420T055147Z
SUMMARY:Uitmatch bevestigd? (De Pluim 4H (70) - Torpedo 1H (74))
DESCRIPTION:Je hebt 72 uur na aanvang om een uitmatch op Badmintonvlaandere
 n in te vullen. Match info: De Pluim 4H (70) - Torpedo 1H (74) - Link: htt
 ps://www.badmintonvlaanderen.be/sport/teammatch.aspx?id=343A6D01-7373-405B
 -9427-CB56B07F8CCD&match=1327
DTSTART;TZID=Europe/Brussels:20220216T180000
DTEND;TZID=Europe/Brussels:20220216T180000
END:VEVENT
BEGIN:VEVENT
UID:343A6D01-7373-405B-9427-CB56B07F8CCD-28-1325_awayreminder@229.badminton
 ners.net
DTSTAMP:20260420T055147Z
SUMMARY:Uitmatch bevestigd? (Spinshuttle 3H (73) - Torpedo 1H (74))
DESCRIPTION:Je hebt 72 uur na aanvang om een uitmatch op Badmintonvlaandere
 n in te vullen. Match info: Spinshuttle 3H (73) - Torpedo 1H (74) - Link: 
 https://www.badmintonvlaanderen.be/sport/teammatch.aspx?id=343A6D01-7373-4
 05B-9427-CB56B07F8CCD&match=1325
DTSTART;TZID=Europe/Brussels:20220325T200000
DTEND;TZID=Europe/Brussels:20220325T200000
END:VEVENT
END:VCALENDAR