BEGIN:VCALENDAR
VERSION:2.0
PRODID:spatie/icalendar-generator
NAME:rijkerack_3h_77_reminders
X-WR-CALNAME:rijkerack_3h_77_reminders
BEGIN:VTIMEZONE
TZID:Europe/Brussels
BEGIN:DAYLIGHT
DTSTART:20210328T010000
TZOFFSETFROM:+0100
TZOFFSETTO:+0200
END:DAYLIGHT
BEGIN:STANDARD
DTSTART:20211031T030000
TZOFFSETFROM:+0200
TZOFFSETTO:+0100
END:STANDARD
BEGIN:DAYLIGHT
DTSTART:20220327T010000
TZOFFSETFROM:+0100
TZOFFSETTO:+0200
END:DAYLIGHT
END:VTIMEZONE
BEGIN:VTIMEZONE
TZID:UTC
BEGIN:STANDARD
DTSTART:20250724T055150
TZOFFSETFROM:+0000
TZOFFSETTO:+0000
END:STANDARD
END:VTIMEZONE
BEGIN:VEVENT
UID:343A6D01-7373-405B-9427-CB56B07F8CCD-28-1308_homereminder@23.badmintonn
 ers.net
DTSTAMP:20260420T055150Z
SUMMARY:Thuismatch ingevuld? (Rijkerack 3H (77) - Klein Boom 4H (75))
DESCRIPTION:Je hebt 36 uur na aanvang om een thuismatch op Badmintonvlaande
 ren in te vullen. Match info: Rijkerack 3H (77) - Klein Boom 4H (75) - Lin
 k: https://www.badmintonvlaanderen.be/sport/teammatch.aspx?id=343A6D01-737
 3-405B-9427-CB56B07F8CCD&match=1308
DTSTART;TZID=Europe/Brussels:20211012T070000
DTEND;TZID=Europe/Brussels:20211012T070000
END:VEVENT
BEGIN:VEVENT
UID:343A6D01-7373-405B-9427-CB56B07F8CCD-28-1336_homereminder@23.badmintonn
 ers.net
DTSTAMP:20260420T055150Z
SUMMARY:Thuismatch ingevuld? (Rijkerack 3H (77) - Turnhout 2H (72))
DESCRIPTION:Je hebt 36 uur na aanvang om een thuismatch op Badmintonvlaande
 ren in te vullen. Match info: Rijkerack 3H (77) - Turnhout 2H (72) - Link:
  https://www.badmintonvlaanderen.be/sport/teammatch.aspx?id=343A6D01-7373-
 405B-9427-CB56B07F8CCD&match=1336
DTSTART;TZID=Europe/Brussels:20211116T070000
DTEND;TZID=Europe/Brussels:20211116T070000
END:VEVENT
BEGIN:VEVENT
UID:343A6D01-7373-405B-9427-CB56B07F8CCD-28-1322_homereminder@23.badmintonn
 ers.net
DTSTAMP:20260420T055150Z
SUMMARY:Thuismatch ingevuld? (Rijkerack 3H (77) - Torpedo 1H (74))
DESCRIPTION:Je hebt 36 uur na aanvang om een thuismatch op Badmintonvlaande
 ren in te vullen. Match info: Rijkerack 3H (77) - Torpedo 1H (74) - Link: 
 https://www.badmintonvlaanderen.be/sport/teammatch.aspx?id=343A6D01-7373-4
 05B-9427-CB56B07F8CCD&match=1322
DTSTART;TZID=Europe/Brussels:20211123T070000
DTEND;TZID=Europe/Brussels:20211123T070000
END:VEVENT
BEGIN:VEVENT
UID:343A6D01-7373-405B-9427-CB56B07F8CCD-28-1329_homereminder@23.badmintonn
 ers.net
DTSTAMP:20260420T055150Z
SUMMARY:Thuismatch ingevuld? (Rijkerack 3H (77) - Spinshuttle 3H (73))
DESCRIPTION:Je hebt 36 uur na aanvang om een thuismatch op Badmintonvlaande
 ren in te vullen. Match info: Rijkerack 3H (77) - Spinshuttle 3H (73) - Li
 nk: https://www.badmintonvlaanderen.be/sport/teammatch.aspx?id=343A6D01-73
 73-405B-9427-CB56B07F8CCD&match=1329
DTSTART;TZID=Europe/Brussels:20220118T070000
DTEND;TZID=Europe/Brussels:20220118T070000
END:VEVENT
BEGIN:VEVENT
UID:343A6D01-7373-405B-9427-CB56B07F8CCD-28-1315_homereminder@23.badmintonn
 ers.net
DTSTAMP:20260420T055150Z
SUMMARY:Thuismatch ingevuld? (Rijkerack 3H (77) - Beerke 3H (70))
DESCRIPTION:Je hebt 36 uur na aanvang om een thuismatch op Badmintonvlaande
 ren in te vullen. Match info: Rijkerack 3H (77) - Beerke 3H (70) - Link: h
 ttps://www.badmintonvlaanderen.be/sport/teammatch.aspx?id=343A6D01-7373-40
 5B-9427-CB56B07F8CCD&match=1315
DTSTART;TZID=Europe/Brussels:20220215T070000
DTEND;TZID=Europe/Brussels:20220215T070000
END:VEVENT
BEGIN:VEVENT
UID:343A6D01-7373-405B-9427-CB56B07F8CCD-28-1343_homereminder@23.badmintonn
 ers.net
DTSTAMP:20260420T055150Z
SUMMARY:Thuismatch ingevuld? (Rijkerack 3H (77) - De Pluim 4H (70))
DESCRIPTION:Je hebt 36 uur na aanvang om een thuismatch op Badmintonvlaande
 ren in te vullen. Match info: Rijkerack 3H (77) - De Pluim 4H (70) - Link:
  https://www.badmintonvlaanderen.be/sport/teammatch.aspx?id=343A6D01-7373-
 405B-9427-CB56B07F8CCD&match=1343
DTSTART;TZID=Europe/Brussels:20220301T070000
DTEND;TZID=Europe/Brussels:20220301T070000
END:VEVENT
BEGIN:VEVENT
UID:343A6D01-7373-405B-9427-CB56B07F8CCD-28-1302_awayreminder@23.badmintonn
 ers.net
DTSTAMP:20260420T055150Z
SUMMARY:Uitmatch bevestigd? (Beerke 3H (70) - Rijkerack 3H (77))
DESCRIPTION:Je hebt 72 uur na aanvang om een uitmatch op Badmintonvlaandere
 n in te vullen. Match info: Beerke 3H (70) - Rijkerack 3H (77) - Link: htt
 ps://www.badmintonvlaanderen.be/sport/teammatch.aspx?id=343A6D01-7373-405B
 -9427-CB56B07F8CCD&match=1302
DTSTART;TZID=Europe/Brussels:20211027T100000
DTEND;TZID=Europe/Brussels:20211027T100000
END:VEVENT
BEGIN:VEVENT
UID:343A6D01-7373-405B-9427-CB56B07F8CCD-28-1304_awayreminder@23.badmintonn
 ers.net
DTSTAMP:20260420T055150Z
SUMMARY:Uitmatch bevestigd? (Spinshuttle 3H (73) - Rijkerack 3H (77))
DESCRIPTION:Je hebt 72 uur na aanvang om een uitmatch op Badmintonvlaandere
 n in te vullen. Match info: Spinshuttle 3H (73) - Rijkerack 3H (77) - Link
 : https://www.badmintonvlaanderen.be/sport/teammatch.aspx?id=343A6D01-7373
 -405B-9427-CB56B07F8CCD&match=1304
DTSTART;TZID=Europe/Brussels:20211203T200000
DTEND;TZID=Europe/Brussels:20211203T200000
END:VEVENT
BEGIN:VEVENT
UID:343A6D01-7373-405B-9427-CB56B07F8CCD-28-1306_awayreminder@23.badmintonn
 ers.net
DTSTAMP:20260420T055150Z
SUMMARY:Uitmatch bevestigd? (De Pluim 4H (70) - Rijkerack 3H (77))
DESCRIPTION:Je hebt 72 uur na aanvang om een uitmatch op Badmintonvlaandere
 n in te vullen. Match info: De Pluim 4H (70) - Rijkerack 3H (77) - Link: h
 ttps://www.badmintonvlaanderen.be/sport/teammatch.aspx?id=343A6D01-7373-40
 5B-9427-CB56B07F8CCD&match=1306
DTSTART;TZID=Europe/Brussels:20211222T180000
DTEND;TZID=Europe/Brussels:20211222T180000
END:VEVENT
BEGIN:VEVENT
UID:343A6D01-7373-405B-9427-CB56B07F8CCD-28-1303_awayreminder@23.badmintonn
 ers.net
DTSTAMP:20260420T055150Z
SUMMARY:Uitmatch bevestigd? (Torpedo 1H (74) - Rijkerack 3H (77))
DESCRIPTION:Je hebt 72 uur na aanvang om een uitmatch op Badmintonvlaandere
 n in te vullen. Match info: Torpedo 1H (74) - Rijkerack 3H (77) - Link: ht
 tps://www.badmintonvlaanderen.be/sport/teammatch.aspx?id=343A6D01-7373-405
 B-9427-CB56B07F8CCD&match=1303
DTSTART;TZID=Europe/Brussels:20220130T201500
DTEND;TZID=Europe/Brussels:20220130T201500
END:VEVENT
BEGIN:VEVENT
UID:343A6D01-7373-405B-9427-CB56B07F8CCD-28-1305_awayreminder@23.badmintonn
 ers.net
DTSTAMP:20260420T055150Z
SUMMARY:Uitmatch bevestigd? (Turnhout 2H (72) - Rijkerack 3H (77))
DESCRIPTION:Je hebt 72 uur na aanvang om een uitmatch op Badmintonvlaandere
 n in te vullen. Match info: Turnhout 2H (72) - Rijkerack 3H (77) - Link: h
 ttps://www.badmintonvlaanderen.be/sport/teammatch.aspx?id=343A6D01-7373-40
 5B-9427-CB56B07F8CCD&match=1305
DTSTART;TZID=Europe/Brussels:20220322T140000
DTEND;TZID=Europe/Brussels:20220322T140000
END:VEVENT
BEGIN:VEVENT
UID:343A6D01-7373-405B-9427-CB56B07F8CCD-28-1301_awayreminder@23.badmintonn
 ers.net
DTSTAMP:20260420T055150Z
SUMMARY:Uitmatch bevestigd? (Klein Boom 4H (75) - Rijkerack 3H (77))
DESCRIPTION:Je hebt 72 uur na aanvang om een uitmatch op Badmintonvlaandere
 n in te vullen. Match info: Klein Boom 4H (75) - Rijkerack 3H (77) - Link:
  https://www.badmintonvlaanderen.be/sport/teammatch.aspx?id=343A6D01-7373-
 405B-9427-CB56B07F8CCD&match=1301
DTSTART;TZID=Europe/Brussels:20220413T190000
DTEND;TZID=Europe/Brussels:20220413T190000
END:VEVENT
END:VCALENDAR